Workbook
Name _ftn1: Auszahlungsinformation!$B$42
Name _Hlk14861871: Auszahlungsinformation!$B$17
Name Amt: Auszahlungsinformation!$B$2
Name EMail_Amt: Auszahlungsinformation!$B$8
Name FromArray_1: _xlfn.ANCHORARRAY(Reviere_WA!$D$4)
Name Funktion: Auszahlungsinformation!$F$47
Name GrussRechts: Auszahlungsinformation!$F$39
Name Name: Auszahlungsinformation!$B$11
Name Name_1: Auszahlungsinformation!$F$46
Name OEBezeichnung: Auszahlungsinformation!$B$3
Name OEBezeichnung_3: Auszahlungsinformation!$F$41
Name PLZ_Ort: Auszahlungsinformation!$B$6
Name PLZ_ORT_1: Auszahlungsinformation!$F$5
Name Rufnummer: Auszahlungsinformation!$B$12
Name Strasse: Auszahlungsinformation!$B$5
Name Tel_Amt: Auszahlungsinformation!$B$7
Name www_Amt: Auszahlungsinformation!$B$9

Sheet Eingabe
A1: Abrechnung «Jungwaldpflege+»
A3: Bitte fülle die grau hinterlegen Felder aus und schick das Excel anschliessend an den/die zuständige/n Regionenverantwortliche/n.
A5: 1) Allgemeine Abrechnungsangaben Trägerschaft
A7: Vor-/Name | C7: E-Mail
A8: Strasse, Nr. | C8: Tel.
A9: PLZ/Ort | C9: Rechtsform
A11: Forstfachperson | C11: Abrechnungsjahr
A12: Waldabteilung | C12: Revier
A14: Kontoinhaber | C14: IBAN
A16: 2) Angaben für die Massnahmengruppe «Ergänzung»
B18: Ergänzung Fläche 1 | C18: Ergänzung Fläche 2 | D18: Ergänzung Fläche 3
A19: ID
A20: Flächengrösse in [ha]
A21: Beiträge | B21: =B20*Grundlagen!B15 -> 0 | C21: =C20*Grundlagen!B15 -> 0 | D21: =D20*Grundlagen!B15 -> 0
A23: 3) Angaben pro WERDE
A25: WERDE-ID (1) | C25: Flächengrösse in [ha]
B27: Flächenanteil in [%] | C27: Flächenanteil in [ha] | D27: Beiträge
A28: «Begründung ohne Alternativen» | C28: =D25*B28 -> 0 | D28: =B28*D25*Grundlagen!$B$13 -> 0
A29: «Begründung mit Alternativen» | C29: =D25*B29 -> 0 | D29: =B29*D25*Grundlagen!$B$13 -> 0
A30: «Lenkung» | C30: =D25*B30 -> 0 | D30: =B30*D25*Grundlagen!$B$14 -> 0
A31: «Förderung» | C31: =D25*B31 -> 0 | D31: =B31*D25*Grundlagen!$B$14 -> 0
A33: Wildschadenverhütungsmittel
A34: Falls du auf deiner Fläche die Massnahmengruppe «Begründung» genutzt hast, gib bitte an, welche und wie viele Wildschadenverhütungsmittel du eingesetzt hast.
C36: Anzahl in [m'/Stk./ha]
A37: Zaun massiv, 2 m hoch, 20 J. Lebensdauer in [m'] | D37: =C37*50 -> 0
A38: Zaun leicht, 2 m hoch, Dachlatten, 10 J. Lebensdauer in [m'] | D38: =C38*25 -> 0
A39: Einzelschutz mechanisch in [Stk.] | D39: =C39*20 -> 0
A40: Einzelschutz chemisch und weitere in [ha] | D40: =C40*500 -> 0
A41: Schälschutz mechanisch und chemisch in [Stk.] | D41: =C41*25 -> 0
D42: =SUM(D37:D41) -> 0
A43: Zusatzoption «hoher Wildtiereinfluss»
C44: FALSE
A46: =IF(AND(C44=TRUE,D42>0),"Betrag Zusatzoption «hoher Wildtiereinfluss»","") | C46: =IF(AND(C44=TRUE,D42>0,D42-(3000*(C28+C29))<0),"Mindestbetrag nicht erreicht!","") | D46: =IF(AND(C44=TRUE,D42>0,D42-(3000*(C28+C29))>=0,D42-(6000*(C28+C29))>0),3000*(C28+C29),IF(AND(C44=TRUE,D42>0,D42-(3000*(C28+C29))>=0,D42-(6000*(C28+C29))<0),D42-3000*(C28+C29),""))
A48: =_xlfn.TEXTJOIN(" ", TRUE, "Beiträge total WERDE",B25) -> Beiträge total WERDE | D48: =IF(ISNUMBER(D46)=TRUE,D46+D28+D29+D30+D31,D28+D29+D30+D31) -> 0
A53: WERDE-ID (2) | C53: Flächengrösse in [ha]
B55: Flächenanteil in [%] | C55: Flächenanteil in [ha] | D55: Beiträge
A56: «Begründung ohne Alternativen» | C56: =D53*B56 -> 0 | D56: =B56*D53*Grundlagen!$B$13 -> 0
A57: «Begründung mit Alternativen» | C57: =D53*B57 -> 0 | D57: =B57*D53*Grundlagen!$B$13 -> 0
A58: «Lenkung» | C58: =D53*B58 -> 0 | D58: =B58*D53*Grundlagen!$B$14 -> 0
A59: «Förderung» | C59: =D53*B59 -> 0 | D59: =B59*D53*Grundlagen!$B$14 -> 0
A61: Wildschadenverhütungsmittel
A62: Falls du auf deiner Fläche die Massnahmengruppe «Begründung» genutzt hast, gib bitte an, welche und wie viele Wildschadenverhütungsmittel du eingesetzt hast.
C64: Anzahl in [m'/Stk./ha]
A65: Zaun massiv, 2 m hoch, 20 J. Lebensdauer in [m'] | D65: =C65*50 -> 0
A66: Zaun leicht, 2 m hoch, Dachlatten, 10 J. Lebensdauer in [m'] | D66: =C66*25 -> 0
A67: Einzelschutz mechanisch in [Stk.] | C67: 600 | D67: =C67*20 -> 12000
A68: Einzelschutz chemisch und weitere in [ha] | D68: =C68*500 -> 0
A69: Schälschutz mechanisch und chemisch in [Stk.] | D69: =C69*25 -> 0
D70: =SUM(D65:D69) -> 12000
A71: Zusatzoption «hoher Wildtiereinfluss»
C72: TRUE
A74: =IF(AND(C72=TRUE,D70>0),"Betrag Zusatzoption «hoher Wildtiereinfluss»","") -> Betrag Zusatzoption «hoher Wildtiereinfluss» | C74: =IF(AND(C72=TRUE,D70>0,D70-(3000*(C56+C57))<0),"Mindestbetrag nicht erreicht!","") | D74: =IF(AND(C72=TRUE,D70>0,D70-(3000*(C56+C57))>=0,D70-(6000*(C56+C57))>0),3000*(C56+C57),IF(AND(C72=TRUE,D70>0,D70-(3000*(C56+C57))>=0,D70-(6000*(C56+C57))<0),D70-3000*(C56+C57),"")) -> 0
A76: =_xlfn.TEXTJOIN(" ", TRUE, "Beiträge total WERDE",B53) -> Beiträge total WERDE | D76: =IF(ISNUMBER(D74)=TRUE,D74+D56+D57+D58+D59,D56+D57+D58+D59) -> 0
A80: WERDE-ID (3) | C80: Flächengrösse in [ha]
B82: Flächenanteil in [%] | C82: Flächenanteil in [ha] | D82: Beiträge
A83: «Begründung ohne Alternativen» | C83: =D80*B83 -> 0 | D83: =B83*D80*Grundlagen!$B$13 -> 0
A84: «Begründung mit Alternativen» | C84: =D80*B84 -> 0 | D84: =B84*D80*Grundlagen!$B$13 -> 0
A85: «Lenkung» | C85: =D80*B85 -> 0 | D85: =B85*D80*Grundlagen!$B$14 -> 0
A86: «Förderung» | C86: =D80*B86 -> 0 | D86: =B86*D80*Grundlagen!$B$14 -> 0
A88: Wildschadenverhütungsmittel
A89: Falls du auf deiner Fläche die Massnahmengruppe «Begründung» genutzt hast, gib bitte an, welche und wie viele Wildschadenverhütungsmittel du eingesetzt hast.
C91: Anzahl in [m'/Stk./ha]
A92: Zaun massiv, 2 m hoch, 20 J. Lebensdauer in [m'] | D92: =C92*50 -> 0
A93: Zaun leicht, 2 m hoch, Dachlatten, 10 J. Lebensdauer in [m'] | D93: =C93*25 -> 0
A94: Einzelschutz mechanisch in [Stk.] | D94: =C94*20 -> 0
A95: Einzelschutz chemisch und weitere in [ha] | D95: =C95*500 -> 0
A96: Schälschutz mechanisch und chemisch in [Stk.] | D96: =C96*25 -> 0
D97: =SUM(D92:D96) -> 0
A98: Zusatzoption «hoher Wildtiereinfluss»
C99: FALSE
A101: =IF(AND(C99=TRUE,D97>0),"Betrag Zusatzoption «hoher Wildtiereinfluss»","") | C101: =IF(AND(C99=TRUE,D97>0,D97-(3000*(C83+C84))<0),"Mindestbetrag nicht erreicht!","") | D101: =IF(AND(C99=TRUE,D97>0,D97-(3000*(C83+C84))>=0,D97-(6000*(C83+C84))>0),3000*(C83+C84),IF(AND(C99=TRUE,D97>0,D97-(3000*(C83+C84))>=0,D97-(6000*(C83+C84))<0),D97-3000*(C83+C84),""))
A103: =_xlfn.TEXTJOIN(" ", TRUE, "Beiträge total WERDE",B80) -> Beiträge total WERDE | D103: =IF(ISNUMBER(D101)=TRUE,D101+D83+D84+D85+D86,D83+D84+D85+D86) -> 0
A107: WERDE-ID (4) | C107: Flächengrösse in [ha]
B109: Flächenanteil in [%] | C109: Flächenanteil in [ha] | D109: Beiträge
A110: «Begründung ohne Alternativen» | C110: =D107*B110 -> 0 | D110: =B110*D107*Grundlagen!$B$13 -> 0
A111: «Begründung mit Alternativen» | C111: =D107*B111 -> 0 | D111: =B111*D107*Grundlagen!$B$13 -> 0
A112: «Lenkung» | C112: =D107*B112 -> 0 | D112: =B112*D107*Grundlagen!$B$14 -> 0
A113: «Förderung» | C113: =D107*B113 -> 0 | D113: =B113*D107*Grundlagen!$B$14 -> 0
A115: Wildschadenverhütungsmittel
A116: Falls du auf deiner Fläche die Massnahmengruppe «Begründung» genutzt hast, gib bitte an, welche und wie viele Wildschadenverhütungsmittel du eingesetzt hast.
C118: Anzahl in [m'/Stk./ha]
A119: Zaun massiv, 2 m hoch, 20 J. Lebensdauer in [m'] | D119: =C119*50 -> 0
A120: Zaun leicht, 2 m hoch, Dachlatten, 10 J. Lebensdauer in [m'] | D120: =C120*25 -> 0
A121: Einzelschutz mechanisch in [Stk.] | D121: =C121*20 -> 0
A122: Einzelschutz chemisch und weitere in [ha] | D122: =C122*500 -> 0
A123: Schälschutz mechanisch und chemisch in [Stk.] | D123: =C123*25 -> 0
D124: =SUM(D119:D123) -> 0
A125: Zusatzoption «hoher Wildtiereinfluss»
C126: FALSE
A128: =IF(AND(C126=TRUE,D124>0),"Betrag Zusatzoption «hoher Wildtiereinfluss»","") | C128: =IF(AND(C126=TRUE,D124>0,D124-(3000*(C110+C111))<0),"Mindestbetrag nicht erreicht!","") | D128: =IF(AND(C126=TRUE,D124>0,D124-(3000*(C110+C111))>=0,D124-(6000*(C110+C111))>0),3000*(C110+C111),IF(AND(C126=TRUE,D124>0,D124-(3000*(C110+C111))>=0,D124-(6000*(C110+C111))<0),D124-3000*(C110+C111),""))
A130: =_xlfn.TEXTJOIN(" ", TRUE, "Beiträge total WERDE",B107) -> Beiträge total WERDE | D130: =IF(ISNUMBER(D128)=TRUE,D128+D110+D111+D112+D113,D110+D111+D112+D113) -> 0
A134: WERDE-ID (5) | C134: Flächengrösse in [ha]
B136: Flächenanteil in [%] | C136: Flächenanteil in [ha] | D136: Beiträge
A137: «Begründung ohne Alternativen» | C137: =D134*B137 -> 0 | D137: =B137*D134*Grundlagen!$B$13 -> 0
A138: «Begründung mit Alternativen» | C138: =D134*B138 -> 0 | D138: =B138*D134*Grundlagen!$B$13 -> 0
A139: «Lenkung» | C139: =D134*B139 -> 0 | D139: =B139*D134*Grundlagen!$B$14 -> 0
A140: «Förderung» | C140: =D134*B140 -> 0 | D140: =B140*D134*Grundlagen!$B$14 -> 0
A142: Wildschadenverhütungsmittel
A143: Falls du auf deiner Fläche die Massnahmengruppe «Begründung» genutzt hast, gib bitte an, welche und wie viele Wildschadenverhütungsmittel du eingesetzt hast.
C145: Anzahl in [m'/Stk./ha]
...

Sheet Subventionsantrag
A1: ​​Buchhaltungsbeleg Förderprogramm «Jungwaldpflege+»
F2: Wirtschafts-, Energie und
F3: Umweltdirektion
F4: Amt für Wald und Naturgefahren
F5: Kreditoren 4350
F6: Freiburgstrasse 453
F7: 3018 Bern
F8: =IF(ISTEXT(Eingabe!D12)=TRUE,VLOOKUP(Eingabe!$D$12,Grundlagen!$J$2:$K$60,2,FALSE),"")
A9: Zahlungsinformationen Trägerschaft
A10: Vor-/ Name | B10: =IF(ISTEXT(Eingabe!B7)=TRUE,Eingabe!B7,"") | E10: E-Mail | F10: =IF(ISTEXT(Eingabe!D7)=TRUE,Eingabe!D7,"")
A11: Strasse, Nr. | B11: =IF(ISTEXT(Eingabe!B8)=TRUE,Eingabe!B8,"") | E11: Tel. | F11: =IF(ISTEXT(Eingabe!D8)=TRUE,Eingabe!D8,"")
A12: PLZ/Ort | B12: =IF(ISTEXT(Eingabe!B9)=TRUE,Eingabe!B9,"") | E12: Rechtsform | F12: =IF(ISTEXT(Eingabe!D9)=TRUE,Eingabe!D9,"")
A14: Kontoinhaber | B14: =IF(ISTEXT(Eingabe!B14)=TRUE,Eingabe!B14,"")
A15: IBAN | B15: =IF(ISTEXT(Eingabe!D14)=TRUE,Eingabe!D14,"")
A18: Auszahlungsinformation
A19: Auszahlungsbetrag | C19: =IF(AND(Berechnung!C24>0,ISTEXT(Eingabe!D12)=TRUE,ISTEXT(Eingabe!D9)=TRUE),Berechnung!C24,"") | E19: Belegdatum | F19: =IF($C$19>0,TODAY(),"") -> 46303
A20: Auszahlungstext | C20: =IF(C19>0,_xlfn.TEXTJOIN(" ",TRUE,"Auszahlung Projekt-ID: ",_xlfn.TEXTJOIN("; ",TRUE,Eingabe!B19:D19,Eingabe!B25,Eingabe!B53,Eingabe!B80,Eingabe!B107,Eingabe!B134),"")) -> Auszahlung Projekt-ID:
A22: Kontierung
A23: =IF(AND($C$19>0,ISTEXT($F$8)=TRUE,Berechnung!C25<>0,ISTEXT(Eingabe!D12)=TRUE,ISTEXT(Eingabe!D9)=TRUE),VLOOKUP($F$8,Grundlagen!$A$2:$B$9,2,FALSE),"") | D23: =IF(AND($C$19>0,Berechnung!C25<>0,ISTEXT(Eingabe!D12)=TRUE,ISTEXT(Eingabe!D9)=TRUE),VLOOKUP(Eingabe!$D$9,Grundlagen!$M$2:$O$4,2,FALSE),"") | F23: =IF(AND($C$19>0,ISTEXT($F$8)=TRUE,Berechnung!C25<>0,ISTEXT(Eingabe!D12)=TRUE,ISTEXT(Eingabe!D9)=TRUE),Berechnung!C25,"")
A24: =IF(AND($C$19>0,ISTEXT($F$8)=TRUE,Berechnung!C26>0,ISTEXT(Eingabe!D12)=TRUE,ISTEXT(Eingabe!D9)=TRUE),VLOOKUP($F$8,Grundlagen!$A$2:$B$9,2,FALSE),"") | D24: =IF(AND($C$19>0,Berechnung!C26>0,ISTEXT(Eingabe!D12)=TRUE,ISTEXT(Eingabe!D9)=TRUE),VLOOKUP(Eingabe!$D$9,Grundlagen!$M$2:$O$4,3,FALSE),"") | F24: =IF(AND($C$19>0,ISTEXT($F$8)=TRUE,Berechnung!C26>0,ISTEXT(Eingabe!D12)=TRUE,ISTEXT(Eingabe!D9)=TRUE),Berechnung!C26,"")
A25: =IF(AND($C$19>0,ISTEXT($F$8)=TRUE,Berechnung!C27>0,ISTEXT(Eingabe!D12)=TRUE,ISTEXT(Eingabe!D9)=TRUE),VLOOKUP($F$8,Grundlagen!$A$18:$F$25,2,FALSE),"") | D25: =IF(AND($C$19>0,Berechnung!C27>0,ISTEXT(Eingabe!D12)=TRUE,ISTEXT(Eingabe!D9)=TRUE),VLOOKUP(Eingabe!$D$9,Grundlagen!$M$2:$N$4,2,FALSE),"") | F25: =IF(AND($C$19>0,ISTEXT($F$8)=TRUE,Berechnung!C27>0,ISTEXT(Eingabe!D12)=TRUE,ISTEXT(Eingabe!D9)=TRUE),Berechnung!C27,"")

Sheet Auszahlungsinformation
B1: Wirtschafts-, Energie- und Umweltdirektion
B2: Amt für Wald und Naturgefahren
B3: =IF(Berechnung!$C$24>0,VLOOKUP(Subventionsantrag!$F$8,Briefkopf!$A$2:$J$9,2,FALSE),"")
B5: =IF(Berechnung!$C$24>0,VLOOKUP(Subventionsantrag!$F$8,Briefkopf!$A$2:$J$9,3,FALSE),"") | F5: =IF(Berechnung!$C$24>0,VLOOKUP(Subventionsantrag!$F$8,Briefkopf!$A$2:$K$9,11,FALSE),"")
B6: =IF(Berechnung!$C$24>0,VLOOKUP(Subventionsantrag!$F$8,Briefkopf!$A$2:$J$9,4,FALSE),"") | F6: =IF(ISTEXT(Eingabe!B7)=TRUE,Eingabe!B7,"")
B7: =IF(Berechnung!$C$24>0,VLOOKUP(Subventionsantrag!$F$8,Briefkopf!$A$2:$J$9,5,FALSE),"") | F7: =IF(ISTEXT(Eingabe!B8)=TRUE,Eingabe!B8,"")
B8: =IF(Berechnung!$C$24>0,VLOOKUP(Subventionsantrag!$F$8,Briefkopf!$A$2:$J$9,6,FALSE),"") | F8: =IF(ISTEXT(Eingabe!B9)=TRUE,Eingabe!B9,"")
B9: www.be.ch/wald
B11: =_xlfn.TEXTJOIN(" ",TRUE,IF(Berechnung!$C$24>0,VLOOKUP(Subventionsantrag!$F$8,Briefkopf!$A$2:$J$9,7,FALSE),""),IF(Berechnung!$C$24>0,VLOOKUP(Subventionsantrag!$F$8,Briefkopf!$A$2:$J$9,8,FALSE),""))
B12: =IF(Berechnung!$C$24>0,VLOOKUP(Subventionsantrag!$F$8,Briefkopf!$A$2:$J$9,9,FALSE),"")
B13: =IF(Berechnung!$C$24>0,VLOOKUP(Subventionsantrag!$F$8,Briefkopf!$A$2:$J$9,10,FALSE),"")
H14: =TODAY() -> 46303
B17: Auszahlungsinformation Förderprogramm «Jungwaldpflege+»
B19: Guten Tag
B21: Gerne teilen wir Ihnen mit, dass Ihr Beitragsgesuch freigegeben wurde. Der bewilligte Betrag
B22: =_xlfn.TEXTJOIN(" ",TRUE,"von",TEXT(Berechnung!C24,"CHF # ##0.00"),"wird Ihnen innerhalb der nächsten sechs Wochen auf das Konto") -> von CHF 0.00 wird Ihnen innerhalb der nächsten sechs Wochen auf das Konto
B23: =_xlfn.TEXTJOIN(" ",TRUE,Eingabe!D14,"von",Eingabe!B14,"überwiesen.") -> von überwiesen.
B26: Der Betrag beinhaltet die Beiträge der folgenden WERDE oder Projekt-ID: | G26: =_xlfn.TEXTJOIN(", ",TRUE,Eingabe!B19,Eingabe!C19,Eingabe!D19,Eingabe!B25,Eingabe!B53,Eingabe!B80,Eingabe!B107,Eingabe!B134)
B29: Bei den ausbezahlten Beiträgen handelt es sich um Subventionen gemäss Art. 18 Abs. 3 MWSTG.
B30: Bitte bewahren Sie sämtliche Abrechnungsgrundlagen (WERDE) und Belege nach Abschluss des Projekts
B31: während 10 Jahren auf. Die Unterlagen sind für allfällige Kontrollen durch die Subventionsbehörden
B32: bereitzuhalten.
B34: Bei Fragen steht Ihnen die Waldabteilung zur Verfügung.
F39: Freundliche Grüsse
F41: =IF(Berechnung!$C$24>0,VLOOKUP(Subventionsantrag!$F$8,Briefkopf!$A$2:$J$9,2,FALSE),"")
F46: =_xlfn.TEXTJOIN(" ",TRUE,IF(Berechnung!$C$24>0,VLOOKUP(Subventionsantrag!$F$8,Briefkopf!$A$2:$J$9,7,FALSE),""),IF(Berechnung!$C$24>0,VLOOKUP(Subventionsantrag!$F$8,Briefkopf!$A$2:$J$9,8,FALSE),""))
F47: =IF(Berechnung!$C$24>0,VLOOKUP(Subventionsantrag!$F$8,Briefkopf!$A$2:$L$9,12,FALSE),"")

Sheet Berechnung
A1: Ergänzung
A2: Fläche | B2: Staatsbeitrag | C2: Bundesbeitrag | D2: Kanton
A3: =SUM(Eingabe!B20:D20) -> 0 | B3: =SUM(Eingabe!B21:D21) -> 0 | C3: =VLOOKUP($A$1,Grundlagen!$A$13:$C$15,3,FALSE)*A3 -> 0 | D3: =B3-C3 -> 0 | E3: ohne
A5: Begründung
A6: Fläche | B6: Staatsbeitrag | C6: Bundesbeitrag | D6: Kanton
A7: =SUM(Eingabe!C28,Eingabe!C56,Eingabe!C83,Eingabe!C110,Eingabe!C137) -> 0 | B7: =SUM(Eingabe!D28,Eingabe!D56,Eingabe!D83,Eingabe!D110,Eingabe!D137) -> 0 | C7: =VLOOKUP($A$5,Grundlagen!$A$13:$C$15,3,FALSE)*A7 -> 0 | D7: =B7-C7 -> 0 | E7: ohne
A8: =SUM(Eingabe!C29,Eingabe!C57,Eingabe!C84,Eingabe!C111,Eingabe!C138) -> 0 | B8: =SUM(Eingabe!D29,Eingabe!D57,Eingabe!D84,Eingabe!D111,Eingabe!D138) -> 0 | C8: =VLOOKUP($A$5,Grundlagen!$A$13:$C$15,3,FALSE)*A8 -> 0 | D8: =B8-C8 -> 0 | E8: mit
A11: Lenkung/Förderung
A12: Fläche | B12: Staatsbeitrag | C12: Bundesbeitrag | D12: Kanton
A13: =SUM(Eingabe!C30,Eingabe!C58,Eingabe!C85,Eingabe!C112,Eingabe!C139) -> 0 | B13: =SUM(Eingabe!D30,Eingabe!D58,Eingabe!D85,Eingabe!D112,Eingabe!D139) -> 0 | C13: =VLOOKUP($A$11,Grundlagen!$A$13:$C$15,3,FALSE)*A13 -> 0 | D13: =B13-C13 -> 0 | E13: Lenk
A14: =SUM(Eingabe!C31,Eingabe!C59,Eingabe!C86,Eingabe!C113,Eingabe!C140) -> 0 | B14: =SUM(Eingabe!D31,Eingabe!D59,Eingabe!D86,Eingabe!D113,Eingabe!D140) -> 0 | C14: =VLOOKUP($A$11,Grundlagen!$A$13:$C$15,3,FALSE)*A14 -> 0 | D14: =B14-C14 -> 0 | E14: Förd
A17: Wald-Wild | G17: WERDE1 | H17: =IF(AND(Eingabe!C44=TRUE,Eingabe!D42>(Eingabe!C28+Eingabe!C29)*6000),(Eingabe!C28+Eingabe!C29)*6000,IF(AND(Eingabe!C44=TRUE,Eingabe!D42<=(Eingabe!C28+Eingabe!C29)*6000),Eingabe!D42,IF(AND(Eingabe!C44=FALSE,Eingabe!D42>(Eingabe!C28+Eingabe!C29)*3000),(Eingabe!C28+Eingabe!C29)*3000,IF(AND(Eingabe!C44=FALSE,Eingabe!D42<=(Eingabe!C28+Eingabe!C29)*3000),Eingabe!D42)))) -> 0
G18: WERDE2 | H18: =IF(AND(Eingabe!C72=TRUE,Eingabe!D70>(Eingabe!C56+Eingabe!C57)*6000),(Eingabe!C56+Eingabe!C57)*6000,IF(AND(Eingabe!C72=TRUE,Eingabe!D70<=(Eingabe!C56+Eingabe!C57)*6000),Eingabe!D70,IF(AND(Eingabe!C72=FALSE,Eingabe!D70>(Eingabe!C56+Eingabe!C57)*3000),(Eingabe!C56+Eingabe!C57)*3000,IF(AND(Eingabe!C72=FALSE,Eingabe!D70<=(Eingabe!C56+Eingabe!C57)*3000),Eingabe!D70)))) -> 0
A19: Kanton | B19: Staatsbeitrag | G19: WERDE3 | H19: =IF(AND(Eingabe!C99=TRUE,Eingabe!D97>(Eingabe!C83+Eingabe!C84)*6000),(Eingabe!C83+Eingabe!C84)*6000,IF(AND(Eingabe!C99=TRUE,Eingabe!D97<=(Eingabe!C83+Eingabe!C84)*6000),Eingabe!D97,IF(AND(Eingabe!C99=FALSE,Eingabe!D97>(Eingabe!C83+Eingabe!C84)*3000),(Eingabe!C83+Eingabe!C84)*3000,IF(AND(Eingabe!C99=FALSE,Eingabe!D97<=(Eingabe!C83+Eingabe!C84)*3000),Eingabe!D97)))) -> 0
A20: =SUM(H17:H21) -> 0 | B20: =SUM(Eingabe!D46,Eingabe!D74,Eingabe!D101,Eingabe!D128,Eingabe!D155) -> 0 | G20: WERDE4 | H20: =IF(AND(Eingabe!C126=TRUE,Eingabe!D124>(Eingabe!C110+Eingabe!C111)*6000),(Eingabe!C110+Eingabe!C111)*6000,IF(AND(Eingabe!C126=TRUE,Eingabe!D124<=(Eingabe!C110+Eingabe!C111)*6000),Eingabe!D124,IF(AND(Eingabe!C126=FALSE,Eingabe!D124>(Eingabe!C110+Eingabe!C111)*3000),(Eingabe!C110+Eingabe!C111)*3000,IF(AND(Eingabe!C126=FALSE,Eingabe!D124<=(Eingabe!C110+Eingabe!C111)*3000),Eingabe!D124)))) -> 0
G21: WERDE5 | H21: =IF(AND(Eingabe!C153=TRUE,Eingabe!D151>(Eingabe!C137+Eingabe!C138)*6000),(Eingabe!C137+Eingabe!C138)*6000,IF(AND(Eingabe!C153=TRUE,Eingabe!D151<=(Eingabe!C137+Eingabe!C138)*6000),Eingabe!D151,IF(AND(Eingabe!C153=FALSE,Eingabe!D151>(Eingabe!C137+Eingabe!C138)*3000),(Eingabe!C137+Eingabe!C138)*3000,IF(AND(Eingabe!C153=FALSE,Eingabe!D151<=(Eingabe!C137+Eingabe!C138)*3000),Eingabe!D151)))) -> 0
A24: Summe Staatsbeitrag | C24: =SUM(B20,B14,B13,B8,B7,B3) -> 0
A25: Kanton Jungwaldpflege | C25: =C24-(C26+C27) -> 0
A26: Bundesbeitrag | C26: =SUM(C3,C7,C8,C13,C14) -> 0
A27: Kanton Wald-Wild | C27: =A20 -> 0

Sheet Grundlagen
A2: thomas.girod@be.ch | B2: 4300A-519003.E.002 | C2: 4435010000 | D2: WAA Ost Jungwaldpflege ausserh. Schutzw. | E2: MZID | F2: MR7H | G2: Waldabteilung Alpen | H2: 1011 | I2: Boltigen | J2: 1011 Boltigen | K2: micha.trauffer@be.ch | M2: öffentlich | N2: 363200000 | O2: 463000000
A3: micha.trauffer@be.ch | B3: 4300A-519003.E.003 | C3: 4435010000 | D3: WAA West Jungwaldpflege ausserh. Schutzw | E3: MZID | F3: NC66 | G3: Waldabteilung Alpen | H3: 1012 | I3: Zweisimmen | J3: 1012 Zweisimmen | K3: micha.trauffer@be.ch | M3: privat | N3: 363500000 | O3: 463000000
A4: martin.staedeli@be.ch | B4: 4300A-519003.E.004 | C4: 4435010000 | D4: WAV Ost Jungwaldpflege ausserh. Schutzw. | E4: MM85 | F4: MM09 | G4: Waldabteilung Alpen | H4: 1050 | I4: Forst Haslital | J4: 1050 Forst Haslital | K4: thomas.girod@be.ch | M4: kantonal | N4: 363200000 | O4: 463000000
A5: martin.kueng@be.ch | B5: 4300A-519003.E.005 | C5: 4435010000 | D5: WAV West Jungwaldpflege ausser. Schutzw. | E5: MM85 | F5: MG95 | G5: Waldabteilung Alpen | H5: 1051 | I5: Brünig Ost | J5: 1051 Brünig Ost | K5: thomas.girod@be.ch
A6: jonas.meyer@be.ch | B6: 4300A-519003.E.006 | C6: 4435010000 | D6: WAM Ost Jungwaldpflege ausserh. Schutzw. | E6: MLXG | F6: MG5A | G6: Waldabteilung Alpen | H6: 1052 | I6: Brienz | J6: 1052 Brienz | K6: thomas.girod@be.ch
A7: silvio.schmid@be.ch | B7: 4300A-519003.E.007 | C7: 4435010000 | D7: WAM West Jungwaldpflege ausser. Schutzw. | E7: MLXG | F7: M3EN | G7: Waldabteilung Alpen | H7: 1054 | I7: Bödeli plus | J7: 1054 Bödeli plus | K7: thomas.girod@be.ch
A8: lucien.blaser@be.ch | B8: 4300A-519003.E.008 | C8: 4435010000 | D8: WABJ Jungwaldpflege ausserhalb Schutzw. | E8: MF6V | F8: M6SK | G8: Waldabteilung Alpen | H8: 1055 | I8: Lütschinentäler | J8: 1055 Lütschinentäler | K8: thomas.girod@be.ch
A9: isabel.ballmer@be.ch | B9: 4300A-519003.E.009 | C9: 4435010000 | D9: WAM Mitte Jungwaldpflege ausser. Schutzw. | E9: MLXG | F9: MN1A | G9: Waldabteilung Alpen | H9: 1057 | I9: Thunersee Süd | J9: 1057 Thunersee Süd | K9: micha.trauffer@be.ch | M9: Waldabteilung Alpen
G10: Waldabteilung Alpen | H10: 1059 | I10: Diemtigtal | J10: 1059 Diemtigtal | K10: micha.trauffer@be.ch | M10: Waldabteilung Voralpen
G11: Waldabteilung Alpen | H11: 1060 | I11: Lenk - St. Stephan | J11: 1060 Lenk - St. Stephan | K11: micha.trauffer@be.ch | M11: Waldabteilung Mittelland
A12: Pauschalen | B12: Staatsbeitrag | C12: Bundesbeitrag | G12: Waldabteilung Alpen | H12: 1061 | I12: Saanenland | J12: 1061 Saanenland | K12: micha.trauffer@be.ch | M12: Division forestière Jura bernois
A13: Begründung | B13: 9000 | C13: 6000 | G13: Waldabteilung Alpen | H13: 1062 | I13: Kander- und Engstligental | J13: 1062 Kander- und Engstligental | K13: micha.trauffer@be.ch
A14: Lenkung/Förderung | B14: 2000 | C14: 1000 | G14: Waldabteilung Alpen | H14: 1063 | I14: Beatenberg - Habkern | J14: 1063 Beatenberg - Habkern | K14: thomas.girod@be.ch
A15: Ergänzung | B15: 3000 | C15: 6000 | G15: Waldabteilung Alpen | H15: 1064 | I15: Grindelwald | J15: 1064 Grindelwald | K15: thomas.girod@be.ch
G16: Waldabteilung Voralpen | H16: 2005 | I16: Signau | J16: 2005 Signau | K16: martin.staedeli@be.ch | M16: 2026
G17: Waldabteilung Voralpen | H17: 2009 | I17: Langnau | J17: 2009 Langnau | K17: martin.staedeli@be.ch | M17: 2027
A18: thomas.girod@be.ch | B18: 4300A-519004.E.001 | C18: 4435010000 | D18: WAA Ost Wald-Wild Förderung WW | E18: MZID | F18: MR7H | G18: Waldabteilung Voralpen | H18: 2010 | I18: Trub | J18: 2010 Trub | K18: martin.staedeli@be.ch | M18: 2028
A19: micha.trauffer@be.ch | B19: 4300A-519004.E.002 | C19: 4435010000 | D19: WAA West Wald-Wild Förderung WW | E19: MZID | F19: NC66 | G19: Waldabteilung Voralpen | H19: 2011 | I19: Eggiwil | J19: 2011 Eggiwil | K19: martin.staedeli@be.ch
A20: martin.staedeli@be.ch | B20: 4300A-519004.E.003 | C20: 4435010000 | D20: WAV Ost Wald-Wild Förderung WW | E20: MM85 | F20: MM09 | G20: Waldabteilung Voralpen | H20: 2050 | I20: Thun-Steffisburg-Zulgtal | J20: 2050 Thun-Steffisburg-Zulgtal | K20: martin.staedeli@be.ch
A21: martin.kueng@be.ch | B21: 4300A-519004.E.004 | C21: 4435010000 | D21: WAV West Wald-Wild Förderung WW | E21: MM85 | F21: MG95 | G21: Waldabteilung Voralpen | H21: 2052 | I21: Sigriswil - Stockental | J21: 2052 Sigriswil - Stockental | K21: martin.kueng@be.ch
A22: jonas.meyer@be.ch | B22: 4300A-519004.E.005 | C22: 4435010000 | D22: WAM Ost Wald-Wild Förderung WW | E22: MLXG | F22: MG5A | G22: Waldabteilung Voralpen | H22: 2053 | I22: Belpberg | J22: 2053 Belpberg | K22: martin.kueng@be.ch
A23: isabel.ballmer@be.ch | B23: 4300A-519004.E.006 | C23: 4435010000 | D23: WAM Mitte Wald-Wild Förderung WW | E23: MLXG | F23: MN1A | G23: Waldabteilung Voralpen | H23: 2055 | I23: Oberes Gürbetal | J23: 2055 Oberes Gürbetal | K23: martin.kueng@be.ch
A24: silvio.schmid@be.ch | B24: 4300A-519004.E.007 | C24: 4435010000 | D24: WAM West Wald-Wild Förderung WW | E24: MLXG | F24: M3EN | G24: Waldabteilung Voralpen | H24: 2059 | I24: Gantrisch | J24: 2059 Gantrisch | K24: martin.kueng@be.ch
A25: lucien.blaser@be.ch | B25: 4300A-519004.E.008 | C25: 4435010000 | D25: WABJ Wald-Wild Förderung WW | E25: MF6V | F25: M6SK | G25: Waldabteilung Voralpen | H25: 2060 | I25: Köniz - Längenberg | J25: 2060 Köniz - Längenberg | K25: martin.kueng@be.ch
G26: Waldabteilung Voralpen | H26: 2061 | I26: Kiesen- und Aaretal | J26: 2061 Kiesen- und Aaretal | K26: martin.kueng@be.ch
G27: Waldabteilung Voralpen | H27: 2080 | I27: Sumiswald-Lützelflüh | J27: 2080 Sumiswald-Lützelflüh | K27: martin.staedeli@be.ch
G28: Waldabteilung Mittelland | H28: 3002 | I28: Aarberg-Jegenstorf | J28: 3002 Aarberg-Jegenstorf | K28: isabel.ballmer@be.ch
G29: Waldabteilung Mittelland | H29: 3004 | I29: Fraubrunnen | J29: 3004 Fraubrunnen | K29: isabel.ballmer@be.ch
G30: Waldabteilung Mittelland | H30: 3006 | I30: Burgdorf Süd | J30: 3006 Burgdorf Süd | K30: isabel.ballmer@be.ch
G31: Waldabteilung Mittelland | H31: 3007 | I31: Wynigen | J31: 3007 Wynigen | K31: isabel.ballmer@be.ch
G32: Waldabteilung Mittelland | H32: 3050 | I32: Amt Erlach | J32: 3050 Amt Erlach | K32: silvio.schmid@be.ch
G33: Waldabteilung Mittelland | H33: 3051 | I33: Tubeloch | J33: 3051 Tubeloch | K33: isabel.ballmer@be.ch
G34: Waldabteilung Mittelland | H34: 3052 | I34: Unteres Seeland | J34: 3052 Unteres Seeland | K34: isabel.ballmer@be.ch
G35: Waldabteilung Mittelland | H35: 3055 | I35: Region Büren | J35: 3055 Region Büren | K35: silvio.schmid@be.ch
G36: Waldabteilung Mittelland | H36: 3056 | I36: Lyss | J36: 3056 Lyss | K36: silvio.schmid@be.ch
G37: Waldabteilung Mittelland | H37: 3058 | I37: BG Bern | J37: 3058 BG Bern | K37: silvio.schmid@be.ch
... G60: Division forestière Jura bernois | H60: 5094 | I60: EFD Jura bernois | J60: 5094 EFD Jura bernois | K60: lucien.blaser@be.ch

Sheet Briefkopf
A1: E-Mail | B1: Waldabteilung | C1: Strasse/Nr | D1: PLZ/Ort | E1: Tel. WA | F1: Mail WA | G1: Vorname | H1: Name | I1: Tel. MA | J1: Mail. MA | K1: Anschrift | L1: Funktion
A2: thomas.girod@be.ch | B2: Waldabteilung Alpen | C2: Schlossgasse 6 | D2: 3752 Wimmis | E2: +41 31 636 12 40 | F2: wald.alpen@be.ch | G2: Thomas | H2: Girod | I2: +41 31 636 76 38 | J2: thomas.girod@be.ch | K2: =_xlfn.TEXTJOIN(", ",TRUE,B2:D2) -> Waldabteilung Alpen, Schlossgasse 6, 3752 Wimmis | L2: Regionenverantwortlicher
A3: micha.trauffer@be.ch | B3: Waldabteilung Alpen | C3: Schlossgasse 6 | D3: 3752 Wimmis | E3: +41 31 636 12 40 | F3: wald.alpen@be.ch | G3: Micha | H3: Tauffer | I3: +41 31 636 31 48 | J3: micha.trauffer@be.ch | K3: =_xlfn.TEXTJOIN(", ",TRUE,B3:D3) -> Waldabteilung Alpen, Schlossgasse 6, 3752 Wimmis | L3: Regionenverantwortlicher
A4: martin.staedeli@be.ch | B4: Waldabteilung Voralpen | C4: Schwand 2 | D4: 3110 Münsingen | E4: +41 31 636 04 50 | F4: wald.voralpen@be.ch | G4: Martin | H4: Städeli | I4: +41 31 633 46 20 | J4: martin.staedeli@be.ch | K4: =_xlfn.TEXTJOIN(", ",TRUE,B4:D4) -> Waldabteilung Voralpen, Schwand 2, 3110 Münsingen | L4: Regionenverantwortlicher
A5: martin.kueng@be.ch | B5: Waldabteilung Voralpen | C5: Schwand 2 | D5: 3110 Münsingen | E5: +41 31 636 04 50 | F5: wald.voralpen@be.ch | G5: Martin | H5: Küng | I5: +41 31 636 12 33 | J5: martin.kueng@be.ch | K5: =_xlfn.TEXTJOIN(", ",TRUE,B5:D5) -> Waldabteilung Voralpen, Schwand 2, 3110 Münsingen | L5: Regionenverantwortlicher
A6: jonas.meyer@be.ch | B6: Waldabteilung Mittelland | C6: Molkereistrasse 25 | D6: 3052 Zollikofen | E6: +41 31 636 12 70 | F6: wald.mittelland@be.ch | G6: Jonas | H6: Meyer | I6: +41 31 636 77 10 | J6: jonas.meyer@be.ch | K6: =_xlfn.TEXTJOIN(", ",TRUE,B6:D6) -> Waldabteilung Mittelland, Molkereistrasse 25, 3052 Zollikofen | L6: Regionenverantwortlicher
A7: isabel.ballmer@be.ch | B7: Waldabteilung Mittelland | C7: Molkereistrasse 25 | D7: 3052 Zollikofen | E7: +41 31 636 12 70 | F7: wald.mittelland@be.ch | G7: Isabel | H7: Ballmer | I7: +41 31 635 54 62 | J7: isabel.ballmer@be.ch | K7: =_xlfn.TEXTJOIN(", ",TRUE,B7:D7) -> Waldabteilung Mittelland, Molkereistrasse 25, 3052 Zollikofen | L7: Regionenverantwortliche
A8: silvio.schmid@be.ch | B8: Waldabteilung Mittelland | C8: Molkereistrasse 25 | D8: 3052 Zollikofen | E8: +41 31 636 12 70 | F8: wald.mittelland@be.ch | G8: Silvio | H8: Schmid | I8: +41 31 636 12 75 | J8: silvio.schmid@be.ch | K8: =_xlfn.TEXTJOIN(", ",TRUE,B8:D8) -> Waldabteilung Mittelland, Molkereistrasse 25, 3052 Zollikofen | L8: Regionenverantwortlicher
A9: lucien.blaser@be.ch | B9: Division forestière Jura bernois | C9: Pierre-Pertuis 7 | D9: 2710 Tavannes | E9: +41 31 636 12 80 | F9: foret.jurabernois@be.ch | G9: Lucien | H9: Blaser | I9: +41 31 636 67 30 | J9: lucien.blaser@be.ch | K9: =_xlfn.TEXTJOIN(", ",TRUE,B9:D9) -> Division forestière Jura bernois, Pierre-Pertuis 7, 2710 Tavannes | L9: Regionenverantwortlicher

Sheet Reviere_WA
A1: Waldabteilung | B1: Revier | D1: =IF(ISTEXT(Eingabe!$B$12)=TRUE,Eingabe!$B$12,"")
A2: Waldabteilung Alpen | B2: 1011 Boltigen
A3: Waldabteilung Alpen | B3: 1012 Zweisimmen
A4: Waldabteilung Alpen | B4: 1050 Forst Haslital | D4: {=_xlfn._xlws.FILTER(A2:B60,A2:A60 = D1,"")}
A5: Waldabteilung Alpen | B5: 1051 Brünig Ost
A6: Waldabteilung Alpen | B6: 1052 Brienz
A7: Waldabteilung Alpen | B7: 1054 Bödeli plus
A8: Waldabteilung Alpen | B8: 1055 Lütschinentäler
A9: Waldabteilung Alpen | B9: 1057 Thunersee Süd
A10: Waldabteilung Alpen | B10: 1059 Diemtigtal
A11: Waldabteilung Alpen | B11: 1060 Lenk - St. Stephan
A12: Waldabteilung Alpen | B12: 1061 Saanenland
A13: Waldabteilung Alpen | B13: 1062 Kander- und Engstligental
A14: Waldabteilung Alpen | B14: 1063 Beatenberg - Habkern
A15: Waldabteilung Alpen | B15: 1064 Grindelwald
A16: Waldabteilung Voralpen | B16: 2005 Signau
... A60: Division forestière Jura bernois | B60: 5094 EFD Jura bernois

Sheet Forstfachperson
A1: Ammann | B1: Andreas | C1: =_xlfn.TEXTJOIN(" ",TRUE,B1,A1) -> Andreas Ammann
A2: Aeberli | B2: Christoph | C2: =_xlfn.TEXTJOIN(" ",TRUE,B2,A2) -> Christoph Aeberli
A3: Bagnoud | B3: Joran | C3: =_xlfn.TEXTJOIN(" ",TRUE,B3,A3) -> Joran Bagnoud
A4: Biermann | B4: Stefan | C4: =_xlfn.TEXTJOIN(" ",TRUE,B4,A4) -> Stefan Biermann
A5: Blaser | B5: Joël | C5: =_xlfn.TEXTJOIN(" ",TRUE,B5,A5) -> Joël Blaser
A6: Bochud | B6: Pascal | C6: =_xlfn.TEXTJOIN(" ",TRUE,B6,A6) -> Pascal Bochud
A7: Breton | B7: Benoît | C7: =_xlfn.TEXTJOIN(" ",TRUE,B7,A7) -> Benoît Breton
A8: Bueche | B8: Roman | C8: =_xlfn.TEXTJOIN(" ",TRUE,B8,A8) -> Roman Bueche
A9: Bütschi | B9: Daniel | C9: =_xlfn.TEXTJOIN(" ",TRUE,B9,A9) -> Daniel Bütschi
A10: Christen | B10: Fritz | C10: =_xlfn.TEXTJOIN(" ",TRUE,B10,A10) -> Fritz Christen
A11: Cortat | B11: Adrien | C11: =_xlfn.TEXTJOIN(" ",TRUE,B11,A11) -> Adrien Cortat
A12: Dober | B12: Alois | C12: =_xlfn.TEXTJOIN(" ",TRUE,B12,A12) -> Alois Dober
... A74: Schnee- | B74: Marc | C74: =_xlfn.TEXTJOIN(" ",TRUE,B74,A74) -> Marc Schnee-
A75: berger | C75: =_xlfn.TEXTJOIN(" ",TRUE,B75,A75) -> berger
A76: Schneider | B76: Daniel | C76: =_xlfn.TEXTJOIN(" ",TRUE,B76,A76) -> Daniel Schneider
A77: Schweizer | B77: Andreas | C77: =_xlfn.TEXTJOIN(" ",TRUE,B77,A77) -> Andreas Schweizer
A78: Schweizer | B78: Rudolf | C78: =_xlfn.TEXTJOIN(" ",TRUE,B78,A78) -> Rudolf Schweizer
A79: Spahr | B79: Andrea | C79: =_xlfn.TEXTJOIN(" ",TRUE,B79,A79) -> Andrea Spahr
A80: Steffen | B80: Hans | C80: =_xlfn.TEXTJOIN(" ",TRUE,B80,A80) -> Hans Steffen
A81: Thurnherr | B81: Martin | C81: =_xlfn.TEXTJOIN(" ",TRUE,B81,A81) -> Martin Thurnherr
A82: Treichler | B82: Fabien | C82: =_xlfn.TEXTJOIN(" ",TRUE,B82,A82) -> Fabien Treichler
A83: Waeber | B83: Stefan | C83: =_xlfn.TEXTJOIN(" ",TRUE,B83,A83) -> Stefan Waeber
A84: Walther | B84: Marc | C84: =_xlfn.TEXTJOIN(" ",TRUE,B84,A84) -> Marc Walther
A85: Walther | B85: Thomas | C85: =_xlfn.TEXTJOIN(" ",TRUE,B85,A85) -> Thomas Walther
A86: Weber | B86: Björn | C86: =_xlfn.TEXTJOIN(" ",TRUE,B86,A86) -> Björn Weber
A87: Wegmüller | B87: Dario | C87: =_xlfn.TEXTJOIN(" ",TRUE,B87,A87) -> Dario Wegmüller
... A95: Zwahlen | B95: Markus | C95: =_xlfn.TEXTJOIN(" ",TRUE,B95,A95) -> Markus Zwahlen
