{"text_format":"1","workbook":"xlsx","n_sheets":11,"sheets":["Sprache","Parameter","Introduction ","Page de couverture","Formulaire A","Formulaire B ","Formulaire C","Description des MA","Formulaire D","Convention","Remarques"],"not_rendered":{"charts":2,"images":3,"macros":1,"external_links":0,"defined_names":42,"comments":0,"pivot_tables":0},"unopened":[],"bounds":{"document_bytes":16777216,"sheet_cells":100000,"rows_first":2000,"rows_last":500,"rows_between":2000,"halvings":0,"cell_chars":16384,"cell_head_chars":4096},"cells_cut":0,"cells_raw":0,"read":"whole","date_system":"1900"}

{"sheet":"Sprache","index":0,"n_rows":281,"n_cols":6,"rows_kept":281,"cut":false,"hidden":true,"merged":[[276,0,276,4]]}
["KZV Tool BE","<= Nicht löschen, wird beim Import ins Monitoring als Kontrolle gebraucht"]
[]
["Zuweisung",null,"Übersetzung",null,"Aktive Sprache"]
["Arbeitsblatt","Zelle/Bereich","Deutsch","Französisch","DE"]
["Allgemein","Fusszeile Links","Kantonale Zielvereinbarung (KZV), Kanton Bern","Convention d’objectifs cantonale (COC), canton de Berne",{"$f":"IF(Sprache=\"FR\",D5,C5)","v":"Convention d’objectifs cantonale (COC), canton de Berne"}]
["Allgemein","Blattname","Anleitung","Introduction ",{"$f":"IF(Sprache=\"FR\",D6,C6)","v":"Introduction "}]
["Allgemein","Blattname","Titelblatt","Page de couverture","Page de couverture"]
["Allgemein","Blattname","Formular A","Formulaire A","Formulaire A"]
["Allgemein","Blattname","Formular B","Formulaire B ","Formulaire B "]
["Allgemein","Blattname","Formular C","Formulaire C","Formulaire C"]
["Allgemein","Blattname","Formular D","Formulaire D","Formulaire D"]
["Allgemein","Blattname","Beschreibung Massnahmen","Description des MA",{"$f":"IF(Sprache=\"FR\",D12,C12)","v":"Description des MA"}]
["Allgemein","Blattname","Vereinbarung","Convention","Convention"]
["Allgemein","Blattname","Bemerkungen","Remarques","Remarques"]
["Formular B","Eingabemeldung, Titel","Erklärung Elastizität","Explication de l’élasticité","Explication de l’élasticité"]
["Formular B","Eingabemeldung, Text","Eine Elastizität von 1 bedeutet eine direkte Proportionalität zwischen dem mutmasslichem Wachstum des Betriebs und dem Energieverbrauch, was eher selten zutrifft. Eine Elastizität < 1 bedeutet, dass sich der Energieverbrauch unterproportional verändert.","Une élasticité = 1 signifie que la consommation énergétique est directement proport. à la croissance prévisible de la production. Une élasticité < 1 signifie que la consommation énergétique est proport. inférieure à la croissance de la production.","Une élasticité = 1 signifie que la consommation énergétique est directement proport. à la croissance prévisible de la production. Une élasticité < 1 signifie que la consommation énergétique est proport. inférieure à la croissance de la production.","Une élasticité égale à un signifie que la consommation énergétique est directement proportionnelle à la croissance prévisible de la production, ce qui est plutôt rare. Une élasticité inférieure à un signifie que la progression de la consommation énergétique est proportionnellement inférieure à la croissance de la production."]
["Formular C","Eingabemeldung, Titel","Auswahl Energieträger","Agents énergétiques à choix","Agents énergétiques à choix"]
["Formular C","Eingabemeldung, Text","Ö = Heizöl\nG = Erdgas\nF = Fernwärme\nH = Biomasse (Holz, Biogas, Klärgas)\nW = Weitere Brennstoffe\nE = Elektrizität","M = mazout\nG = gaz naturel\nD = chaleur à distance\nB = bois, biomasse, biogaz\nA = autres combustibles\nE = énergie électrique ","M = mazout\nG = gaz naturel\nD = chaleur à distance\nB = bois, biomasse, biogaz\nA = autres combustibles\nE = énergie électrique "]
["Formular C","Dropdown","Ö","M","M"]
["Formular C","Dropdown","G","G","G"]
["Formular C","Dropdown","F","D","D"]
["Formular C","Dropdown","H","B","B"]
["Formular C","Dropdown","W","A","A"]
["Formular C","Dropdown","E","E","E"]
["Formular C","Linktext","Beschreibung","Description","Description"]
["Beschreibung Massnahmen","Linktext","zurück zu","Retour à","Retour à"]
["Anleitung","Zelle","Kurzanleitung","Brève introduction ","Brève introduction "]
["Anleitung","Zelle","Kantonale Zielvereinbarung (KZV) für Grossverbraucher im Kanton Bern","Convention d'objectifs cantonale (COC) pour gros consommateur dans le canton de Berne","Convention d'objectifs cantonale (COC) pour gros consommateur dans le canton de Berne"]
["Anleitung","Zelle","Sprache","Langue ","Langue "]
["Anleitung","Zelle","Bedienung","Indications d’emploi","Indications d’emploi"]
["Anleitung","Zelle","Die Blätter dieser Arbeitsmappe sind geschützt, um zu verhindern, dass versehentlich Formeln überschrieben werden.","Les feuilles de ce classeur de travail sont protégées pour éviter que des formules ne soient écrasées par mégarde.","Les feuilles de ce classeur de travail sont protégées pour éviter que des formules ne soient écrasées par mégarde."]
["Anleitung","Zelle","Füllen Sie die Arbeitsmappe in folgender Reihenfolge aus:","Remplissez ce classeur dans l'ordre suivant :","Remplissez ce classeur dans l'ordre suivant :"]
["Anleitung","Zelle","- Titelblatt","- Page de couverture","- Page de couverture"]
["Anleitung","Zelle","- Formular A","- Formulaire A","- Formulaire A"]
["Anleitung","Zelle","- Formular B","- Formulaire B ","- Formulaire B "]
["Anleitung","Zelle","- Formular C (dieses Formular muss dem Kanton nicht zwingend abgegeben werden)","- Formulaire C (remettre ce formulaire au canton n’est pas obligatoire.)","- Formulaire C (remettre ce formulaire au canton n’est pas obligatoire.)"]
["Anleitung","Zelle","- Beschreibung Massnahmen","Description des mesures d’amélioration ",{"$f":"IF(Sprache=\"FR\",D37,C37)","v":"Description des mesures d’amélioration "}]
["Anleitung","Zelle","- Bemerkungen","- Remarques","- Remarques"]
["Anleitung","Zelle","Zwingende Eingaben (in Formular C lassen sich durch Eingabe eines Textes in der untersten Zeile pro Kategorie neue Zeilen einfügen)","Renseignements obligatoires (il est possible d’ajouter des lignes au formulaire C en saisissant du texte dans la dernière ligne de chaque catégorie)","Renseignements obligatoires (il est possible d’ajouter des lignes au formulaire C en saisissant du texte dans la dernière ligne de chaque catégorie)"]
["Anleitung","Zelle","Fakultative Eingaben","Renseignements facultatifs ","Renseignements facultatifs "]
["Anleitung","Zelle","Wichtige Hinweise","Remarques importantes ","Remarques importantes "]
["Anleitung","Zelle","Zielgrösse der Zielvereinbarung","Valeur cible de la convention d'objectifs ","Valeur cible de la convention d'objectifs "]
["Anleitung","Zelle","Ziel","But ","But "]
["Anleitung","Zelle","Die Zielgrösse dieser Zielvereinbarung ist die Energieeffizienz. Sie ist auf Formular D dargestellt. Sie resultiert aus den markierten Massnahmen in Formular C. Bei der späteren Auswahl der Massnahmen, welche effektiv realisiert werden sollen, ist man jedoch frei. Es dürfen auch andere Massnahmen ausgeführt werden. Wichtig ist einzig das Einhalten des Effizienzzieles. Alle für die Zielvereinbarung relevanten Angaben finden sich auf dem Formular Vereinbarung. Dieses Formular ist zu unterschreiben.","La valeur cible de cette convention d’objectifs est l’efficacité énergétique. Elle figure dans le formulaire D. Elle résulte des mesures d’amélioration mises en évidence dans le formulaire C. Le choix ultérieur des mesures d’amélioration reste libre : il est notamment possible de faire figurer d’autres mesures d’amélioration. Seul le respect de l’objectif d’efficacité est important. Tous les renseignements utiles à la convention d’objectifs se trouvent dans le formulaire consacré à la convention. Ce formulaire doit être signé.","La valeur cible de cette convention d’objectifs est l’efficacité énergétique. Elle figure dans le formulaire D. Elle résulte des mesures d’amélioration mises en évidence dans le formulaire C. Le choix ultérieur des mesures d’amélioration reste libre : il est notamment possible de faire figurer d’autres mesures d’amélioration. Seul le respect de l’objectif d’efficacité est important. Tous les renseignements utiles à la convention d’objectifs se trouvent dans le formulaire consacré à la convention. Ce formulaire doit être signé."]
["Anleitung","Zelle","Disclaimer","Exclusion de responsabilité","Exclusion de responsabilité"]
["Anleitung","Zelle","Diese Arbeitsmappe wurde im Auftrag des Amts für Umweltkoordination und Energie des Kantons Bern erstellt. Weder der Auftraggeber noch der Ersteller haften für die Richtigkeit der Resultate oder Schlussfolgerungen, welche aus dieser Arbeitsmappe gezogen werden. Für die Richtigkeit der Angaben haftet der Benutzer dieser Arbeitsmappe.","Le présent classeur a été réalisé sur mandat de l'Office de la coordination environnementale et de l’énergie du canton de Berne. Ni le mandant ni le réalisateur ne répondent de la justesse des résultats ou des conclusions qui résultent de son utilisation. C’est son utilisateur qui répond de la justesse des indications fournies.","Le présent classeur a été réalisé sur mandat de l'Office de la coordination environnementale et de l’énergie du canton de Berne. Ni le mandant ni le réalisateur ne répondent de la justesse des résultats ou des conclusions qui résultent de son utilisation. C’est son utilisateur qui répond de la justesse des indications fournies."]
["Titelblatt","Zelle","Firma / Organisation:","Entreprise / organisation:","Entreprise / organisation:"]
["Titelblatt","Zelle","Hauptadresse:","Adresse principale:",{"$f":"IF(Sprache=\"FR\",D48,C48)","v":"Adresse principale:"}]
["Titelblatt","Zelle","Adresse:","Adresse:","Adresse:"]
["Titelblatt","Zelle","Name:","Nom:","Nom:"]
["Titelblatt","Zelle","Tel.:","Tél.:","Tél.:"]
["Titelblatt","Zelle","E-Mail:","Courriel:","Courriel:"]
["Titelblatt","Zelle","Fax:","Fax:","Fax:"]
["Titelblatt","Zelle","Kontaktperson:","Contact:","Contact:"]
["Titelblatt","Zelle","Standort","Site ","Site "]
["Titelblatt","Zelle","Technische Begleitung:","Appui technique:",{"$f":"IF(Sprache=\"FR\",D56,C56)","v":"Appui technique:"}]
["Titelblatt","Zelle","Erstellungsdatum:","Date de réalisation:","Date de réalisation:"]
["Titelblatt","Zelle","Version:","Version:","Version:"]
["Formular A","Zelle","KZV, Formular A / Allgemeine Angaben zu den Standorten","COC, formulaire A / Renseignements généraux sur les sites d’exploitation ","COC, formulaire A / Renseignements généraux sur les sites d’exploitation "]
["Formular A","Zelle","A.1","A.1","A.1"]
["Formular A","Zelle","A.2","A.2","A.2"]
["Formular A","Zelle","A.3","A.3","A.3"]
["Formular A","Zelle","A.4","A.4","A.4"]
["Formular A","Zelle","A.5","A.5","A.5"]
["Formular A","Zelle","Branche:","Branche:","Branche:"]
["Formular A","Zelle","Geschäftstätigkeit:","Activité:","Activité:"]
["Formular A","Zelle","Anzahl Mitarbeiter Total:","Total des collaborateurs:","Total des collaborateurs:"]
["Formular A","Zelle","Anzahl Mitarbeiter auf Vollzeitstellen umgerechnet:","Nombre de collaborateurs, équivalents plein temps:","Nombre de collaborateurs, équivalents plein temps:"]
["Formular A","Zelle","Betriebsorganisation:","Organisation de l’exploitation:","Organisation de l’exploitation:"]
["Formular A","Zelle","Produktionszeit / Arbeitszeit:","Durée de la production ou du travail:","Durée de la production ou du travail:"]
["Formular A","Zelle","Absatz, Umsatz oder Ausgaben pro Jahr:","Ventes, chiffre d’affaires ou dépenses, par an:","Ventes, chiffre d’affaires ou dépenses, par an:"]
["Formular A","Zelle","Personen","personnes","personnes"]
["Formular A","Zelle","Stunden pro Tag","heures par jour ","heures par jour "]
["Formular A","Zelle","- schichtig","(1 = travail en 1 x 8, 2 = 2 x 8, 3 = 3 x 8)","(1 = travail en 1 x 8, 2 = 2 x 8, 3 = 3 x 8)"]
["Formular A","Zelle","Tage pro Woche","jours par semainejours par semaine ","jours par semainejours par semaine "]
["Formular A","Zelle","Beilagen:","Annexes :","Annexes :"]
["Formular A","Zelle","Firmenbroschüre","Brochure sur l’entreprise","Brochure sur l’entreprise"]
["Formular A","Zelle","Hilfsmittel zum Verbrauch Zieljahr","Consommation de l’année-cible: aide","Consommation de l’année-cible: aide"]
["Formular A","Zelle","Genaue  Bezeichnung:","Désignation précise :","Désignation précise :"]
["Formular B","Zelle","KZV, Formular B / Energieverbrauch unbeeinflusst","COC, formulaire B / consommation énergétique non influencée","COC, formulaire B / consommation énergétique non influencée"]
["Formular B","Zelle","B.1  Angabe der Ausgangsdaten","B.1 Renseignements sur les données de départ ","B.1 Renseignements sur les données de départ "]
["Formular B","Zelle","Energiegewichtungsfaktoren","Facteurs de pondération de l’énergie ","Facteurs de pondération de l’énergie "]
["Formular B","Zelle","Ö/G","M/G","M/G"]
["Formular B","Zelle","F","D","D"]
["Formular B","Zelle","H","B","B"]
["Formular B","Zelle","W","A","A"]
["Formular B","Zelle","E","E","E"]
["Formular B","Zelle","Faktor fossile Brennstoffe","Facteur pour les combustibles fossiles","Facteur pour les combustibles fossiles"]
["Formular B","Zelle","Faktor für Fernwärme","Facteur pour la chaleur à distance ","Facteur pour la chaleur à distance "]
["Formular B","Zelle","Faktor für Biomasse (Holz, Biogas, Klärgas)","Facteur pour le bois, la biomasse, etc.","Facteur pour le bois, la biomasse, etc."]
["Formular B","Zelle","Faktor für weitere Brennstoffe","Facteur pour d’autres combustibles","Facteur pour d’autres combustibles"]
["Formular B","Zelle","Faktor für elektrische Energie","Facteur pour l’énergie électrique ","Facteur pour l’énergie électrique "]
["Formular B","Zelle","Anteil Heizung","Part liée au chauffage ","Part liée au chauffage "]
["Formular B","Zelle","Anteil Heizung auf Heizöl","Part du mazout liée au chauffage ","Part du mazout liée au chauffage "]
["Formular B","Zelle","Anteil Heizung auf Erdgas","Part du gaz naturel liée au chauffage ",{"$f":"IF(Sprache=\"FR\",D95,C95)","v":"Part du gaz naturel liée au chauffage "}]
["Formular B","Zelle","Anteil Heizung auf Fernwärme","Part de la chal. à dist. liée au chauffage ","Part de la chal. à dist. liée au chauffage "]
["Formular B","Zelle","Anteil Heizung Biomasse (Holz, Biogas, Klärgas)","Part du bois, biogaz, etc. liée au chauffage ","Part du bois, biogaz, etc. liée au chauffage "]
["Formular B","Zelle","Anteil Heizung auf weitere Brennstoffe","Part d’autres comb. liée au chauffage ","Part d’autres comb. liée au chauffage "]
["Formular B","Zelle","Anteil Heizung auf elektrische Energie","Part de l’énergie él. liée au chauffage ","Part de l’énergie él. liée au chauffage "]
["Formular B","Zelle","Basisjahr und Ausgangsjahr","Année de référence et année initiale",{"$f":"IF(Sprache=\"FR\",D100,C100)","v":"Année de référence et année initiale"}]
["Formular B","Zelle","Als Basisjahr soll das letzte vollendete Kalenderjahr gewählt werden. Es dient als Referenz, an dem die Massnahmenwirkung gemessen wird.\nDas Ausgangsjahr ist das Jahr 0 des Zielpfades. Grundsätzlich entspricht das Ausgangsjahr dem Basisjahr. Falls Massnahmen aus vergangenen Jahren rückwirkend in die Vereinbarung einbezogen werden, wird das Ausgangsjahr entsprechend zurückgesetzt.","Choisir comme année de référence la dernière année civile révolue. Elle constituera la référence à laquelle l’effet des mesures d’amélioration sera mesuré. L’année initiale est l’année zéro de la trajectoire de réduction. L’année initiale est en général aussi l’année de référence. Si des mesures d’amélioration mises en œuvre au cours des années précédentes sont intégrées dans la convention d’objectifs avec effet rétroactif, l’année initiale est également reculée en conséquence.","Choisir comme année de référence la dernière année civile révolue. Elle constituera la référence à laquelle l’effet des mesures d’amélioration sera mesuré. L’année initiale est l’année zéro de la trajectoire de réduction. L’année initiale est en général aussi l’année de référence. Si des mesures d’amélioration mises en œuvre au cours des années précédentes sont intégrées dans la convention d’objectifs avec effet rétroactif, l’année initiale est également reculée en conséquence."]
["Formular B","Zelle","Heizgradtage Kanton Bern","Degrés-jours du canton de Berne",{"$f":"IF(Sprache=\"FR\",D102,C102)","v":"Degrés-jours du canton de Berne"}]
["Formular B","Zelle","Zuordnung der Klimastationen im Kanton Bern für Grossverbraucher:\n\n- Messstation Bern-Liebefeld für Gebäude, die auf eine Höhe von 800 Meter und darunter liegen;\n- Messstation Adelboden für Gebäude, die auf einer Höhe von über 800 Metern liegen.\n\nBitte verwenden Sie den Durchschnitt der Heizgradtage für das entsprechende Kalenderjahr. Die Zahlen können unter folgendem Link eingesehen werden:","Attribution des stations climatiques du canton de Berne pour les gros consommateurs :\n\n- station de Bern-Liebefeld, pour les bâtiments situés à une altitude égale ou inférieure à 800 mètres ;\n- station d’Adelboden, pour les bâtiments situés à une altitude supérieure à 800 mètres.\n\nVeuillez utiliser pour les degrés-jours la moyenne cantonale de l’année civile considérée. Vous trouvez les chiffres utiles à l’adresse suivante :\n","Attribution des stations climatiques du canton de Berne pour les gros consommateurs :\n\n- station de Bern-Liebefeld, pour les bâtiments situés à une altitude égale ou inférieure à 800 mètres ;\n- station d’Adelboden, pour les bâtiments situés à une altitude supérieure à 800 mètres.\n\nVeuillez utiliser pour les degrés-jours la moyenne cantonale de l’année civile considérée. Vous trouvez les chiffres utiles à l’adresse suivante :\n"]
["Formular B","Link","http://www.be.ch/grossverbraucher","http://www.be.ch/grosconsommateurs",{"$f":"IF(Sprache=\"FR\",D104,C104)","v":"http://www.be.ch/grosconsommateurs"}]
["Formular B","Link","Indikatoren","Indicateurs","Indicateurs"]
["Formular B","Link","Geeignete Produktionsindikatoren können beispielsweise Mengenangaben zu Rohstoffen, Zwischenprodukten und Endprodukten, die Betriebszeiten oder die Energiebezugsflächen umfassen. Die Produktionsindikatoren müssen mit dem Energieverbrauch des Unternehmens stark korrelieren und in ihrer Summe das Unternehmen bzgl. Energieverbrauch in seiner Gesamtheit möglichst vollständig abbilden.","Exemples d’indicateurs de production pertinents : volumes chiffrés relatifs aux matières premières, aux produits semi-finis ou aux produits finis, qui englobent les horaires d’exploitation ou les surfaces de référence énergétique. Les indicateurs de production doivent corréler fortement avec la consommation d'énergie, et leur somme doit donner une image aussi complète que possible de la consommation énergétique globale de l'entreprise.","Exemples d’indicateurs de production pertinents : volumes chiffrés relatifs aux matières premières, aux produits semi-finis ou aux produits finis, qui englobent les horaires d’exploitation ou les surfaces de référence énergétique. Les indicateurs de production doivent corréler fortement avec la consommation d'énergie, et leur somme doit donner une image aussi complète que possible de la consommation énergétique globale de l'entreprise."]
["Formular B","Zelle","Basisjahr / Dauer Zielvereinbarung sowie betriebliches Wachstum","Année de réf. / durée de validité de la CO et croissance de la production ","Année de réf. / durée de validité de la CO et croissance de la production "]
["Formular B","Zelle","Ausgangsjahr","Année initiale","Année initiale"]
["Formular B","Zelle","Basisjahr","Année de réf.","Année de réf."]
["Formular B","Zelle","Heizgradtage im Basisjahr (siehe Hinweis)","Degrés-jours de l’année de réf. (voir la note)","Degrés-jours de l’année de réf. (voir la note)"]
["Formular B","Zelle","Dauer der Zielvereinbarung","Durée de validité de la convention d’objectifs ","Durée de validité de la convention d’objectifs "]
["Formular B","Zelle","Mutmassliches jährl. Wachstum des Betr.","Production : croissance prévis. par an ","Production : croissance prévis. par an "]
["Formular B","Zelle","Elastizität","Élasticité","Élasticité"]
["Formular B","Zelle","Jahr","Année","Année"]
["Formular B","Zelle","B.2  Angabe der absoluten Energiebezüge","B.2 Renseignements sur les achats d’énergie absolus ","B.2 Renseignements sur les achats d’énergie absolus "]
["Formular B","Zelle","Energieverbrauch ","Cons. d’énergie ","Cons. d’énergie "]
["Formular B","Zelle","ungew. / ohne HGT-Korr.","non pond. / non corr. DJ","non pond. / non corr. DJ"]
["Formular B","Zelle","ungew. / mit HGT-Korr.","non pond. / corr. DJ ","non pond. / corr. DJ "]
["Formular B","Zelle","gewichtet / mit HGT-Korr.","pond. / corr. DJ ",{"$f":"IF(Sprache=\"FR\",D119,C119)","v":"pond. / corr. DJ "}]
["Formular B","Zelle","Zieljahr","Année-cible :","Année-cible :"]
["Formular B","Zelle","Thermische Energie:","Énergie thermique:",{"$f":"IF(Sprache=\"FR\",D121,C121)","v":"Énergie thermique:"}]
["Formular B","Zelle","Heizöl","Mazout","Mazout"]
["Formular B","Zelle","Erdgas","Gaz naturel",{"$f":"IF(Sprache=\"FR\",D123,C123)","v":"Gaz naturel"}]
["Formular B","Zelle","Fernwärme","Chaleur à distance ","Chaleur à distance "]
["Formular B","Zelle","Biomasse (Holz, Biogas, Klärgas)","Bois, biomasse, biogaz","Bois, biomasse, biogaz"]
["Formular B","Zelle","Weitere Brennstoffe","Autres combustibles ","Autres combustibles "]
["Formular B","Zelle","Thermische Energie Total","Total énergie thermique ","Total énergie thermique "]
["Formular B","Zelle","Elektrische Energie Total","Total énergie électrique ","Total énergie électrique "]
["Formular B","Zelle","Jahresenergiebezug","Achat annuel d’énergie ","Achat annuel d’énergie "]
["Formular B","Zelle","B.3 Indikatoren","B.3 Indicateurs","B.3 Indicateurs"]
["Formular B","Zelle","Bezeichnung Indikatoren","Désignation des indic.","Désignation des indic."]
["Formular B","Zelle","Einheit","Unité","Unité"]
["Formular B","Zelle","Indikator 1","Indicateur 1 ","Indicateur 1 "]
["Formular B","Zelle","Indikator 2","Indicateur 2 ","Indicateur 2 "]
["Formular B","Zelle","Indikator 3","Indicateur 3 ","Indicateur 3 "]
["Formular B","Zelle","Indikator 4","Indicateur 4 ","Indicateur 4 "]
["Formular B","Zelle","Indikator 5","Indicateur 5 ","Indicateur 5 "]
["Formular C","Zelle","KZV, Formular C / Neue Massnahmen und Wirtschaftlichkeit","COC, formulaire C / nouvelles mesures d’amélioration et rentabilité","COC, formulaire C / nouvelles mesures d’amélioration et rentabilité"]
["Formular C","Zelle","Jahresenergiebezug des Jahres Basisjahr+10 mit HGT-Korr., ungew.","Consommation annuelle d’énergie de l’année de référence + 10, normée DJ, non pond.","Consommation annuelle d’énergie de l’année de référence + 10, normée DJ, non pond."]
["Formular C","Zelle","Jahresenergiebezug des Jahres Basisjahr+10 mit HGT-Korr., gewichtet","Consommation annuelle d’énergie de l’année de référence + 10, normée DJ, pond.","Consommation annuelle d’énergie de l’année de référence + 10, normée DJ, pond."]
["Formular C","Zelle","Gemäss Kanton Bern gelten Massnahmen mit einem statischen Payback von unter 8 Jahren (Haustechnik oder Gebäudehülle) beziehungsweise unter 4 Jahren (Produktion oder Dienstleistungen) als wirtschaftlich.","Pour le canton de Berne, les mesures d’amélioration dont le retour sur investissement statique est de moins de 8 ans (pour la technique ou l’enveloppe du bâtiment) et de moins de 4 ans (pour la production ou les services) sont rentables.","Pour le canton de Berne, les mesures d’amélioration dont le retour sur investissement statique est de moins de 8 ans (pour la technique ou l’enveloppe du bâtiment) et de moins de 4 ans (pour la production ou les services) sont rentables."]
["Formular C","Zelle","C.1 Liste von Massnahmen ab dem Ausgangsjahr, welche zur Zielbildung dienen (es müssen nicht genau diese Massnahmen realisiert werden)","C.1 Liste des MA depuis l’année initiale qui servent à constituer l’objectif (la réalisation de ces mesures précisément n’est pas obligatoire)","C.1 Liste des MA depuis l’année initiale qui servent à constituer l’objectif (la réalisation de ces mesures précisément n’est pas obligatoire)"]
["Formular C","Zelle","1) Die prozentualen Einsparungen werden relativ zum prognostizierten Energieverbrauch in 10 Jahren (ausgehend vom Basisjahr) berechnet.","1) Les économies en pourcentage sont calculées en fonction de la consommation énergétique prévue dans dix ans (à compter de l’année de référence).",{"$f":"IF(Sprache=\"FR\",D143,C143)","v":"1) Les économies en pourcentage sont calculées en fonction de la consommation énergétique prévue dans dix ans (à compter de l’année de référence)."}]
["Formular C","Zelle","2) als geplantes Jahr für die Umsetzung sind die nächsten 10 Jahre nach dem Basisjahr zulässig. Falls durch die Anrechnung von bereits realisierten Massnahmen (Liste C.2) das Ausgangsjahr zurückgesetzt wird, ist es möglich, dass gewisse Massnahmen aus der Liste C.1 ausserhalb der Zielvereinbarungsdauer von 10 Jahren zu liegen kommen und deshalb nicht mehr eingerechnet werden.","2) L’année prévue pour la mise en œuvre peut se situer durant les dix années qui suivent l’année de référence. Si l’année initiale est fixée plus tôt dans le temps pour prendre en compte des mesures d’amélioration déjà mises en œuvre (liste C.2), il est possible que des mesures d’amélioration de la liste C.1 se trouvent de ce fait en dehors de la durée de validité de dix ans de la convention d’objectifs et qu’il ne soit donc plus possible de les prendre en compte.","2) L’année prévue pour la mise en œuvre peut se situer durant les dix années qui suivent l’année de référence. Si l’année initiale est fixée plus tôt dans le temps pour prendre en compte des mesures d’amélioration déjà mises en œuvre (liste C.2), il est possible que des mesures d’amélioration de la liste C.1 se trouvent de ce fait en dehors de la durée de validité de dix ans de la convention d’objectifs et qu’il ne soit donc plus possible de les prendre en compte."]
["Formular C","Zelle","3) Nur der Kostenanteil Energie (KE) der Investition wird für die Berechnung des Paybacks berücksichtigt.","3) Seule la part des coûts de l’investissement liée à l’énergie (%E) est prise en compte pour calculer le retour sur investissement.","3) Seule la part des coûts de l’investissement liée à l’énergie (%E) est prise en compte pour calculer le retour sur investissement."]
["Formular C","Zelle","4)  Wirtschaftliche Massnahmen werden automatisch in die ZV einbezogen und mit \"X\" markiert. Die Felder können aber überschrieben werden, sodass auch unwirtschaftliche Massnahmen einbezogen werden können oder wirtschaftliche Massnahmen nicht einbezogen werden können (für letzteres ist eine Begründung notwendig).","4) Les mesures d’amélioration rentables sont automatiquement intégrées dans la CO et elles sont signalées par une croix. Mais il est possible d’écraser les champs pour intégrer des mesures d’amélioration non rentables ou pour ne pas intégrer des mesures d’amélioration rentables (dans ce dernier cas, il faut en indiquer les raisons).","4) Les mesures d’amélioration rentables sont automatiquement intégrées dans la CO et elles sont signalées par une croix. Mais il est possible d’écraser les champs pour intégrer des mesures d’amélioration non rentables ou pour ne pas intégrer des mesures d’amélioration rentables (dans ce dernier cas, il faut en indiquer les raisons)."]
["Formular C","Zelle","5) Die prozentualen Einsparungen werden relativ zum prognostizierten Verbrauch des Zieljahres berechnet.","5) Les économies en pourcentage sont calculées par rapport à la consommation prévue de l’année cible.","5) Les économies en pourcentage sont calculées par rapport à la consommation prévue de l’année cible."]
["Formular C","Zelle","6) Die Massnahmen dürfen höchstens 5 Jahre zurückliegen (wobei das Basisjahr das erste zurückliegende Jahr ist). Das Ausgangsjahr wird auf das Jahr vor dem weitest zurückliegenden Umsetzungsjahr gesetzt.","6) Les mesures d’amélioration peuvent remonter dans le temps jusqu’à 5 ans maximum. L’année de référence est alors l’année la plus récente des cinq et l’année initiale est alors l’année qui précède l’année la plus ancienne de mise en œuvre des mesures d’amélioration.",{"$f":"IF(Sprache=\"FR\",D148,C148)","v":"6) Les mesures d’amélioration peuvent remonter dans le temps jusqu’à 5 ans maximum. L’année de référence est alors l’année la plus récente des cinq et l’année initiale est alors l’année qui précède l’année la plus ancienne de mise en œuvre des mesures d’amélioration."}]
["Formular C","Zelle","Nr.","N°","N°"]
["Formular C","Zelle","Kurzbeschreibung","Brève description","Brève description"]
["Formular C","Zelle","Energieeinsparung (Endenergie)","Économie d’énergie (énergie finale) ","Économie d’énergie (énergie finale) "]
["Formular C","Zelle","Ungewichtet","Non pondéré","Non pondéré"]
["Formular C","Zelle","Einsparung 1","Économie 1","Économie 1"]
["Formular C","Zelle","Einsparung 2","Économie 2","Économie 2"]
["Formular C","Zelle","Art","G.","G."]
["Formular C","Zelle","Haustechnikanlagen / Gebäudehülle","Installations de technique du bât. / enveloppe","Installations de technique du bât. / enveloppe"]
["Formular C","Zelle","Bedienung: Durch Eingabe eines Textes in der untersten Zeile pro Kategorie, wird jeweils eine neue Zeile eingefügt.","Indications d’emploi : l’introduction de texte dans la dernière ligne de chaque catégorie entraîne l’ajout d’une nouvelle ligne. ","Indications d’emploi : l’introduction de texte dans la dernière ligne de chaque catégorie entraîne l’ajout d’une nouvelle ligne. "]
["Formular C","Zelle","Total","Total","Total"]
["Formular C","Zelle","Gewichtet","Pondéré","Pondéré"]
["Formular C","Zelle","geplante Umsetzung","Réalisation prévue","Réalisation prévue"]
["Formular C","Zelle","Energiepreis","Prix de l’énergie ","Prix de l’énergie "]
["Formular C","Zelle","(Endenergie)","(Énergie finale)","(Énergie finale)"]
["Formular C","Zelle","Kosten-Einspar.","Écon. (coûts)","Écon. (coûts)"]
["Formular C","Zelle","Investitionen","Investiss.","Investiss."]
["Formular C","Zelle","Pay-back","RSI","RSI"]
["Formular C","Zelle","In ZV","dans CO ","dans CO "]
["Formular C","Zelle","Anteil¹⁾","%¹⁾","%¹⁾"]
["Formular C","Zelle","Jahr²⁾","année²⁾","année²⁾"]
["Formular C","Zelle","Einspar.1","Écon. 1","Écon. 1"]
["Formular C","Zelle","Einspar.2","Écon. 2","Écon. 2"]
["Formular C","Zelle","KE³⁾","%E³⁾","%E³⁾"]
["Formular C","Zelle","aufn.⁴⁾","int.⁴⁾","int.⁴⁾"]
["Formular C","Zelle","Produktionsanlagen / Dienstleistungen","Installations de production / services ","Installations de production / services "]
["Formular C","Zelle","Summe aller neuen möglichen Massnahmen ab Ausgangsjahr","Somme de toutes les nouvelles MA possibles à partir de l’année initiale ","Somme de toutes les nouvelles MA possibles à partir de l’année initiale "]
["Formular C","Zelle","Summe aller in der ZV berücksichtigten und geplanten Massnahmen","Somme de toutes les MA prises en compte dans la CO et prévues","Somme de toutes les MA prises en compte dans la CO et prévues"]
["Formular C","Zelle","Kommentar zur Deklaration auszuführender Massnahmen (fakultativ):","Commentaire concernant l’annonce des mesures d’amélioration à mettre en œuvre (facultatif):","Commentaire concernant l’annonce des mesures d’amélioration à mettre en œuvre (facultatif):"]
["Formular C","Zelle","Begründung weshalb wirtschaftliche Massnahmen nicht umgesetzt werden können:","Expliquer pour quelles raisons les mesures d’amélioration rentables ne peuvent pas être mises en œuvre:",{"$f":"IF(Sprache=\"FR\",D177,C177)","v":"Expliquer pour quelles raisons les mesures d’amélioration rentables ne peuvent pas être mises en œuvre:"}]
["Formular C","Zelle","Kommentar zum Einsparziel (fakultativ da Richtgrösse von 20% Einsparung erreicht wurde):","Commentaire concernant l’économie visée (facultatif puisque le résultat de 20 % a été atteint):",{"$f":"IF(Sprache=\"FR\",D178,C178)","v":"Commentaire concernant l’économie visée (facultatif puisque le résultat de 20 % a été atteint):"}]
["Formular C","Zelle","Begründung weshalb die Richtgrösse von 20% Einsparung nicht erreicht werden kann:","Expliquer pour quelles raisons le résultat de 20 % ne peut pas être atteint:","Expliquer pour quelles raisons le résultat de 20 % ne peut pas être atteint:"]
["Formular C","Zelle","C.2 Liste von Massnahmen, die inkl. Basisjahr bis zu 5 Jahre zurückliegen","C.2 Liste des mesures qui remontent dans le temps jusqu’à 5 ans, année de référence comprise","C.2 Liste des mesures qui remontent dans le temps jusqu’à 5 ans, année de référence comprise"]
["Formular C","Zelle","Jahresenergiebezug des Jahres 2014 mit HGT-Korr., gewichtet","Achat annuel d’énergie en 2014 normé DJ, pondéré","Achat annuel d’énergie en 2014 normé DJ, pondéré"]
["Formular C","Zelle","Jahresenergiebezug des Zieljares mit HGT-Korr., gewichtet","Achat annuel d’énergie de l’année cible normé DJ, pondéré","Achat annuel d’énergie de l’année cible normé DJ, pondéré"]
["Formular C","Zelle","- Realisierte Massnahmen sind nur auszufüllen, falls mit den umzusetzenden neuen Massnahmen die Richtgrösse von 20% nicht erreicht wird.","- Indiquez les MA mises en œuvre seulement si les nouvelles MA à mettre en œuvre ne permettent pas d’atteindre le résultat indicatif de 20 %.","- Indiquez les MA mises en œuvre seulement si les nouvelles MA à mettre en œuvre ne permettent pas d’atteindre le résultat indicatif de 20 %."]
["Formular C","Zelle","- Eine zusätzliche Begründung ist anzugeben, falls auch zusammen mit den Massnahmen der letzten 5 Jahre die Richtgrösse von 20% nicht erreicht wird.",".- Si le résultat indicatif de 20 % n’est pas atteint même compte tenu des MA mises en œuvre les 5 dernières années, indiquez-en aussi la raison.",".- Si le résultat indicatif de 20 % n’est pas atteint même compte tenu des MA mises en œuvre les 5 dernières années, indiquez-en aussi la raison."]
["Formular C","Zelle","Umsetzung","Mise en œuvre ","Mise en œuvre "]
["Formular C","Zelle","Payback","RSI","RSI"]
["Formular C","Zelle","Bedienung: Durch Eingabe eines Textes in der untersten Zeile pro Kategorie, wird jeweils eine neue Zeile eingefügt.","Indications d’emploi : l’introduction de texte dans la dernière ligne de chaque catégorie entraîne l’ajout d’une nouvelle ligne.",{"$f":"IF(Sprache=\"FR\",D187,C187)","v":"Indications d’emploi : l’introduction de texte dans la dernière ligne de chaque catégorie entraîne l’ajout d’une nouvelle ligne."}]
["Formular C","Zelle","Eingabefelder gesperrt: Bitte zuerst Punkt C.1 komplett ausfüllen!","Champs de saisie bloqués: complétez le point C.1!","Champs de saisie bloqués: complétez le point C.1!"]
["Formular C","Zelle","Massnahmen der letzten 5 Jahre (fakultativ)","MA des 5 dernières années (facultatif)","MA des 5 dernières années (facultatif)"]
["Formular C","Zelle","Massnahmen der letzten 5 Jahre","Mesures d’amélioration des 5 dernières années","Mesures d’amélioration des 5 dernières années"]
["Formular C","Zelle","Summe aller realisierten Massnahmen der letzen 5 Jahre","Somme de toutes les MA mises en œuvre les 5 dernières années",{"$f":"IF(Sprache=\"FR\",D191,C191)","v":"Somme de toutes les MA mises en œuvre les 5 dernières années"}]
["Formular C","Zelle","Summe aller berücksichtigten, geplanten Massnahmen bis und mit Zieljahr","Somme de toutes les MA prises en compte et planifiées jusqu’à l’année cible","Somme de toutes les MA prises en compte et planifiées jusqu’à l’année cible"]
["Formular C","Zelle","Summe aller realisierten und geplanten, neuen Massnahmen","Somme de toutes les nouvelles MA mises en œuvre et réalisées ","Somme de toutes les nouvelles MA mises en œuvre et réalisées "]
["Formular C","Zelle","Eingabefeld gesperrt: Bitte zuerst Punkt C.1 komplett ausfüllen!","Champ de saisie bloqué: veuillez d’abord remplir complétement le point C.1!","Champ de saisie bloqué: veuillez d’abord remplir complétement le point C.1!"]
["Formular C","Zelle","Kommentar zu den Massnahmen der letzten 5 Jahre (fakultativ da Richtgrösse von 20% erreicht):","Commentaire concernant les mesures d’amélioration des 5 dernières années (facultatif puisque le résultat de 20% a été atteint):","Commentaire concernant les mesures d’amélioration des 5 dernières années (facultatif puisque le résultat de 20% a été atteint):"]
["Formular C","Zelle","Begründung weshalb die Richtgrösse von 20% auch zusammen mit Massnahmen der letzten 5 Jahre nicht erreicht werden kann:","Expliquer pour quelles raisons le résultat de 20% ne peut pas être atteint même compte tenu des mesures d’amélioration des 5 dernières années:","Expliquer pour quelles raisons le résultat de 20% ne peut pas être atteint même compte tenu des mesures d’amélioration des 5 dernières années:"]
["Beschreibung Massnahmen","Zelle","Beschreibung Massnahmen","Description des mesures d’amélioration ",{"$f":"IF(Sprache=\"FR\",D197,C197)","v":"Description des mesures d’amélioration "}]
["Beschreibung Massnahmen","Zelle","Hinweise:","Remarques:","Remarques:"]
["Beschreibung Massnahmen","Zelle","- Die im Formular C aufgeführten Massnahmen müssen* in diesem Arbeitsblatt detailliert und nachvollziehbar beschrieben werden.","Les mesures d’amélioration qui figurent dans le formulaire C doivent* être décrites de manière détaillée et compréhensible dans cette feuille.","Les mesures d’amélioration qui figurent dans le formulaire C doivent* être décrites de manière détaillée et compréhensible dans cette feuille."]
["Beschreibung Massnahmen","Zelle","- Die Beschreibungsfelder werden erst angezeigt, wenn die Massnahmennummer in Formular C eingetragen wurde.","- Les champs descriptifs s’affichent seulement si le numéro de la mesure d’amélioration a été inscrit dans le formulaire C.","- Les champs descriptifs s’affichent seulement si le numéro de la mesure d’amélioration a été inscrit dans le formulaire C."]
["Beschreibung Massnahmen","Zelle","- Wird für die Massnahmenbeschreibung mehr Platz benötigt, kann die Zeilenhöhe manuell angepasst werden.","- Si vous avez besoin de plus de place pour décrire les mesures d’amélioration, vous pouvez adapter la hauteur des lignes.","- Si vous avez besoin de plus de place pour décrire les mesures d’amélioration, vous pouvez adapter la hauteur des lignes."]
["Beschreibung Massnahmen","Zelle","- Zeilenumbrüche können durch die Tastenkombination \"Alt\" + \"Enter\" eingefügt werden.","- Pour passer à la ligne, pressez simultanément sur les touches Alt & Enter.","- Pour passer à la ligne, pressez simultanément sur les touches Alt & Enter."]
["Beschreibung Massnahmen","Zelle","* Alternativ können die Massnahmen auch in einer Beilage beschrieben werden. Auch dort müssen Einspar- und Kostenberechnungen nachvollziehbar aufzeigt werden.","* Autre solution, décrivez les mesures d’amélioration dans un document que vous annexez. Les calculs d’économies et de coûts doivent également être présentés clairement dans cette annexe.","* Autre solution, décrivez les mesures d’amélioration dans un document que vous annexez. Les calculs d’économies et de coûts doivent également être présentés clairement dans cette annexe."]
["Beschreibung Massnahmen","Zelle","Detaillierte Beschreibung der Massnahme:","Description détaillée de la MA:","Description détaillée de la MA:"]
["Beschreibung Massnahmen","Zelle","Beschreibung der Einsparberechung:","Description du calcul de l’économie:","Description du calcul de l’économie:"]
["Beschreibung Massnahmen","Zelle","Beschreibung der Kostenberechnung:","Description du calcul des coûts:","Description du calcul des coûts:"]
["Formular D","Zelle","KZV, Formular D / Ziele","COC, formulaire D / objectifs ",{"$f":"IF(Sprache=\"FR\",D207,C207)","v":"COC, formulaire D / objectifs "}]
["Formular D","Zelle","D.1  Zielsetzungen","D.1 Objectifs","D.1 Objectifs"]
["Formular D","Zelle","ungewichtete Energieverbräuche, mit HGT-Korrektur","consommations d’énergie non pondérées, corrigées DJ",{"$f":"IF(Sprache=\"FR\",D209,C209)","v":"consommations d’énergie non pondérées, corrigées DJ"}]
["Formular D","Zelle","Zieljahr unbeeinfl.","Année-cible non infl.","Année-cible non infl."]
["Formular D","Zelle","neue Massnahmenwirkung","Nouvel effet des MA","Nouvel effet des MA"]
["Formular D","Zelle","Zieljahr, mit neuer Massnahmenwirkung","Année-cible avec nouvel effet des MA","Année-cible avec nouvel effet des MA"]
["Formular D","Zelle","Für die Berechnung des Zielpfades wird angenommen, dass der Energieverbrauch des Ausgangsjahres dem Verbrauch des Basisjahrs entspricht.","Il est admis, pour le calcul de la trajectoire de réduction, que la consommation énergétique de l’année initiale correspond à celle de l’année de référence.",{"$f":"IF(Sprache=\"FR\",D213,C213)","v":"Il est admis, pour le calcul de la trajectoire de réduction, que la consommation énergétique de l’année initiale correspond à celle de l’année de référence."}]
["Formular D","Zelle","D.2  Zielgrösse der Zielvereinbarung","D.2 Valeur cible de la convention d’objectifs",{"$f":"IF(Sprache=\"FR\",D214,C214)","v":"D.2 Valeur cible de la convention d’objectifs"}]
["Formular D","Zelle","Zielvorgabe Energieeffizienz","Objectif fixé pour l’efficacité énergétique ","Objectif fixé pour l’efficacité énergétique "]
["Formular D","Zelle","D.3  Prognose Energieeffizienz und Zielpfad","D.3 Efficacité énergétique et trajectoire de réduction prévues ",{"$f":"IF(Sprache=\"FR\",D216,C216)","v":"D.3 Efficacité énergétique et trajectoire de réduction prévues "}]
["Formular D","Zelle","Prognose Massnahmen","MA prévues","MA prévues"]
["Formular D","Zelle","lineare Progession","Progression linéaire","Progression linéaire"]
["Formular D","Zelle","minimales Zwischenziel","But inter-médiaire min.","But inter-médiaire min."]
["Formular D","Zelle","Energieeffizienz","Efficacité énerg.","Efficacité énerg."]
["Vereinbarung","Zelle","Kantonale Zielvereinbarung für Grossverbraucher von Energie","Convention d’objectifs cantonale pour gros consommateurs d’énergie\n",{"$f":"IF(Sprache=\"FR\",D221,C221)","v":"Convention d’objectifs cantonale pour gros consommateurs d’énergie\n"}]
["Vereinbarung","Zelle","zwischen","entre","entre"]
["Vereinbarung","Zelle","und","et","et"]
["Vereinbarung","Zelle","dem Grossverbraucher / der Gruppe von Grossverbrauchern:","l’entreprise grosse consommatrice / le groupe de gros consommateurs :","l’entreprise grosse consommatrice / le groupe de gros consommateurs :"]
["Vereinbarung","Zelle","Unternehmensidentifikations-Nr. (UID): ","N° d’identification de l'entreprise (IDE) :","N° d’identification de l'entreprise (IDE) :"]
["Vereinbarung","Zelle","(der Grossverbraucher)","(ci-après le gros consommateur)","(ci-après le gros consommateur)"]
["Vereinbarung","Zelle","der Bau-, Verkehrs- und Energiedirektion des Kantons Bern, Amt für Umweltkoordination und Energie","la Direction des travaux publics, des transports et de l'énergie, Office de la coordination environnementale et de l’énergie","la Direction des travaux publics, des transports et de l'énergie, Office de la coordination environnementale et de l’énergie"]
["Vereinbarung","Zelle","vertreten durch","représenté par",{"$f":"IF(Sprache=\"FR\",D228,C228)","v":"représenté par"}]
["Vereinbarung","Zelle","Ulrich Nyffenegger, Amtsvorsteher","Ulrich Nyffenegger, Chef d'office","Ulrich Nyffenegger, Chef d'office"]
["Vereinbarung","Zelle","(das Amt) ","(ci-après le Service)","(ci-après le Service)"]
["Vereinbarung","Zelle",null,null,0]
["Vereinbarung","Zelle","Die Parteien schliessen gestützt auf Artikel 54 Abs. 1 des kantonalen Energiegesetzes (KEnG) vom 15. Mai 2011 und Artikel 41 der kantonalen Energieverordnung (KEnV) vom 26. Oktober 2011 die folgende Zielvereinbarung ab.","Les parties concluent, conformément à l'article 54, alinéa 1 de la loi cantonale sur l'énergie du 15 mai 2011 (LCEn) et à l'article 41 de l'ordonnance cantonale sur l'énergie du 26 octobre 2011 (OCEn), la convention d'objectifs suivante.","Les parties concluent, conformément à l'article 54, alinéa 1 de la loi cantonale sur l'énergie du 15 mai 2011 (LCEn) et à l'article 41 de l'ordonnance cantonale sur l'énergie du 26 octobre 2011 (OCEn), la convention d'objectifs suivante."]
["Vereinbarung","Zelle","1. Gegenstand der Vereinbarung","1. Objet de la convention","1. Objet de la convention"]
["Vereinbarung","Zelle","Die vorliegende kantonale Zielvereinbarung beinhaltet die Umsetzung von Optimierungsmassnahmen am Standort des Grossverbrauchers beziehungsweise an den Standorten der Grossverbraucher einer Gruppe. Mit diesen Massnahmen soll die Energieeffizienz innerhalb von 10 Jahren von 100 % auf","La présente convention d’objectifs cantonale consiste à mettre en œuvre sur le site de l’entreprise grosse consommatrice/les sites du groupe de gros consommateurs, dans un délai de 10 ans, des mesures d'optimisation permettant d’atteindre une efficacité énergétique de",{"$f":"IF(Sprache=\"FR\",D234,C234)","v":"La présente convention d’objectifs cantonale consiste à mettre en œuvre sur le site de l’entreprise grosse consommatrice/les sites du groupe de gros consommateurs, dans un délai de 10 ans, des mesures d'optimisation permettant d’atteindre une efficacité énergétique de"}]
["Vereinbarung","Zelle","erhöht werden. Darüber hinaus müssen die minimalen Zwischenziele erreicht werden.",", en partant d’une efficacité de 100%. Simultanément, il s’agit également de respecter des objectifs intermédiaires minimaux.",", en partant d’une efficacité de 100%. Simultanément, il s’agit également de respecter des objectifs intermédiaires minimaux."]
["Vereinbarung","Zelle","2. Inhalt der Vereinbarung","2. Contenu de la convention","2. Contenu de la convention"]
["Vereinbarung","Zelle","Die Formulare A bis D sowie die Beschreibung der Massnahmen im Anhang sind integrierender Bestandteil dieser Vereinbarung.\n","Les formulaires A à D, ainsi que la description des mesures, en annexe, font partie intégrante de la présente convention.","Les formulaires A à D, ainsi que la description des mesures, en annexe, font partie intégrante de la présente convention."]
["Vereinbarung","Zelle",null,null,0]
["Vereinbarung","Zelle","3. Pflichten des Grossverbrauchers bzw. der Gruppe von Grossverbrauchern","3. Obligations du gros consommateur/du groupe","3. Obligations du gros consommateur/du groupe"]
["Vereinbarung","Zelle","a.   Die Optimierungsmassnahmen gemäss dem im Anhang festgelegten Plan umsetzen.","a.   Mettre en œuvre les mesures d’optimisation conformément au planning défini en annexe;","a.   Mettre en œuvre les mesures d’optimisation conformément au planning défini en annexe;"]
["Vereinbarung","Zelle","b.  Jedes Jahr im vorgegebenen Monitoringtool den Energieverbrauch vom vergangenen Jahr sowie die im vergangenen Jahr eingeführten, respektive noch wirksamen Optimierungsmassnahmen erfassen. Die Befreiungen von Vorschriften gemäss Art. 42 KEnV, von denen Gebrauch gemacht wird, und allfällige Kompensationsmassnahmen aufzählen. Den Jahresbericht aufstellen und ihn dem Amt spätestens zwei Monate nach dem Datum des Inkrafttretens dieser Vereinbarung (Tag/Monat) vorlegen.","b.  Chaque année, saisir dans l'outil de suivi imposé les consommations énergétiques de l’année précédente et les mesures d’optimisation introduites l’année précédente, ainsi que celles des années antérieures encore pérennes. Introduire également l’éventuelle mise en œuvre d’actions faisant l’objet de dispenses selon l’article 42 OCEn. Finaliser le rapport annuel et le transmettre au Service au plus tard deux mois après la date (jour/mois) de l’entrée en vigueur de la présente convention;","b.  Chaque année, saisir dans l'outil de suivi imposé les consommations énergétiques de l’année précédente et les mesures d’optimisation introduites l’année précédente, ainsi que celles des années antérieures encore pérennes. Introduire également l’éventuelle mise en œuvre d’actions faisant l’objet de dispenses selon l’article 42 OCEn. Finaliser le rapport annuel et le transmettre au Service au plus tard deux mois après la date (jour/mois) de l’entrée en vigueur de la présente convention;"]
["Vereinbarung","Zelle","c.   Die jährlichen Zwischenziele zur Steigerung der Energieeffizienz gemäss Formular D im Anhang einhalten.","c.   Respecter les objectifs intermédiaires annuels d’évolution de l’efficacité énergétique définis au formulaire D de l’annexe.","c.   Respecter les objectifs intermédiaires annuels d’évolution de l’efficacité énergétique définis au formulaire D de l’annexe."]
["Vereinbarung","Zelle","4. Pflichten des Amts","4. Obligations du Service","4. Obligations du Service"]
["Vereinbarung","Zelle","a.   Den Jahresbericht über das vergangene Jahr innerhalb von zwei Monaten nach Erhalt prüfen und dazu Stellung nehmen.\n- Falls die Ziele eingehalten wurden, validiert das Amt den Jahresbericht.\n- Falls die Ziele nicht eingehalten wurden, kommt Artikel 7 dieser Vereinbarung zur Anwendung.\n","a.   Examiner et prendre position sur le rapport annuel de l’année précédente dans les deux mois après réception.\n- Dans le cas où les objectifs sont respectés, le Service valide le rapport annuel.\n- Dans le cas où les objectifs ne sont pas respectés, l’article 7 de la présente convention s’applique.","a.   Examiner et prendre position sur le rapport annuel de l’année précédente dans les deux mois après réception.\n- Dans le cas où les objectifs sont respectés, le Service valide le rapport annuel.\n- Dans le cas où les objectifs ne sont pas respectés, l’article 7 de la présente convention s’applique."]
["Vereinbarung","Zelle","b.   Das Amt kann schriftlich zusätzliche Informationen verlangen oder vor Ort Kontrollen und Messungen durchführen. Falls Mängel aufgedeckt werden und eine Gegenexpertise aufgestellt werden muss, können deren Kosten dem Grossverbraucher in Rechnung gestellt werden.","b.   Le Service peut requérir des éléments supplémentaires par écrit ou en procédant à des contrôles et mesurages sur site. Si des défauts sont constatés et que des contre-expertises sont nécessaires, le coût de celles-ci pourra être facturé au gros consommateur.","b.   Le Service peut requérir des éléments supplémentaires par écrit ou en procédant à des contrôles et mesurages sur site. Si des défauts sont constatés et que des contre-expertises sont nécessaires, le coût de celles-ci pourra être facturé au gros consommateur."]
["Vereinbarung","Zelle","5. Gruppe von Grossverbrauchern","5. Groupe de gros consommateurs","5. Groupe de gros consommateurs"]
["Vereinbarung","Zelle","a.   Die Gruppe organisiert sich selber und legt insbesondere die Entschädigung des Moderators, seine Rechte und Verantwortlichkeiten sowie seine Pflichten fest, die über die unter Buchstabe d dieses Artikels aufgezählten Pflichten hinausgehen.\n","En cas de convention collective :\na.   Le groupe s’organise lui-même et définit en particulier le dédommagement du modérateur, ses droits et responsabilités, ainsi que ses devoirs dépassant ceux fixés à la lettre d du présent article;","En cas de convention collective :\na.   Le groupe s’organise lui-même et définit en particulier le dédommagement du modérateur, ses droits et responsabilités, ainsi que ses devoirs dépassant ceux fixés à la lettre d du présent article;"]
["Vereinbarung","Zelle","b.   Sobald die Vereinbarung ausgearbeitet und unterzeichnet ist, können keine neuen Grossverbraucher in die Gruppe aufgenommen werden.","b.  Une fois la convention préparée et signée, de nouveaux gros consommateurs ne peuvent pas rejoindre le groupe ;","b.  Une fois la convention préparée et signée, de nouveaux gros consommateurs ne peuvent pas rejoindre le groupe ;"]
["Vereinbarung","Zelle","c.   Während der Laufzeit der Vereinbarung kann ein Grossverbraucher zurücktreten oder ausgeschlossen werden. Dies muss dem Amt gemeldet werden. Der Massnahmenplan der verbleibenden Gruppe muss angepasst werden. Das Effizienzziel gemäss Artikel 1 dieser Vereinbarung muss aber beibehalten werden.","c.   Pendant la durée de validité de la convention, un gros consommateur peut sortir du groupe ou s’en faire exclure. Ceci doit être annoncé au Service. Le plan d’actions du solde du groupe doit être adapté, mais l’objectif d’efficacité de l’article 1 de la présente convention doit être maintenu ;",{"$f":"IF(Sprache=\"FR\",D249,C249)","v":"c.   Pendant la durée de validité de la convention, un gros consommateur peut sortir du groupe ou s’en faire exclure. Ceci doit être annoncé au Service. Le plan d’actions du solde du groupe doit être adapté, mais l’objectif d’efficacité de l’article 1 de la présente convention doit être maintenu ;"}]
["Vereinbarung","Zelle","d.   Der Moderator übernimmt mindestens die folgenden Aufgaben:\n- Die Gruppe im Rahmen der vorliegenden Zielvereinbarung vertreten.\n- Die Gruppe leiten und koordinieren.\n- Das Monitoringtool für die Erfassung der Daten und deren Verwendung bereitstellen.\n- Die Gruppenmitglieder bei der Erfassung der Resultate im Monitoringsystem unterstützen.\n- Die Daten, die von den Gruppenmitgliedern geliefert werden, sammeln und aggregieren. Die Plausibilität der Daten prüfen und sie auch hinterfragen.\n- Die Gruppe bei der Überwachung des Fortschritts im Hinblick auf die Effizienzziele und bei der Planung von Massnahmen im Falle einer Abweichung vom Zielpfad unterstützen.\n- Dem Amt sowie allfälligen vom Amt beauftragten Auditoren die verlangten Daten und Informationen aushändigen.","d.   Le modérateur assure au minimum les fonctions suivantes :\n- Représentation du groupe dans le cadre de la présente convention d’objectifs ;\n- Conduite et coordination du groupe ;\n- Mise à disposition de l’outil de suivi imposé pour la saisie des données et leur utilisation ;\n- Assistance des membres du groupe pour l’introduction dans le système de monitoring des résultats obtenus ;\n- Collection et agrégation des données fournies par les membres du groupe. Le modérateur a le droit de vérifier la plausibilité des données et de les remettre en question ;\n- Assistance du groupe pour la surveillance des objectifs à atteindre et la planification des mesures à prendre en cas de divergence ;\n- Remise au Service des données et des informations demandées, ainsi qu’aux éventuels auditeurs mandatés par celui-ci.","d.   Le modérateur assure au minimum les fonctions suivantes :\n- Représentation du groupe dans le cadre de la présente convention d’objectifs ;\n- Conduite et coordination du groupe ;\n- Mise à disposition de l’outil de suivi imposé pour la saisie des données et leur utilisation ;\n- Assistance des membres du groupe pour l’introduction dans le système de monitoring des résultats obtenus ;\n- Collection et agrégation des données fournies par les membres du groupe. Le modérateur a le droit de vérifier la plausibilité des données et de les remettre en question ;\n- Assistance du groupe pour la surveillance des objectifs à atteindre et la planification des mesures à prendre en cas de divergence ;\n- Remise au Service des données et des informations demandées, ainsi qu’aux éventuels auditeurs mandatés par celui-ci."]
["Vereinbarung","Zelle","6. Laufzeit der Vereinbarung","6. Durée de la convention","6. Durée de la convention"]
["Vereinbarung","Zelle","a.   Die Vereinbarung tritt am Datum der letzten erforderlichen Unterzeichnung in Kraft. Sie dauert 10 Jahre unter Vorbehalt einer Kündigung gestützt auf Artikel 8 dieser Vereinbarung.","a.   La convention entre en vigueur à la date à laquelle est apposée la dernière des signatures requises. Elle a une durée de 10 ans, sous réserve d’une dénonciation au sens de l’article 8 de la présente convention.","a.   La convention entre en vigueur à la date à laquelle est apposée la dernière des signatures requises. Elle a une durée de 10 ans, sous réserve d’une dénonciation au sens de l’article 8 de la présente convention."]
["Vereinbarung","Zelle","7. Bestimmungen bei Missachtung der Verpflichtungen","7. Dispositions en cas de non-respect des engagements","7. Dispositions en cas de non-respect des engagements"]
["Vereinbarung","Zelle","Das Amt kann die Vereinbarung kündigen, wenn die Effizienzziele, insbesondere die Zwischenziele, nicht erreicht werden. Insbesondere darf die reale Energieeffizienz:\na.   nie unter den minimalen Zwischenzielen liegen;\n","Le Service peut dénoncer la convention si les objectifs d’efficacité énergétique, notamment intermédiaires, ne sont pas atteints : \na.   l’efficacité énergétique réelle ne doit jamais être inférieure aux objectifs intermédiaires minimaux ;","Le Service peut dénoncer la convention si les objectifs d’efficacité énergétique, notamment intermédiaires, ne sont pas atteints : \na.   l’efficacité énergétique réelle ne doit jamais être inférieure aux objectifs intermédiaires minimaux ;"]
["Vereinbarung","Zelle","b.   nicht mehr als zwei Jahre in Folge unter den vereinbarten Zwischenzielen liegen.","b.   l’efficacité énergétique réelle ne doit pas être inférieure aux objectifs intermédiaires convenus pendant plus de deux années consécutives.","b.   l’efficacité énergétique réelle ne doit pas être inférieure aux objectifs intermédiaires convenus pendant plus de deux années consécutives."]
["Vereinbarung","Zelle","8. Kündigung","8. Dénonciation","8. Dénonciation"]
["Vereinbarung","Zelle","a.   Das Amt kann die Vereinbarung mit eingeschriebenem Brief fristlos kündigen, wenn es feststellt, dass die Ziele gemäss Artikel 7 dieser Vereinbarung nicht erreicht wurden.","a.   Une dénonciation avec effet immédiat peut procéder du Service – par courrier recommandé - lorsqu’il constate que les objectifs ne sont pas atteints conformément à l’article 7 de la présente convention.","a.   Une dénonciation avec effet immédiat peut procéder du Service – par courrier recommandé - lorsqu’il constate que les objectifs ne sont pas atteints conformément à l’article 7 de la présente convention."]
["Vereinbarung","Zelle","b.   Auch der Grossverbraucher bzw. die Gruppe kann die Vereinbarung mit eingeschriebenem Brief unter Beachtung einer sechsmonatigen Kündigungsfrist auf das Ende eines Kalenderjahres kündigen.","b.   Elle peut aussi procéder du gros consommateur/du groupe, pour la fin d’une année civile, avec un préavis de six mois, par courrier recommandé.","b.   Elle peut aussi procéder du gros consommateur/du groupe, pour la fin d’une année civile, avec un préavis de six mois, par courrier recommandé."]
["Vereinbarung","Zelle","c.   Unter Beachtung der gleichen Fristen und in der gleichen Form kann auch ein Grossverbraucher aus einer Gruppe austreten oder von ihr ausgeschlossen werden.","c.   En respectant les mêmes délais et forme, un gros consommateur peut quitter un groupe ou en être exclu.","c.   En respectant les mêmes délais et forme, un gros consommateur peut quitter un groupe ou en être exclu."]
["Vereinbarung","Zelle","d.   Ab dem Kündigungsdatum gilt für den Grossverbraucher die Verpflichtung zur Erstellung einer Energieverbrauchsanalyse gemäss Artikel 54 KEnG. Er muss die vorgeschriebenen Massnahmen innerhalb der vom Amt festgelegten Frist umsetzen.","d.   A compter de la date de résiliation de la convention, le gros consommateur a l'obligation de faire établir une analyse de la consommation d'énergie conformément à l'article 53 LCEn. Il est tenu de mettre en œuvre les mesures prescrites dans les délais fixés par l'OCEE.","d.   A compter de la date de résiliation de la convention, le gros consommateur a l'obligation de faire établir une analyse de la consommation d'énergie conformément à l'article 53 LCEn. Il est tenu de mettre en œuvre les mesures prescrites dans les délais fixés par l'OCEE."]
["Vereinbarung","Zelle","9. Gerichtsstand und anwendbares Recht","9. For et droit applicable","9. For et droit applicable"]
["Vereinbarung","Zelle","a.   Gerichtsstand ist Bern.","a.   Le for est à Berne ;","a.   Le for est à Berne ;"]
["Vereinbarung","Zelle","b.   Das Schweizer Recht ist anwendbar.","b.   Le droit suisse est applicable.","b.   Le droit suisse est applicable."]
["Vereinbarung","Zelle","Anhang zur Vereinbarung:","Annexe à la convention :","Annexe à la convention :"]
["Vereinbarung","Zelle","- Formulare A bis D sowie die Beschreibung der Massnahmen.","- Formulaires A à D, ainsi que la description des mesures","- Formulaires A à D, ainsi que la description des mesures"]
["Vereinbarung","Zelle","Ausgefertigt in doppelter Urschrift und unterzeichnet vom Amt, von jedem Grossverbraucher und im Falle einer Gruppe vom Moderator.","Fait en deux exemplaires originaux signés par l'Office, chaque gros consommateur et, en cas de groupe, le modérateur.","Fait en deux exemplaires originaux signés par l'Office, chaque gros consommateur et, en cas de groupe, le modérateur."]
["Vereinbarung","Zelle","Ort / Datum / Unterschrift:","Lieu / Date / Signature :","Lieu / Date / Signature :"]
["Vereinbarung","Zelle","Amt für Umweltkoordination und Energie","Office de la coordination environne-mentale et de l’énergie","Office de la coordination environne-mentale et de l’énergie"]
["Vereinbarung","Zelle","Der Grossverbraucher","Le gros consommateur","Le gros consommateur"]
["Bemerkungen","Zelle","KZV, Bemerkungen","COC, remarques",{"$f":"IF(Sprache=\"FR\",D270,C270)","v":"COC, remarques"}]
["Bemerkungen","Zelle","Bemerkungen zur Zielvereinbarung","Remarques concernant la convention d’objectifs ","Remarques concernant la convention d’objectifs "]
[]
["Allgemein","Version","Version","Version ",{"$f":"IF(Sprache=\"FR\",D273,C273)","v":"Version "}]
[]
["Allgemein","Logo"]
[]
["Kanton Bern: zusätzliche Texte"]
[]
["Formular B","Zelle"," -> Informationen -> Kantonale Zielvereinbarung"," -> Informations -> Convention d’objectifs cantonale",{"$f":"IF(Sprache=\"FR\",D279,C279)","v":" -> Informations -> Convention d’objectifs cantonale"}]
["Formular B","Zelle"," -> PDF «Wegleitung zum KZV-Tool» (Seite 4)"," -> PDF «Outil COC Guide» (Page 4)"," -> PDF «Outil COC Guide» (Page 4)"]
["Formular B","Zelle","Messstation für Heizgradtage (siehe Hinweis)","Station pour degrés-jours (voir la note)",{"$f":"IF(Sprache=\"FR\",D281,C281)","v":"Station pour degrés-jours (voir la note)"}]

{"sheet":"Parameter","index":1,"n_rows":22,"n_cols":9,"rows_kept":22,"cut":false,"hidden":true,"merged":[[5,10,5,11]]}
[]
[null,null,null,null,null,null,"http://www.energieberatung-seeland.ch/4_info/4_1_info/ebseeland_hgt_bis2014.pdf"]
[null,"Wirtschaftlicher Payback Haustechnik",8,"Jahre",null,null,"http://www.hev-schweiz.ch/vermieten-verwalten/heizgradtage/heizgradtage-2014/"]
[null,"Wirtschaftlicher Payback Produktion",4,"Jahre"]
[null,null,null,null,null,null,null,"Bern Liebefeld","Adelboden"]
[null,"Richtwert Effizienz in 10 Jahren",20,"%"]
[null,null,null,null,null,null,2001,3207,{"$f":"656+557+474+524+202+217+88+39+376+235+603+740","v":4711}]
[null,"Referenzwert HGT",{"$f":"IFERROR(VLOOKUP('Formulaire B '!G30,Parameter!B13:C14,2,FALSE),C13)","v":3403},null,null,null,2002,3259,4391]
[null,null,null,null,null,null,2003,3452,4394]
[null,null,null,null,null,null,2004,3454,4751]
[null,"Version","v8",null,null,null,2005,3695,4986]
[null,null,null,null,null,null,2006,3408,4474]
[null,"Bern-Liebefeld",3403,null,null,null,2007,3307,4409]
[null,"Adelboden",4591,null,null,null,2008,3539,4703]
[null,null,null,null,null,null,2009,3363,4570]
[null,null,null,null,null,null,2010,3721,5074]
[null,null,null,null,null,null,2011,3035,4209]
[null,null,null,null,null,null,2012,3525,4502]
[null,null,null,null,null,null,2013,3672,4812]
[null,null,null,null,null,null,2014,3001,4281]
[]
[null,null,null,null,null,null,"Mittelwert",{"$f":"AVERAGE(H7:H20)","v":3402.7142857142858},{"$f":"AVERAGE(I7:I20)","v":4590.5}]

{"sheet":"Introduction ","index":2,"n_rows":37,"n_cols":14,"rows_kept":37,"cut":false,"hidden":false,"merged":[[8,1,8,3],[35,1,35,13],[31,1,31,13],[36,1,36,13]]}
[]
[null,{"$f":"Sprache!E27","v":"Brève introduction "},null,null,null,null,null,null,null,null,null,null,null,{"$f":"Sprache!E28","v":"Convention d'objectifs cantonale (COC) pour gros consommateur dans le canton de Berne"}]
[]
[]
[]
[null,{"$f":"Sprache!E29","v":"Langue "},"FR"]
[]
[null,"DE: Bitte wählen Sie Ihre gewünschte Sprache",null,null,null,null,"FR: S'il vous plaît choisissez votre langue"]
[]
[null,{"$f":"Sprache!E30","v":"Indications d’emploi"}]
[]
[null,{"$f":"Sprache!E31","v":"Les feuilles de ce classeur de travail sont protégées pour éviter que des formules ne soient écrasées par mégarde."}]
[]
[null,{"$f":"Sprache!E32","v":"Remplissez ce classeur dans l'ordre suivant :"}]
[null,{"$f":"Sprache!E33","v":"- Page de couverture"}]
[null,{"$f":"Sprache!E34","v":"- Formulaire A"}]
[null,{"$f":"Sprache!E35","v":"- Formulaire B "}]
[null,{"$f":"Sprache!E36","v":"- Formulaire C (remettre ce formulaire au canton n’est pas obligatoire.)"}]
[null,{"$f":"Sprache!E37","v":"Description des mesures d’amélioration "}]
[null,{"$f":"Sprache!E38","v":"- Remarques"}]
[]
[null,null,null,{"$f":"Sprache!E39","v":"Renseignements obligatoires (il est possible d’ajouter des lignes au formulaire C en saisissant du texte dans la dernière ligne de chaque catégorie)"}]
[]
[null,null,null,{"$f":"Sprache!E40","v":"Renseignements facultatifs "}]
[]
[null,null,null,{"$f":"Sprache!E41","v":"Remarques importantes "}]
[]
[null,null,null,{"$f":"Sprache!E42","v":"Valeur cible de la convention d'objectifs "}]
[]
[null,{"$f":"Sprache!E43","v":"But "}]
[]
[null,{"$f":"Sprache!E44","v":"La valeur cible de cette convention d’objectifs est l’efficacité énergétique. Elle figure dans le formulaire D. Elle résulte des mesures d’amélioration mises en évidence dans le formulaire C. Le choix ultérieur des mesures d’amélioration reste libre : il est notamment possible de faire figurer d’autres mesures d’amélioration. Seul le respect de l’objectif d’efficacité est important. Tous les renseignements utiles à la convention d’objectifs se trouvent dans le formulaire consacré à la convention. Ce formulaire doit être signé."}]
[]
[null,{"$f":"Sprache!E45","v":"Exclusion de responsabilité"}]
[]
[null,{"$f":"Sprache!E46","v":"Le présent classeur a été réalisé sur mandat de l'Office de la coordination environnementale et de l’énergie du canton de Berne. Ni le mandant ni le réalisateur ne répondent de la justesse des résultats ou des conclusions qui résultent de son utilisation. C’est son utilisateur qui répond de la justesse des indications fournies."},{"$f":"Sprache!F46","v":0},{"$f":"Sprache!G46","v":0},{"$f":"Sprache!H46","v":0},{"$f":"Sprache!I46","v":0},{"$f":"Sprache!J46","v":0},{"$f":"Sprache!K46","v":0},{"$f":"Sprache!L46","v":0},{"$f":"Sprache!M46","v":0},{"$f":"Sprache!N46","v":0},{"$f":"Sprache!O46","v":0},{"$f":"Sprache!P46","v":0},{"$f":"Sprache!Q46","v":0}]
[null,{"$f":"Sprache!E273&\": \"&Parameter!C11","v":"Version : v8"}]

{"sheet":"Page de couverture","index":3,"n_rows":35,"n_cols":12,"rows_kept":35,"cut":false,"hidden":false,"merged":[[31,6,31,11],[32,5,32,11],[9,5,9,11],[11,6,11,8],[11,10,11,11],[12,6,12,11],[24,5,24,11],[18,5,18,7],[13,5,13,11],[14,5,14,7],[14,9,14,11],[15,9,15,11],[16,9,16,11],[17,9,17,11],[15,5,15,7],[16,5,16,7],[5,1,5,3],[5,5,5,11],[6,5,6,11],[7,5,7,11],[10,6,10,11],[8,5,8,11],[35,1,35,3],[35,5,35,11],[34,5,34,6],[34,8,34,11],[17,5,17,7],[33,5,33,11],[29,6,29,11],[30,6,30,8],[30,10,30,11],[26,5,26,11],[25,5,25,11],[27,5,27,11],[18,9,18,11],[28,5,28,11],[19,5,19,7],[20,5,20,7],[21,5,21,7],[22,5,22,7],[23,5,23,7],[19,9,19,11],[20,9,20,11],[21,9,21,11],[22,9,22,11],[23,9,23,11]]}
[]
[]
[null,null,null,null,null,null,null,null,null,null,null,{"$f":"Sprache!E28","v":"Convention d'objectifs cantonale (COC) pour gros consommateur dans le canton de Berne"}]
[]
[]
[]
[null,{"$f":"Sprache!E47","v":"Entreprise / organisation:"}]
[null,{"$f":"Sprache!E48","v":"Adresse principale:"}]
[null,{"$f":"Sprache!E225","v":"N° d’identification de l'entreprise (IDE) :"}]
[]
[null,{"$f":"Sprache!E54","v":"Contact:"},null,null,null,{"$f":"Sprache!E50","v":"Nom:"}]
[null,null,null,null,null,{"$f":"Sprache!E51","v":"Tél.:"},null,null,null,{"$f":"Sprache!E53","v":"Fax:"}]
[null,null,null,null,null,{"$f":"Sprache!E52","v":"Courriel:"}]
[]
[null,{"$f":"Sprache!E55&\" 1:\"","v":"Site  1:"},null,null,null,null,null,null,{"$f":"B28","v":"Adresse:"}]
[null,{"$f":"Sprache!E55&\" 2:\"","v":"Site  2:"},null,null,null,null,null,null,{"$f":"B28","v":"Adresse:"}]
[null,{"$f":"Sprache!E55&\" 3:\"","v":"Site  3:"},null,null,null,null,null,null,{"$f":"B28","v":"Adresse:"}]
[null,{"$f":"Sprache!E55&\" 4:\"","v":"Site  4:"},null,null,null,null,null,null,{"$f":"B28","v":"Adresse:"}]
[null,{"$f":"Sprache!E55&\" 5:\"","v":"Site  5:"},null,null,null,null,null,null,{"$f":"$B$28","v":"Adresse:"}]
[null,{"$f":"Sprache!E55&\" 6:\"","v":"Site  6:"},null,null,null,null,null,null,"Adresse:"]
[null,{"$f":"Sprache!E55&\" 7:\"","v":"Site  7:"},null,null,null,null,null,null,"Adresse:"]
[null,{"$f":"Sprache!E55&\" 8:\"","v":"Site  8:"},null,null,null,null,null,null,"Adresse:"]
[null,{"$f":"Sprache!E55&\" 9:\"","v":"Site  9:"},null,null,null,null,null,null,"Adresse:"]
[null,{"$f":"Sprache!E55&\" 10:\"","v":"Site  10:"},null,null,null,null,null,null,"Adresse:"]
[]
[]
[null,{"$f":"Sprache!E56","v":"Appui technique:"}]
[null,{"$f":"Sprache!E49","v":"Adresse:"}]
[]
[null,{"$f":"B11","v":"Contact:"},null,null,null,{"$f":"F11","v":"Nom:"}]
[null,null,null,null,null,{"$f":"F12","v":"Tél.:"},null,null,null,{"$f":"J12","v":"Fax:"}]
[null,null,null,null,null,"Courriel:"]
[]
[]
[null,{"$f":"Sprache!E57","v":"Date de réalisation:"},null,null,null,null,null,{"$f":"Sprache!E58","v":"Version:"}]

{"sheet":"Formulaire A","index":4,"n_rows":17,"n_cols":30,"rows_kept":17,"cut":false,"hidden":false,"merged":[[16,17,16,28],[17,17,17,28],[11,6,11,28],[15,17,15,28],[2,26,2,29],[7,18,7,28],[5,6,5,28],[6,6,6,28],[8,6,8,7],[7,6,7,7],[8,18,8,28],[20,17,20,28],[18,7,18,15],[18,17,18,28],[17,7,17,15],[19,7,19,15],[20,7,20,15],[19,17,19,28]]}
[]
[null,{"$f":"Sprache!E59","v":"COC, formulaire A / Renseignements généraux sur les sites d’exploitation "},null,null,null,null,null,null,null,null,null,null,null,null,null,null,null,null,null,null,null,null,null,null,null,null,null,null,null,{"$f":"IF('Page de couverture'!$F$7=\"\",\"\",'Page de couverture'!$F$7)","v":""}]
[null,null,null,null,null,null,null,null,null,null,null,null,null,null,null,null,null,null,null,null,null,null,null,null,null,null,{"$f":"IF('Page de couverture'!$F$35=\"\",\"\",'Page de couverture'!$F$35)","v":""}]
[]
[]
[null,{"$f":"Sprache!E60","v":"A.1"},{"$f":"Sprache!E65","v":"Branche:"}]
[null,null,{"$f":"Sprache!E66","v":"Activité:"}]
[null,{"$f":"Sprache!E61","v":"A.2"},{"$f":"Sprache!E67","v":"Total des collaborateurs:"},null,null,null,null,null,{"$f":"Sprache!E72","v":"personnes"}]
[null,null,{"$f":"Sprache!E68","v":"Nombre de collaborateurs, équivalents plein temps:"},null,null,null,null,null,{"$f":"I8","v":"personnes"}]
[null,{"$f":"Sprache!E62","v":"A.3"},{"$f":"Sprache!E69","v":"Organisation de l’exploitation:"},null,null,null,null,"1",null,"2",null,"3",{"$f":"Sprache!E74","v":"(1 = travail en 1 x 8, 2 = 2 x 8, 3 = 3 x 8)"}]
[null,null,{"$f":"Sprache!E70","v":"Durée de la production ou du travail:"},null,null,null,null,{"$f":"Sprache!E73","v":"heures par jour "},null,null,null,null,null,{"$f":"Sprache!E75","v":"jours par semainejours par semaine "}]
[null,{"$f":"Sprache!E63","v":"A.4"},{"$f":"Sprache!E71","v":"Ventes, chiffre d’affaires ou dépenses, par an:"}]
[]
[]
[null,null,null,null,null,{"$f":"Sprache!E64","v":"A.5"},{"$f":"Sprache!E76","v":"Annexes :"},null,null,null,null,null,null,null,null,null,null,{"$f":"Sprache!E79","v":"Désignation précise :"}]
[null,null,null,null,null,null,null,{"$f":"Sprache!E77","v":"Brochure sur l’entreprise"}]
[null,null,null,null,null,null,null,{"$f":"Sprache!E78","v":"Consommation de l’année-cible: aide"}]

{"sheet":"Formulaire B ","index":5,"n_rows":60,"n_cols":14,"rows_kept":60,"cut":false,"hidden":false,"merged":[[20,8,30,11],[31,8,31,11],[9,8,16,11],[53,8,59,11],[59,3,59,4],[55,3,55,4],[56,3,56,4],[57,3,57,4],[45,3,45,4],[37,6,37,7],[37,8,37,9],[37,10,37,11],[58,3,58,4]]}
[]
[null,{"$f":"Sprache!E80","v":"COC, formulaire B / consommation énergétique non influencée"},null,null,null,null,null,null,null,null,null,{"$f":"IF('Page de couverture'!$F$7=\"\",\"\",'Page de couverture'!$F$7)","v":""}]
[null,null,null,null,null,null,null,null,null,null,null,{"$f":"IF('Page de couverture'!$F$35=\"\",\"\",'Page de couverture'!$F$35)","v":""}]
[]
[]
[null,{"$f":"Sprache!E81","v":"B.1 Renseignements sur les données de départ "}]
[]
[]
[null,{"$f":"Sprache!E82","v":"Facteurs de pondération de l’énergie "},null,null,null,null,null,null,{"$f":"Sprache!E100","v":"Année de référence et année initiale"}]
[null,null,null,null,null,null,null,null,{"$f":"Sprache!E101","v":"Choisir comme année de référence la dernière année civile révolue. Elle constituera la référence à laquelle l’effet des mesures d’amélioration sera mesuré. L’année initiale est l’année zéro de la trajectoire de réduction. L’année initiale est en général aussi l’année de référence. Si des mesures d’amélioration mises en œuvre au cours des années précédentes sont intégrées dans la convention d’objectifs avec effet rétroactif, l’année initiale est également reculée en conséquence."}]
[null,{"$f":"Sprache!E83","v":"M/G"},{"$f":"Sprache!E88","v":"Facteur pour les combustibles fossiles"},null,null,"[-]",1]
[null,{"$f":"Sprache!E84","v":"D"},{"$f":"Sprache!E89","v":"Facteur pour la chaleur à distance "},null,null,"[-]"]
[null,{"$f":"Sprache!E85","v":"B"},{"$f":"Sprache!E90","v":"Facteur pour le bois, la biomasse, etc."},null,null,"[-]",0.5]
[null,{"$f":"Sprache!E86","v":"A"},{"$f":"Sprache!E91","v":"Facteur pour d’autres combustibles"},null,null,"[-]"]
[null,{"$f":"Sprache!E87","v":"E"},{"$f":"Sprache!E92","v":"Facteur pour l’énergie électrique "},null,null,"[-]",2]
[]
[null,{"$f":"Sprache!E93","v":"Part liée au chauffage "}]
[]
[null,null,{"$f":"Sprache!E94","v":"Part du mazout liée au chauffage "},null,null,"[%]"]
[null,null,{"$f":"Sprache!E95","v":"Part du gaz naturel liée au chauffage "},null,null,"[%]",null,null,{"$f":"Sprache!E102","v":"Degrés-jours du canton de Berne"}]
[null,null,{"$f":"Sprache!E96","v":"Part de la chal. à dist. liée au chauffage "},null,null,"[%]",null,null,{"$f":"Sprache!E103","v":"Attribution des stations climatiques du canton de Berne pour les gros consommateurs :\n\n- station de Bern-Liebefeld, pour les bâtiments situés à une altitude égale ou inférieure à 800 mètres ;\n- station d’Adelboden, pour les bâtiments situés à une altitude supérieure à 800 mètres.\n\nVeuillez utiliser pour les degrés-jours la moyenne cantonale de l’année civile considérée. Vous trouvez les chiffres utiles à l’adresse suivante :\n"}]
[null,null,{"$f":"Sprache!E97","v":"Part du bois, biogaz, etc. liée au chauffage "},null,null,"[%]"]
[null,null,{"$f":"Sprache!E98","v":"Part d’autres comb. liée au chauffage "},null,null,"[%]"]
[null,null,{"$f":"Sprache!E99","v":"Part de l’énergie él. liée au chauffage "},null,null,"[%]"]
[]
[null,{"$f":"Sprache!E107","v":"Année de réf. / durée de validité de la CO et croissance de la production "}]
[]
[null,null,{"$f":"Sprache!E109","v":"Année de réf."},null,null,{"$f":"Sprache!E114","v":"Année"}]
[null,null,{"$f":"Sprache!E108","v":"Année initiale"},null,null,{"$f":"F28","v":"Année"},{"$f":"'Formulaire D'!G10","v":0}]
[null,null,{"$f":"Sprache!E281","v":"Station pour degrés-jours (voir la note)"}]
[null,null,{"$f":"Sprache!E110","v":"Degrés-jours de l’année de réf. (voir la note)"}]
[null,null,{"$f":"Sprache!E111","v":"Durée de validité de la convention d’objectifs "},null,null,"[a]",10,null,{"$f":"HYPERLINK(Sprache!E104)","v":"http://www.be.ch/grosconsommateurs"},null,null,null,null,"Eingabemeldung"]
[null,null,{"$f":"Sprache!E112","v":"Production : croissance prévis. par an "},null,null,"[%]",null,null,{"$f":"Sprache!E279","v":" -> Informations -> Convention d’objectifs cantonale"},null,null,null,null,{"$f":"Eingabemeldung(Sprache!E16,Sprache!E15,'Formulaire B '!G34)","v":""}]
[null,null,{"$f":"Sprache!E113","v":"Élasticité"},null,null,"[-]",null,null,{"$f":"Sprache!E280","v":" -> PDF «Outil COC Guide» (Page 4)"}]
[]
[null,{"$f":"Sprache!E115","v":"B.2 Renseignements sur les achats d’énergie absolus "}]
[]
[null,{"$f":"Sprache!E116","v":"Cons. d’énergie "},null,null,null,null,{"$f":"Sprache!E117","v":"non pond. / non corr. DJ"},null,{"$f":"Sprache!E118","v":"non pond. / corr. DJ "},null,{"$f":"Sprache!E119","v":"pond. / corr. DJ "},null,{"$f":"G38","v":"non pond. / non corr. DJ"},{"$f":"I38","v":"non pond. / corr. DJ "}]
[null,null,null,null,null,null,{"$f":"C28","v":"Année de réf."},{"$f":"Sprache!E120","v":"Année-cible :"},{"$f":"C28","v":"Année de réf."},{"$f":"H39","v":"Année-cible :"},{"$f":"C28","v":"Année de réf."},{"$f":"H39","v":"Année-cible :"},{"$f":"C29","v":"Année initiale"},{"$f":"C29","v":"Année initiale"}]
[null,null,null,null,null,null,{"$f":"IF(G28=\"\",\"\",G28)","v":""},{"$f":"'Formulaire D'!G27","v":10},{"$f":"G40","v":""},{"$f":"H40","v":10},{"$f":"G40","v":""},{"$f":"H40","v":10},{"$f":"'Formulaire D'!G10","v":0},{"$f":"M40","v":0}]
[null,{"$f":"Sprache!E121","v":"Énergie thermique:"}]
[null,{"$f":"Sprache!E122","v":"Mazout"},null,null,null,"[kWh/a]",null,{"$f":"IFERROR(G42*(1+(($G$33*$G$34)/100))^($H$40-$G$40),\"\")","v":""},{"$f":"IFERROR(G42*(G19/100)*(Parameter!$C$8/$G$31)+G42*(1-(G19/100)),\"\")","v":""},{"$f":"IFERROR(H42*(G19/100)*(Parameter!$C$8/$G$31)+H42*(1-(G19/100)),\"\")","v":""},{"$f":"IFERROR($G$11*I42,\"\")","v":""},{"$f":"IFERROR($G$11*J42,\"\")","v":""},{"$f":"G42","v":0},{"$f":"I42","v":""}]
[null,{"$f":"Sprache!E123","v":"Gaz naturel"},null,null,null,"[kWh/a]",null,{"$f":"IFERROR(G43*(1+(($G$33*$G$34)/100))^($H$40-$G$40),\"\")","v":""},{"$f":"IFERROR(G43*(G20/100)*(Parameter!$C$8/$G$31)+G43*(1-(G20/100)),\"\")","v":""},{"$f":"IFERROR(H43*(G20/100)*(Parameter!$C$8/$G$31)+H43*(1-(G20/100)),\"\")","v":""},{"$f":"IFERROR($G$11*I43,\"\")","v":""},{"$f":"IFERROR($G$11*J43,\"\")","v":""},0,""]
[null,{"$f":"Sprache!E124","v":"Chaleur à distance "},null,null,null,"[kWh/a]",null,{"$f":"IFERROR(G44*(1+(($G$33*$G$34)/100))^($H$40-$G$40),\"\")","v":""},{"$f":"IFERROR(G44*(G21/100)*(Parameter!$C$8/$G$31)+G44*(1-(G21/100)),\"\")","v":""},{"$f":"IFERROR(H44*(G21/100)*(Parameter!$C$8/$G$31)+H44*(1-(G21/100)),\"\")","v":""},{"$f":"IFERROR($G$12*I44,\"\")","v":""},{"$f":"IFERROR($G$12*J44,\"\")","v":""},0,""]
[null,{"$f":"Sprache!E125","v":"Bois, biomasse, biogaz"},null,null,null,"[kWh/a]",null,{"$f":"IFERROR(G45*(1+(($G$33*$G$34)/100))^($H$40-$G$40),\"\")","v":""},{"$f":"IFERROR(G45*(G22/100)*(Parameter!$C$8/$G$31)+G45*(1-(G22/100)),\"\")","v":""},{"$f":"IFERROR(H45*(G22/100)*(Parameter!$C$8/$G$31)+H45*(1-(G22/100)),\"\")","v":""},{"$f":"IFERROR($G$13*I45,\"\")","v":""},{"$f":"IFERROR($G$13*J45,\"\")","v":""},0,""]
[null,{"$f":"Sprache!E126","v":"Autres combustibles "},null,null,null,"[kWh/a]",null,{"$f":"IFERROR(G46*(1+(($G$33*$G$34)/100))^($H$40-$G$40),\"\")","v":""},{"$f":"IFERROR(G46*(G23/100)*(Parameter!$C$8/$G$31)+G46*(1-(G23/100)),\"\")","v":""},{"$f":"IFERROR(H46*(G23/100)*(Parameter!$C$8/$G$31)+H46*(1-(G23/100)),\"\")","v":""},{"$f":"IFERROR($G$14*I46,\"\")","v":""},{"$f":"IFERROR($G$14*J46,\"\")","v":""},0,""]
[null,{"$f":"Sprache!E127","v":"Total énergie thermique "},null,null,null,"[kWh/a]",{"$f":"SUM(G42:G46)","v":0},0,0,0,0,0,0,0]
[null,{"$f":"Sprache!E128","v":"Total énergie électrique "},null,null,null,"[kWh/a]",null,{"$f":"IFERROR(G48*(1+(($G$33*$G$34)/100))^($H$40-$G$40),\"\")","v":""},{"$f":"IFERROR(G48*(G24/100)*(Parameter!$C$8/$G$31)+G48*(1-(G24/100)),\"\")","v":""},{"$f":"IFERROR(H48*(G24/100)*(Parameter!$C$8/$G$31)+H48*(1-(G24/100)),\"\")","v":""},{"$f":"IFERROR($G$15*I48,\"\")","v":""},{"$f":"IFERROR($G$15*J48,\"\")","v":""},0,""]
[]
[null,{"$f":"Sprache!E129","v":"Achat annuel d’énergie "},null,null,null,"[kWh/a]",{"$f":"SUM(G47,G48)","v":0},0,0,0,0,0,{"$f":"G50","v":0},{"$f":"I50","v":0}]
[]
[]
[null,{"$f":"Sprache!E130","v":"B.3 Indicateurs"},null,null,null,null,null,null,{"$f":"Sprache!E105","v":"Indicateurs"}]
[null,null,null,null,null,null,null,null,{"$f":"Sprache!E106","v":"Exemples d’indicateurs de production pertinents : volumes chiffrés relatifs aux matières premières, aux produits semi-finis ou aux produits finis, qui englobent les horaires d’exploitation ou les surfaces de référence énergétique. Les indicateurs de production doivent corréler fortement avec la consommation d'énergie, et leur somme doit donner une image aussi complète que possible de la consommation énergétique globale de l'entreprise."}]
[null,null,null,{"$f":"Sprache!E131","v":"Désignation des indic."},null,{"$f":"Sprache!E132","v":"Unité"},{"$f":"IF(G28=\"\",\"\",G28)","v":""}]
[null,{"$f":"Sprache!E133","v":"Indicateur 1 "}]
[null,{"$f":"Sprache!E134","v":"Indicateur 2 "}]
[null,{"$f":"Sprache!E135","v":"Indicateur 3 "}]
[null,{"$f":"Sprache!E136","v":"Indicateur 4 "}]
[null,{"$f":"Sprache!E137","v":"Indicateur 5 "}]

{"sheet":"Formulaire C","index":6,"n_rows":356,"n_cols":33,"rows_kept":356,"cut":false,"hidden":false,"merged":[[241,1,241,24],[11,1,11,24],[243,20,244,20],[355,1,355,24],[356,1,356,24],[250,2,250,3],[249,2,249,3],[345,2,345,3],[346,2,346,3],[347,2,347,3],[348,2,348,3],[349,2,349,3],[350,2,350,3],[351,1,351,7],[353,1,353,7],[336,2,336,3],[337,2,337,3],[338,2,338,3],[339,2,339,3],[340,2,340,3],[341,2,341,3],[323,2,323,3],[324,2,324,3],[325,2,325,3],[344,2,344,3],[327,2,327,3],[328,2,328,3],[329,2,329,3],[330,2,330,3],[331,2,331,3],[332,2,332,3],[333,2,333,3],[334,2,334,3],[335,2,335,3],[310,2,310,3],[311,2,311,3],[312,2,312,3],[313,2,313,3],[314,2,314,3],[315,2,315,3],[316,2,316,3],[317,2,317,3],[343,2,343,3],[318,2,318,3],[319,2,319,3],[320,2,320,3],[321,2,321,3],[322,2,322,3],[342,2,342,3],[326,2,326,3],[301,2,301,3],[302,2,302,3],[303,2,303,3],[304,2,304,3],[305,2,305,3],[306,2,306,3],[307,2,307,3],[308,2,308,3],[309,2,309,3],[292,2,292,3],[293,2,293,3],[294,2,294,3],[295,2,295,3],[296,2,296,3],[297,2,297,3],[298,2,298,3],[299,2,299,3],[300,2,300,3],[283,2,283,3],[284,2,284,3],[285,2,285,3],[286,2,286,3],[287,2,287,3],[288,2,288,3],[289,2,289,3],[290,2,290,3],[291,2,291,3],[274,2,274,3],[275,2,275,3],[276,2,276,3],[277,2,277,3],[278,2,278,3],[279,2,279,3],[280,2,280,3],[281,2,281,3],[282,2,282,3],[265,2,265,3],[266,2,266,3],[267,2,267,3],[268,2,268,3],[269,2,269,3],[270,2,270,3],[271,2,271,3],[272,2,272,3],[273,2,273,3],[256,2,256,3],[257,2,257,3],[258,2,258,3],[259,2,259,3],[260,2,260,3],[261,2,261,3],[262,2,262,3],[263,2,263,3],[264,2,264,3],[245,11,246,11],[245,12,246,12],[245,13,246,13],[251,2,251,3],[252,2,252,3],[253,2,253,3],[254,2,254,3],[245,6,245,7],[255,2,255,3],[245,9,246,9],[223,2,223,3],[224,2,224,3],[63,2,63,3],[64,2,64,3],[65,2,65,3],[66,2,66,3],[54,2,54,3],[82,2,82,3],[55,2,55,3],[56,2,56,3],[212,2,212,3],[98,2,98,3],[59,2,59,3],[60,2,60,3],[92,2,92,3],[93,2,93,3],[61,2,61,3],[62,2,62,3],[67,2,67,3],[68,2,68,3],[71,2,71,3],[72,2,72,3],[89,2,89,3],[69,2,69,3],[22,2,22,3],[23,2,23,3],[18,9,19,9],[124,2,124,3],[30,2,30,3],[211,2,211,3],[221,2,221,3],[222,2,222,3],[31,2,31,3],[32,2,32,3],[48,2,48,3],[49,2,49,3],[50,2,50,3],[51,2,51,3],[52,2,52,3],[46,2,46,3],[47,2,47,3],[25,2,25,3],[34,2,34,3],[35,2,35,3],[29,2,29,3],[33,2,33,3],[26,2,26,3],[27,2,27,3],[28,2,28,3],[36,2,36,3],[37,2,37,3],[38,2,38,3],[39,2,39,3],[40,2,40,3],[41,2,41,3],[57,2,57,3],[58,2,58,3],[53,2,53,3],[70,2,70,3],[73,2,73,3],[74,2,74,3],[75,2,75,3],[76,2,76,3],[77,2,77,3],[78,2,78,3],[79,2,79,3],[80,2,80,3],[2,23,2,24],[5,7,5,14],[6,7,6,14],[42,2,42,3],[43,2,43,3],[44,2,44,3],[45,2,45,3],[16,18,16,19],[18,10,19,10],[18,8,19,8],[18,11,19,11],[18,12,19,12],[17,18,17,19],[21,1,21,3],[16,17,17,17],[16,4,16,16],[18,4,18,5],[18,6,18,7],[17,2,17,3],[17,4,17,14],[17,15,17,16],[24,2,24,3],[18,13,19,13],[18,1,20,3],[81,2,81,3],[94,2,94,3],[83,2,83,3],[84,2,84,3],[85,2,85,3],[86,2,86,3],[87,2,87,3],[88,2,88,3],[90,2,90,3],[91,2,91,3],[95,2,95,3],[96,2,96,3],[97,2,97,3],[126,2,126,3],[125,2,125,3],[117,2,117,3],[118,2,118,3],[113,2,113,3],[114,2,114,3],[115,2,115,3],[105,2,105,3],[106,2,106,3],[107,2,107,3],[108,2,108,3],[116,2,116,3],[109,2,109,3],[112,2,112,3],[110,2,110,3],[101,2,101,3],[102,2,102,3],[103,2,103,3],[104,2,104,3],[99,2,99,3],[100,2,100,3],[111,2,111,3],[139,2,139,3],[140,2,140,3],[141,2,141,3],[142,2,142,3],[143,2,143,3],[144,2,144,3],[133,2,133,3],[134,2,134,3],[135,2,135,3],[136,2,136,3],[137,2,137,3],[138,2,138,3],[127,2,127,3],[128,2,128,3],[119,2,119,3],[120,2,120,3],[129,2,129,3],[130,2,130,3],[131,2,131,3],[132,2,132,3],[121,2,121,3],[122,2,122,3],[151,2,151,3],[152,2,152,3],[153,2,153,3],[154,2,154,3],[155,2,155,3],[156,2,156,3],[145,2,145,3],[146,2,146,3],[147,2,147,3],[148,2,148,3],[149,2,149,3],[150,2,150,3],[163,2,163,3],[164,2,164,3],[165,2,165,3],[166,2,166,3],[167,2,167,3],[168,2,168,3],[157,2,157,3],[158,2,158,3],[159,2,159,3],[160,2,160,3],[161,2,161,3],[162,2,162,3],[175,2,175,3],[176,2,176,3],[177,2,177,3],[178,2,178,3],[179,2,179,3],[180,2,180,3],[169,2,169,3],[170,2,170,3],[171,2,171,3],[172,2,172,3],[173,2,173,3],[174,2,174,3],[187,2,187,3],[188,2,188,3],[189,2,189,3],[190,2,190,3],[191,2,191,3],[192,2,192,3],[181,2,181,3],[182,2,182,3],[183,2,183,3],[184,2,184,3],[185,2,185,3],[186,2,186,3],[200,2,200,3],[201,2,201,3],[202,2,202,3],[203,2,203,3],[204,2,204,3],[193,2,193,3],[194,2,194,3],[195,2,195,3],[196,2,196,3],[197,2,197,3],[198,2,198,3],[16,21,17,22],[16,24,17,24],[16,23,17,23],[246,23,246,24],[247,23,247,24],[248,23,248,24],[230,1,230,24],[232,1,232,24],[219,2,219,3],[220,2,220,3],[213,2,213,3],[214,2,214,3],[215,2,215,3],[216,2,216,3],[217,2,217,3],[218,2,218,3],[205,2,205,3],[206,2,206,3],[207,2,207,3],[208,2,208,3],[16,20,17,20],[209,2,209,3],[210,2,210,3],[199,2,199,3],[353,23,353,24],[236,7,236,14],[237,7,237,14],[352,1,352,7],[249,23,249,24],[250,23,250,24],[251,23,251,24],[252,23,252,24],[253,23,253,24],[351,23,351,24],[243,23,244,24],[243,21,244,22],[248,1,248,3],[243,4,243,16],[243,17,244,17],[243,18,243,19],[244,2,244,3],[244,4,244,14],[244,15,244,16],[244,18,244,19],[245,1,247,3],[245,4,245,5],[245,8,246,8],[245,10,246,10],[254,23,254,24],[255,23,255,24],[256,23,256,24],[257,23,257,24],[258,23,258,24],[259,23,259,24],[260,23,260,24],[261,23,261,24],[262,23,262,24],[263,23,263,24],[264,23,264,24],[265,23,265,24],[266,23,266,24],[267,23,267,24],[268,23,268,24],[269,23,269,24],[270,23,270,24],[271,23,271,24],[272,23,272,24],[273,23,273,24],[274,23,274,24],[275,23,275,24],[276,23,276,24],[277,23,277,24],[278,23,278,24],[279,23,279,24],[280,23,280,24],[281,23,281,24],[282,23,282,24],[283,23,283,24],[284,23,284,24],[285,23,285,24],[286,23,286,24],[287,23,287,24],[288,23,288,24],[289,23,289,24],[290,23,290,24],[291,23,291,24],[292,23,292,24],[293,23,293,24],[294,23,294,24],[295,23,295,24],[296,23,296,24],[297,23,297,24],[298,23,298,24],[299,23,299,24],[300,23,300,24],[301,23,301,24],[302,23,302,24],[303,23,303,24],[304,23,304,24],[305,23,305,24],[306,23,306,24],[307,23,307,24],[308,23,308,24],[309,23,309,24],[310,23,310,24],[311,23,311,24],[312,23,312,24],[313,23,313,24],[314,23,314,24],[315,23,315,24],[316,23,316,24],[331,23,331,24],[332,23,332,24],[333,23,333,24],[334,23,334,24],[317,23,317,24],[318,23,318,24],[319,23,319,24],[320,23,320,24],[321,23,321,24],[322,23,322,24],[323,23,323,24],[324,23,324,24],[325,23,325,24],[344,23,344,24],[345,23,345,24],[346,23,346,24],[347,23,347,24],[348,23,348,24],[349,23,349,24],[8,1,8,24],[12,1,12,24],[9,1,9,24],[10,1,10,24],[335,23,335,24],[336,23,336,24],[337,23,337,24],[338,23,338,24],[339,23,339,24],[340,23,340,24],[341,23,341,24],[342,23,342,24],[343,23,343,24],[326,23,326,24],[327,23,327,24],[328,23,328,24],[329,23,329,24],[330,23,330,24]]}
[]
[null,{"$f":"Sprache!E138","v":"COC, formulaire C / nouvelles mesures d’amélioration et rentabilité"},null,null,null,null,null,null,null,null,null,null,null,null,null,null,null,null,null,null,null,null,null,null,{"$f":"IF('Page de couverture'!$F$7=\"\",\"\",'Page de couverture'!$F$7)","v":""}]
[null,null,null,null,null,null,null,null,null,null,null,null,null,null,null,null,null,null,null,null,null,null,null,{"$f":"IF('Page de couverture'!$F$35=\"\",\"\",'Page de couverture'!$F$35)","v":""}]
[]
[]
[null,{"$f":"Sprache!E139","v":"Consommation annuelle d’énergie de l’année de référence + 10, normée DJ, non pond."},null,null,null,null,null,{"$f":"'Formulaire B '!J50","v":0},null,null,null,null,null,null,null," kWh/a",null,null,{"$f":"Sprache!#REF!","v":{"$error":"#REF!"}}]
[null,{"$f":"Sprache!E140","v":"Consommation annuelle d’énergie de l’année de référence + 10, normée DJ, pond."},null,null,null,null,null,{"$f":"'Formulaire B '!$K$50*(1+(('Formulaire B '!$G$33*'Formulaire B '!$G$34)/100))^'Formulaire B '!G32","v":0},null,null,null,null,null,null,null," kWh/a",null,null,{"$f":"Sprache!#REF!","v":{"$error":"#REF!"}},null,null,null,null,null,null,null,null,null,"Pfad auf Beschreibungsblatt"]
[]
[null,{"$f":"Sprache!E141","v":"Pour le canton de Berne, les mesures d’amélioration dont le retour sur investissement statique est de moins de 8 ans (pour la technique ou l’enveloppe du bâtiment) et de moins de 4 ans (pour la production ou les services) sont rentables."},null,null,null,null,null,null,null,null,null,null,null,null,null,null,null,null,null,null,null,null,null,null,null,null,null,null,{"$f":"MID(CELL(\"filename\",A1),FIND(\"[\",CELL(\"filename\",A1)),FIND(\"]\",CELL(\"filename\",A1))-FIND(\"[\",CELL(\"filename\",A1))+1)&\"'\"&blattname_beschreibung_massnahmen&\"'!D\"","v":"[aue-en-gvm-kzv-tool-fr.xlsm]'Description des MA'!D"}]
[null,{"$f":"Sprache!E143","v":"1) Les économies en pourcentage sont calculées en fonction de la consommation énergétique prévue dans dix ans (à compter de l’année de référence)."}]
[null,{"$f":"Sprache!E144","v":"2) L’année prévue pour la mise en œuvre peut se situer durant les dix années qui suivent l’année de référence. Si l’année initiale est fixée plus tôt dans le temps pour prendre en compte des mesures d’amélioration déjà mises en œuvre (liste C.2), il est possible que des mesures d’amélioration de la liste C.1 se trouvent de ce fait en dehors de la durée de validité de dix ans de la convention d’objectifs et qu’il ne soit donc plus possible de les prendre en compte."}]
[null,{"$f":"Sprache!E145","v":"3) Seule la part des coûts de l’investissement liée à l’énergie (%E) est prise en compte pour calculer le retour sur investissement."}]
[null,{"$f":"Sprache!E146","v":"4) Les mesures d’amélioration rentables sont automatiquement intégrées dans la CO et elles sont signalées par une croix. Mais il est possible d’écraser les champs pour intégrer des mesures d’amélioration non rentables ou pour ne pas intégrer des mesures d’amélioration rentables (dans ce dernier cas, il faut en indiquer les raisons)."}]
[]
[null,{"$f":"Sprache!E142","v":"C.1 Liste des MA depuis l’année initiale qui servent à constituer l’objectif (la réalisation de ces mesures précisément n’est pas obligatoire)"}]
[]
[null,{"$f":"Sprache!E149","v":"N°"},{"$f":"Sprache!E150","v":"Brève description"},null,{"$f":"Sprache!E151","v":"Économie d’énergie (énergie finale) "},{"$f":"Sprache!I151","v":0},{"$f":"Sprache!J151","v":0},{"$f":"Sprache!K151","v":0},{"$f":"Sprache!L151","v":0},null,{"$f":"Sprache!M151","v":0},{"$f":"Sprache!N151","v":0},{"$f":"Sprache!O151","v":0},{"$f":"Sprache!P151","v":0},{"$f":"Sprache!Q151","v":0},{"$f":"Sprache!R151","v":0},{"$f":"Sprache!I159","v":0},{"$f":"Sprache!E160","v":"Réalisation prévue"},{"$f":"Sprache!E161","v":"Prix de l’énergie "},{"$f":"Sprache!L159","v":0},{"$f":"Sprache!E163","v":"Écon. (coûts)"},{"$f":"Sprache!E164","v":"Investiss."},{"$f":"Sprache!O159","v":0},{"$f":"Sprache!E165","v":"RSI"},{"$f":"Sprache!E166","v":"dans CO "}]
[null,null,null,null,{"$f":"Sprache!E152","v":"Non pondéré"},{"$f":"Sprache!I152","v":0},{"$f":"Sprache!J152","v":0},{"$f":"Sprache!K152","v":0},{"$f":"Sprache!L152","v":0},null,{"$f":"Sprache!M152","v":0},{"$f":"Sprache!N152","v":0},{"$f":"Sprache!O152","v":0},{"$f":"Sprache!P152","v":0},{"$f":"Sprache!Q152","v":0},{"$f":"Sprache!E159","v":"Pondéré"},{"$f":"Sprache!I160","v":0},{"$f":"Sprache!J160","v":0},{"$f":"Sprache!E162","v":"(Énergie finale)"},{"$f":"Sprache!L160","v":0},null,{"$f":"Sprache!N160","v":0},{"$f":"Sprache!O160","v":0},{"$f":"Sprache!P160","v":0},{"$f":"Sprache!Q160","v":0}]
[null,{"$f":"Sprache!E157","v":"Indications d’emploi : l’introduction de texte dans la dernière ligne de chaque catégorie entraîne l’ajout d’une nouvelle ligne. "},{"$f":"Sprache!F153","v":0},{"$f":"Sprache!G153","v":0},{"$f":"Sprache!E153","v":"Économie 1"},{"$f":"Sprache!I153","v":0},{"$f":"Sprache!E154","v":"Économie 2"},{"$f":"Sprache!K153","v":0},"Heizöl","Erdgas","Fern-\nwärme","Holz, Bio-\nmasse","Weitere\nBrennst.","Elektr.\nEnergie",{"$f":"Sprache!E158","v":"Total"},{"$f":"O19","v":"Total"},{"$f":"Sprache!E167","v":"%¹⁾"},{"$f":"Sprache!E168","v":"année²⁾"},{"$f":"Sprache!E169","v":"Écon. 1"},{"$f":"Sprache!E170","v":"Écon. 2"},{"$f":"O19","v":"Total"},{"$f":"O19","v":"Total"},{"$f":"Sprache!E171","v":"%E³⁾"},null,{"$f":"Sprache!E172","v":"int.⁴⁾"}]
[null,{"$f":"Sprache!#REF!","v":{"$error":"#REF!"}},{"$f":"Sprache!F154","v":0},{"$f":"Sprache!G154","v":0},{"$f":"Sprache!E155","v":"G."},"[kWh/a]",{"$f":"E20","v":"G."},"[kWh/a]",null,null,null,null,null,null,"[kWh/a]","[kWh/a]","[-]","[a]","[Fr./kWh]","[Fr./kWh]","[Fr./a]","[Fr.]","[-]","[a]","[-] 1)"]
[null,{"$f":"Sprache!#REF!","v":{"$error":"#REF!"}},{"$f":"Sprache!F155","v":0},{"$f":"Sprache!G155","v":0},null,"c",null,"d",null,null,null,null,null,null,"c+d",null,null,null,"f","g","h=c*f+d*g","i","k","i*k/h"]
[null,{"$f":"Sprache!E156","v":"Installations de technique du bât. / enveloppe"},{"$f":"Sprache!F156","v":0},{"$f":"Sprache!G156","v":0},null,null,null,null,null,null,null,null,null,null,null,null,null,null,null,null,null,null,null,null,null,null,null,"Zeile Beschreibung","Eingabemeldung",null,"Jahr?","in ZV?","Wirtschaftlich?"]
[null,null,null,null,null,null,null,null,{"$f":"IF(OR(E23=Sprache!$C$19,E23=Sprache!$D$19),F23,0)+IF(OR(G23=Sprache!$C$19,G23=Sprache!$D$19),H23,0)","v":0},{"$f":"IF(OR(E23=Sprache!$C$20,E23=Sprache!$D$20),F23,0)+IF(OR(G23=Sprache!$C$20,G23=Sprache!$D$20),H23,0)","v":0},{"$f":"IF(OR(E23=Sprache!$C$21,E23=Sprache!$D$21),F23,0)+IF(OR(G23=Sprache!$C$21,G23=Sprache!$D$21),H23,0)","v":0},{"$f":"IF(OR(E23=Sprache!$C$22,E23=Sprache!$D$22),F23,0)+IF(OR(G23=Sprache!$C$22,G23=Sprache!$D$22),H23,0)","v":0},{"$f":"IF(OR(E23=Sprache!$C$23,E23=Sprache!$D$23),F23,0)+IF(OR(G23=Sprache!$C$23,G23=Sprache!$D$23),H23,0)","v":0},{"$f":"IF(OR(E23=Sprache!$C$24,E23=Sprache!$D$24),F23,0)+IF(OR(G23=Sprache!$C$24,G23=Sprache!$D$24),H23,0)","v":0},{"$f":"F23+H23","v":0},{"$f":"'Formulaire B '!$G$11*I23+'Formulaire B '!$G$11*J23+'Formulaire B '!$G$12*K23+'Formulaire B '!$G$13*L23+'Formulaire B '!$G$14*M23+'Formulaire B '!$G$15*N23","v":0},{"$f":"IFERROR(P23/($H$7-$P$228),\"\")","v":""},null,null,null,{"$f":"(F23*S23)+(H23*T23)","v":0},null,null,{"$f":"IF(U23=0, \"\",V23*W23/U23)","v":""},{"$f":"IF(AG23,\"X\",\"\")","v":""},{"$f":"IF(B23<>\"\",HYPERLINK($AC$9&AB23,Sprache!$E$25 &\" \"&B23),\"\")","v":""},null,{"$f":"ROW(beschreibung_massnahmen_erste_zeile)","v":14},{"$f":"Eingabemeldung(Sprache!$E$18,Sprache!$E$17,'Formulaire C'!E23)","v":""},{"$f":"Eingabemeldung(Sprache!$E$18,Sprache!$E$17,'Formulaire C'!G23)","v":""},{"$f":"ISNUMBER(R23)","v":false},{"$f":"IF(Y23=\"X\",1,0)","v":0},{"$f":"IF(X23<Parameter!$C$3,1,0)","v":0}]
[null,null,null,null,null,null,null,null,{"$f":"IF(OR(E24=Sprache!$C$19,E24=Sprache!$D$19),F24,0)+IF(OR(G24=Sprache!$C$19,G24=Sprache!$D$19),H24,0)","v":0},{"$f":"IF(OR(E24=Sprache!$C$20,E24=Sprache!$D$20),F24,0)+IF(OR(G24=Sprache!$C$20,G24=Sprache!$D$20),H24,0)","v":0},{"$f":"IF(OR(E24=Sprache!$C$21,E24=Sprache!$D$21),F24,0)+IF(OR(G24=Sprache!$C$21,G24=Sprache!$D$21),H24,0)","v":0},{"$f":"IF(OR(E24=Sprache!$C$22,E24=Sprache!$D$22),F24,0)+IF(OR(G24=Sprache!$C$22,G24=Sprache!$D$22),H24,0)","v":0},{"$f":"IF(OR(E24=Sprache!$C$23,E24=Sprache!$D$23),F24,0)+IF(OR(G24=Sprache!$C$23,G24=Sprache!$D$23),H24,0)","v":0},{"$f":"IF(OR(E24=Sprache!$C$24,E24=Sprache!$D$24),F24,0)+IF(OR(G24=Sprache!$C$24,G24=Sprache!$D$24),H24,0)","v":0},0,{"$f":"'Formulaire B '!$G$11*I24+'Formulaire B '!$G$11*J24+'Formulaire B '!$G$12*K24+'Formulaire B '!$G$13*L24+'Formulaire B '!$G$14*M24+'Formulaire B '!$G$15*N24","v":0},{"$f":"IFERROR(P24/($H$7-$P$228),\"\")","v":""},null,null,null,0,null,null,{"$f":"IF(U24=0, \"\",V24*W24/U24)","v":""},"",{"$f":"IF(B24<>\"\",HYPERLINK($AC$9&AB24,Sprache!$E$25 &\" \"&B24),\"\")","v":""},null,{"$f":"AB23+1","v":15},{"$f":"Eingabemeldung(Sprache!$E$18,Sprache!$E$17,'Formulaire C'!E24)","v":""},{"$f":"Eingabemeldung(Sprache!$E$18,Sprache!$E$17,'Formulaire C'!G24)","v":""},{"$f":"ISNUMBER(R24)","v":false},{"$f":"IF(Y24=\"X\",1,0)","v":0},{"$f":"IF(X24<Parameter!$C$3,1,0)","v":0}]
[null,null,null,null,null,null,null,null,{"$f":"IF(OR(E25=Sprache!$C$19,E25=Sprache!$D$19),F25,0)+IF(OR(G25=Sprache!$C$19,G25=Sprache!$D$19),H25,0)","v":0},{"$f":"IF(OR(E25=Sprache!$C$20,E25=Sprache!$D$20),F25,0)+IF(OR(G25=Sprache!$C$20,G25=Sprache!$D$20),H25,0)","v":0},{"$f":"IF(OR(E25=Sprache!$C$21,E25=Sprache!$D$21),F25,0)+IF(OR(G25=Sprache!$C$21,G25=Sprache!$D$21),H25,0)","v":0},{"$f":"IF(OR(E25=Sprache!$C$22,E25=Sprache!$D$22),F25,0)+IF(OR(G25=Sprache!$C$22,G25=Sprache!$D$22),H25,0)","v":0},{"$f":"IF(OR(E25=Sprache!$C$23,E25=Sprache!$D$23),F25,0)+IF(OR(G25=Sprache!$C$23,G25=Sprache!$D$23),H25,0)","v":0},{"$f":"IF(OR(E25=Sprache!$C$24,E25=Sprache!$D$24),F25,0)+IF(OR(G25=Sprache!$C$24,G25=Sprache!$D$24),H25,0)","v":0},0,{"$f":"'Formulaire B '!$G$11*I25+'Formulaire B '!$G$11*J25+'Formulaire B '!$G$12*K25+'Formulaire B '!$G$13*L25+'Formulaire B '!$G$14*M25+'Formulaire B '!$G$15*N25","v":0},"",null,null,null,0,null,null,"","",{"$f":"IF(B25<>\"\",HYPERLINK($AC$9&AB25,Sprache!$E$25 &\" \"&B25),\"\")","v":""},null,{"$f":"AB24+1","v":16},{"$f":"Eingabemeldung(Sprache!$E$18,Sprache!$E$17,'Formulaire C'!E25)","v":""},{"$f":"Eingabemeldung(Sprache!$E$18,Sprache!$E$17,'Formulaire C'!G25)","v":""},false,0,{"$f":"IF(X25<Parameter!$C$3,1,0)","v":0}]
[null,null,null,null,null,null,null,null,{"$f":"IF(OR(E26=Sprache!$C$19,E26=Sprache!$D$19),F26,0)+IF(OR(G26=Sprache!$C$19,G26=Sprache!$D$19),H26,0)","v":0},{"$f":"IF(OR(E26=Sprache!$C$20,E26=Sprache!$D$20),F26,0)+IF(OR(G26=Sprache!$C$20,G26=Sprache!$D$20),H26,0)","v":0},{"$f":"IF(OR(E26=Sprache!$C$21,E26=Sprache!$D$21),F26,0)+IF(OR(G26=Sprache!$C$21,G26=Sprache!$D$21),H26,0)","v":0},{"$f":"IF(OR(E26=Sprache!$C$22,E26=Sprache!$D$22),F26,0)+IF(OR(G26=Sprache!$C$22,G26=Sprache!$D$22),H26,0)","v":0},{"$f":"IF(OR(E26=Sprache!$C$23,E26=Sprache!$D$23),F26,0)+IF(OR(G26=Sprache!$C$23,G26=Sprache!$D$23),H26,0)","v":0},{"$f":"IF(OR(E26=Sprache!$C$24,E26=Sprache!$D$24),F26,0)+IF(OR(G26=Sprache!$C$24,G26=Sprache!$D$24),H26,0)","v":0},0,{"$f":"'Formulaire B '!$G$11*I26+'Formulaire B '!$G$11*J26+'Formulaire B '!$G$12*K26+'Formulaire B '!$G$13*L26+'Formulaire B '!$G$14*M26+'Formulaire B '!$G$15*N26","v":0},"",null,null,null,0,null,null,"","",{"$f":"IF(B26<>\"\",HYPERLINK($AC$9&AB26,Sprache!$E$25 &\" \"&B26),\"\")","v":""},null,17,{"$f":"Eingabemeldung(Sprache!$E$18,Sprache!$E$17,'Formulaire C'!E26)","v":""},{"$f":"Eingabemeldung(Sprache!$E$18,Sprache!$E$17,'Formulaire C'!G26)","v":""},false,0,{"$f":"IF(X26<Parameter!$C$3,1,0)","v":0}]
[null,null,null,null,null,null,null,null,{"$f":"IF(OR(E27=Sprache!$C$19,E27=Sprache!$D$19),F27,0)+IF(OR(G27=Sprache!$C$19,G27=Sprache!$D$19),H27,0)","v":0},{"$f":"IF(OR(E27=Sprache!$C$20,E27=Sprache!$D$20),F27,0)+IF(OR(G27=Sprache!$C$20,G27=Sprache!$D$20),H27,0)","v":0},{"$f":"IF(OR(E27=Sprache!$C$21,E27=Sprache!$D$21),F27,0)+IF(OR(G27=Sprache!$C$21,G27=Sprache!$D$21),H27,0)","v":0},{"$f":"IF(OR(E27=Sprache!$C$22,E27=Sprache!$D$22),F27,0)+IF(OR(G27=Sprache!$C$22,G27=Sprache!$D$22),H27,0)","v":0},{"$f":"IF(OR(E27=Sprache!$C$23,E27=Sprache!$D$23),F27,0)+IF(OR(G27=Sprache!$C$23,G27=Sprache!$D$23),H27,0)","v":0},{"$f":"IF(OR(E27=Sprache!$C$24,E27=Sprache!$D$24),F27,0)+IF(OR(G27=Sprache!$C$24,G27=Sprache!$D$24),H27,0)","v":0},0,{"$f":"'Formulaire B '!$G$11*I27+'Formulaire B '!$G$11*J27+'Formulaire B '!$G$12*K27+'Formulaire B '!$G$13*L27+'Formulaire B '!$G$14*M27+'Formulaire B '!$G$15*N27","v":0},"",null,null,null,0,null,null,"","",{"$f":"IF(B27<>\"\",HYPERLINK($AC$9&AB27,Sprache!$E$25 &\" \"&B27),\"\")","v":""},null,18,{"$f":"Eingabemeldung(Sprache!$E$18,Sprache!$E$17,'Formulaire C'!E27)","v":""},{"$f":"Eingabemeldung(Sprache!$E$18,Sprache!$E$17,'Formulaire C'!G27)","v":""},false,0,{"$f":"IF(X27<Parameter!$C$3,1,0)","v":0}]
[null,null,null,null,null,null,null,null,{"$f":"IF(OR(E28=Sprache!$C$19,E28=Sprache!$D$19),F28,0)+IF(OR(G28=Sprache!$C$19,G28=Sprache!$D$19),H28,0)","v":0},{"$f":"IF(OR(E28=Sprache!$C$20,E28=Sprache!$D$20),F28,0)+IF(OR(G28=Sprache!$C$20,G28=Sprache!$D$20),H28,0)","v":0},{"$f":"IF(OR(E28=Sprache!$C$21,E28=Sprache!$D$21),F28,0)+IF(OR(G28=Sprache!$C$21,G28=Sprache!$D$21),H28,0)","v":0},{"$f":"IF(OR(E28=Sprache!$C$22,E28=Sprache!$D$22),F28,0)+IF(OR(G28=Sprache!$C$22,G28=Sprache!$D$22),H28,0)","v":0},{"$f":"IF(OR(E28=Sprache!$C$23,E28=Sprache!$D$23),F28,0)+IF(OR(G28=Sprache!$C$23,G28=Sprache!$D$23),H28,0)","v":0},{"$f":"IF(OR(E28=Sprache!$C$24,E28=Sprache!$D$24),F28,0)+IF(OR(G28=Sprache!$C$24,G28=Sprache!$D$24),H28,0)","v":0},0,{"$f":"'Formulaire B '!$G$11*I28+'Formulaire B '!$G$11*J28+'Formulaire B '!$G$12*K28+'Formulaire B '!$G$13*L28+'Formulaire B '!$G$14*M28+'Formulaire B '!$G$15*N28","v":0},"",null,null,null,0,null,null,"","",{"$f":"IF(B28<>\"\",HYPERLINK($AC$9&AB28,Sprache!$E$25 &\" \"&B28),\"\")","v":""},null,19,{"$f":"Eingabemeldung(Sprache!$E$18,Sprache!$E$17,'Formulaire C'!E28)","v":""},{"$f":"Eingabemeldung(Sprache!$E$18,Sprache!$E$17,'Formulaire C'!G28)","v":""},false,0,{"$f":"IF(X28<Parameter!$C$3,1,0)","v":0}]
[null,null,null,null,null,null,null,null,{"$f":"IF(OR(E29=Sprache!$C$19,E29=Sprache!$D$19),F29,0)+IF(OR(G29=Sprache!$C$19,G29=Sprache!$D$19),H29,0)","v":0},{"$f":"IF(OR(E29=Sprache!$C$20,E29=Sprache!$D$20),F29,0)+IF(OR(G29=Sprache!$C$20,G29=Sprache!$D$20),H29,0)","v":0},{"$f":"IF(OR(E29=Sprache!$C$21,E29=Sprache!$D$21),F29,0)+IF(OR(G29=Sprache!$C$21,G29=Sprache!$D$21),H29,0)","v":0},{"$f":"IF(OR(E29=Sprache!$C$22,E29=Sprache!$D$22),F29,0)+IF(OR(G29=Sprache!$C$22,G29=Sprache!$D$22),H29,0)","v":0},{"$f":"IF(OR(E29=Sprache!$C$23,E29=Sprache!$D$23),F29,0)+IF(OR(G29=Sprache!$C$23,G29=Sprache!$D$23),H29,0)","v":0},{"$f":"IF(OR(E29=Sprache!$C$24,E29=Sprache!$D$24),F29,0)+IF(OR(G29=Sprache!$C$24,G29=Sprache!$D$24),H29,0)","v":0},0,{"$f":"'Formulaire B '!$G$11*I29+'Formulaire B '!$G$11*J29+'Formulaire B '!$G$12*K29+'Formulaire B '!$G$13*L29+'Formulaire B '!$G$14*M29+'Formulaire B '!$G$15*N29","v":0},"",null,null,null,0,null,null,"","",{"$f":"IF(B29<>\"\",HYPERLINK($AC$9&AB29,Sprache!$E$25 &\" \"&B29),\"\")","v":""},null,20,{"$f":"Eingabemeldung(Sprache!$E$18,Sprache!$E$17,'Formulaire C'!E29)","v":""},{"$f":"Eingabemeldung(Sprache!$E$18,Sprache!$E$17,'Formulaire C'!G29)","v":""},false,0,{"$f":"IF(X29<Parameter!$C$3,1,0)","v":0}]
[null,null,null,null,null,null,null,null,{"$f":"IF(OR(E30=Sprache!$C$19,E30=Sprache!$D$19),F30,0)+IF(OR(G30=Sprache!$C$19,G30=Sprache!$D$19),H30,0)","v":0},{"$f":"IF(OR(E30=Sprache!$C$20,E30=Sprache!$D$20),F30,0)+IF(OR(G30=Sprache!$C$20,G30=Sprache!$D$20),H30,0)","v":0},{"$f":"IF(OR(E30=Sprache!$C$21,E30=Sprache!$D$21),F30,0)+IF(OR(G30=Sprache!$C$21,G30=Sprache!$D$21),H30,0)","v":0},{"$f":"IF(OR(E30=Sprache!$C$22,E30=Sprache!$D$22),F30,0)+IF(OR(G30=Sprache!$C$22,G30=Sprache!$D$22),H30,0)","v":0},{"$f":"IF(OR(E30=Sprache!$C$23,E30=Sprache!$D$23),F30,0)+IF(OR(G30=Sprache!$C$23,G30=Sprache!$D$23),H30,0)","v":0},{"$f":"IF(OR(E30=Sprache!$C$24,E30=Sprache!$D$24),F30,0)+IF(OR(G30=Sprache!$C$24,G30=Sprache!$D$24),H30,0)","v":0},0,{"$f":"'Formulaire B '!$G$11*I30+'Formulaire B '!$G$11*J30+'Formulaire B '!$G$12*K30+'Formulaire B '!$G$13*L30+'Formulaire B '!$G$14*M30+'Formulaire B '!$G$15*N30","v":0},"",null,null,null,0,null,null,"","",{"$f":"IF(B30<>\"\",HYPERLINK($AC$9&AB30,Sprache!$E$25 &\" \"&B30),\"\")","v":""},null,21,{"$f":"Eingabemeldung(Sprache!$E$18,Sprache!$E$17,'Formulaire C'!E30)","v":""},{"$f":"Eingabemeldung(Sprache!$E$18,Sprache!$E$17,'Formulaire C'!G30)","v":""},false,0,{"$f":"IF(X30<Parameter!$C$3,1,0)","v":0}]
[null,null,null,null,null,null,null,null,{"$f":"IF(OR(E31=Sprache!$C$19,E31=Sprache!$D$19),F31,0)+IF(OR(G31=Sprache!$C$19,G31=Sprache!$D$19),H31,0)","v":0},{"$f":"IF(OR(E31=Sprache!$C$20,E31=Sprache!$D$20),F31,0)+IF(OR(G31=Sprache!$C$20,G31=Sprache!$D$20),H31,0)","v":0},{"$f":"IF(OR(E31=Sprache!$C$21,E31=Sprache!$D$21),F31,0)+IF(OR(G31=Sprache!$C$21,G31=Sprache!$D$21),H31,0)","v":0},{"$f":"IF(OR(E31=Sprache!$C$22,E31=Sprache!$D$22),F31,0)+IF(OR(G31=Sprache!$C$22,G31=Sprache!$D$22),H31,0)","v":0},{"$f":"IF(OR(E31=Sprache!$C$23,E31=Sprache!$D$23),F31,0)+IF(OR(G31=Sprache!$C$23,G31=Sprache!$D$23),H31,0)","v":0},{"$f":"IF(OR(E31=Sprache!$C$24,E31=Sprache!$D$24),F31,0)+IF(OR(G31=Sprache!$C$24,G31=Sprache!$D$24),H31,0)","v":0},0,{"$f":"'Formulaire B '!$G$11*I31+'Formulaire B '!$G$11*J31+'Formulaire B '!$G$12*K31+'Formulaire B '!$G$13*L31+'Formulaire B '!$G$14*M31+'Formulaire B '!$G$15*N31","v":0},"",null,null,null,0,null,null,"","",{"$f":"IF(B31<>\"\",HYPERLINK($AC$9&AB31,Sprache!$E$25 &\" \"&B31),\"\")","v":""},null,22,{"$f":"Eingabemeldung(Sprache!$E$18,Sprache!$E$17,'Formulaire C'!E31)","v":""},{"$f":"Eingabemeldung(Sprache!$E$18,Sprache!$E$17,'Formulaire C'!G31)","v":""},false,0,{"$f":"IF(X31<Parameter!$C$3,1,0)","v":0}]
[null,null,null,null,null,null,null,null,{"$f":"IF(OR(E32=Sprache!$C$19,E32=Sprache!$D$19),F32,0)+IF(OR(G32=Sprache!$C$19,G32=Sprache!$D$19),H32,0)","v":0},{"$f":"IF(OR(E32=Sprache!$C$20,E32=Sprache!$D$20),F32,0)+IF(OR(G32=Sprache!$C$20,G32=Sprache!$D$20),H32,0)","v":0},{"$f":"IF(OR(E32=Sprache!$C$21,E32=Sprache!$D$21),F32,0)+IF(OR(G32=Sprache!$C$21,G32=Sprache!$D$21),H32,0)","v":0},{"$f":"IF(OR(E32=Sprache!$C$22,E32=Sprache!$D$22),F32,0)+IF(OR(G32=Sprache!$C$22,G32=Sprache!$D$22),H32,0)","v":0},{"$f":"IF(OR(E32=Sprache!$C$23,E32=Sprache!$D$23),F32,0)+IF(OR(G32=Sprache!$C$23,G32=Sprache!$D$23),H32,0)","v":0},{"$f":"IF(OR(E32=Sprache!$C$24,E32=Sprache!$D$24),F32,0)+IF(OR(G32=Sprache!$C$24,G32=Sprache!$D$24),H32,0)","v":0},0,{"$f":"'Formulaire B '!$G$11*I32+'Formulaire B '!$G$11*J32+'Formulaire B '!$G$12*K32+'Formulaire B '!$G$13*L32+'Formulaire B '!$G$14*M32+'Formulaire B '!$G$15*N32","v":0},"",null,null,null,0,null,null,"","",{"$f":"IF(B32<>\"\",HYPERLINK($AC$9&AB32,Sprache!$E$25 &\" \"&B32),\"\")","v":""},null,23,{"$f":"Eingabemeldung(Sprache!$E$18,Sprache!$E$17,'Formulaire C'!E32)","v":""},{"$f":"Eingabemeldung(Sprache!$E$18,Sprache!$E$17,'Formulaire C'!G32)","v":""},false,0,{"$f":"IF(X32<Parameter!$C$3,1,0)","v":0}]
[null,null,null,null,null,null,null,null,{"$f":"IF(OR(E33=Sprache!$C$19,E33=Sprache!$D$19),F33,0)+IF(OR(G33=Sprache!$C$19,G33=Sprache!$D$19),H33,0)","v":0},{"$f":"IF(OR(E33=Sprache!$C$20,E33=Sprache!$D$20),F33,0)+IF(OR(G33=Sprache!$C$20,G33=Sprache!$D$20),H33,0)","v":0},{"$f":"IF(OR(E33=Sprache!$C$21,E33=Sprache!$D$21),F33,0)+IF(OR(G33=Sprache!$C$21,G33=Sprache!$D$21),H33,0)","v":0},{"$f":"IF(OR(E33=Sprache!$C$22,E33=Sprache!$D$22),F33,0)+IF(OR(G33=Sprache!$C$22,G33=Sprache!$D$22),H33,0)","v":0},{"$f":"IF(OR(E33=Sprache!$C$23,E33=Sprache!$D$23),F33,0)+IF(OR(G33=Sprache!$C$23,G33=Sprache!$D$23),H33,0)","v":0},{"$f":"IF(OR(E33=Sprache!$C$24,E33=Sprache!$D$24),F33,0)+IF(OR(G33=Sprache!$C$24,G33=Sprache!$D$24),H33,0)","v":0},0,{"$f":"'Formulaire B '!$G$11*I33+'Formulaire B '!$G$11*J33+'Formulaire B '!$G$12*K33+'Formulaire B '!$G$13*L33+'Formulaire B '!$G$14*M33+'Formulaire B '!$G$15*N33","v":0},"",null,null,null,0,null,null,"","",{"$f":"IF(B33<>\"\",HYPERLINK($AC$9&AB33,Sprache!$E$25 &\" \"&B33),\"\")","v":""},null,24,{"$f":"Eingabemeldung(Sprache!$E$18,Sprache!$E$17,'Formulaire C'!E33)","v":""},{"$f":"Eingabemeldung(Sprache!$E$18,Sprache!$E$17,'Formulaire C'!G33)","v":""},false,0,{"$f":"IF(X33<Parameter!$C$3,1,0)","v":0}]
[null,null,null,null,null,null,null,null,{"$f":"IF(OR(E34=Sprache!$C$19,E34=Sprache!$D$19),F34,0)+IF(OR(G34=Sprache!$C$19,G34=Sprache!$D$19),H34,0)","v":0},{"$f":"IF(OR(E34=Sprache!$C$20,E34=Sprache!$D$20),F34,0)+IF(OR(G34=Sprache!$C$20,G34=Sprache!$D$20),H34,0)","v":0},{"$f":"IF(OR(E34=Sprache!$C$21,E34=Sprache!$D$21),F34,0)+IF(OR(G34=Sprache!$C$21,G34=Sprache!$D$21),H34,0)","v":0},{"$f":"IF(OR(E34=Sprache!$C$22,E34=Sprache!$D$22),F34,0)+IF(OR(G34=Sprache!$C$22,G34=Sprache!$D$22),H34,0)","v":0},{"$f":"IF(OR(E34=Sprache!$C$23,E34=Sprache!$D$23),F34,0)+IF(OR(G34=Sprache!$C$23,G34=Sprache!$D$23),H34,0)","v":0},{"$f":"IF(OR(E34=Sprache!$C$24,E34=Sprache!$D$24),F34,0)+IF(OR(G34=Sprache!$C$24,G34=Sprache!$D$24),H34,0)","v":0},0,{"$f":"'Formulaire B '!$G$11*I34+'Formulaire B '!$G$11*J34+'Formulaire B '!$G$12*K34+'Formulaire B '!$G$13*L34+'Formulaire B '!$G$14*M34+'Formulaire B '!$G$15*N34","v":0},"",null,null,null,0,null,null,"","",{"$f":"IF(B34<>\"\",HYPERLINK($AC$9&AB34,Sprache!$E$25 &\" \"&B34),\"\")","v":""},null,25,{"$f":"Eingabemeldung(Sprache!$E$18,Sprache!$E$17,'Formulaire C'!E34)","v":""},{"$f":"Eingabemeldung(Sprache!$E$18,Sprache!$E$17,'Formulaire C'!G34)","v":""},false,0,{"$f":"IF(X34<Parameter!$C$3,1,0)","v":0}]
[null,null,null,null,null,null,null,null,{"$f":"IF(OR(E35=Sprache!$C$19,E35=Sprache!$D$19),F35,0)+IF(OR(G35=Sprache!$C$19,G35=Sprache!$D$19),H35,0)","v":0},{"$f":"IF(OR(E35=Sprache!$C$20,E35=Sprache!$D$20),F35,0)+IF(OR(G35=Sprache!$C$20,G35=Sprache!$D$20),H35,0)","v":0},{"$f":"IF(OR(E35=Sprache!$C$21,E35=Sprache!$D$21),F35,0)+IF(OR(G35=Sprache!$C$21,G35=Sprache!$D$21),H35,0)","v":0},{"$f":"IF(OR(E35=Sprache!$C$22,E35=Sprache!$D$22),F35,0)+IF(OR(G35=Sprache!$C$22,G35=Sprache!$D$22),H35,0)","v":0},{"$f":"IF(OR(E35=Sprache!$C$23,E35=Sprache!$D$23),F35,0)+IF(OR(G35=Sprache!$C$23,G35=Sprache!$D$23),H35,0)","v":0},{"$f":"IF(OR(E35=Sprache!$C$24,E35=Sprache!$D$24),F35,0)+IF(OR(G35=Sprache!$C$24,G35=Sprache!$D$24),H35,0)","v":0},0,{"$f":"'Formulaire B '!$G$11*I35+'Formulaire B '!$G$11*J35+'Formulaire B '!$G$12*K35+'Formulaire B '!$G$13*L35+'Formulaire B '!$G$14*M35+'Formulaire B '!$G$15*N35","v":0},"",null,null,null,0,null,null,"","",{"$f":"IF(B35<>\"\",HYPERLINK($AC$9&AB35,Sprache!$E$25 &\" \"&B35),\"\")","v":""},null,26,{"$f":"Eingabemeldung(Sprache!$E$18,Sprache!$E$17,'Formulaire C'!E35)","v":""},{"$f":"Eingabemeldung(Sprache!$E$18,Sprache!$E$17,'Formulaire C'!G35)","v":""},false,0,{"$f":"IF(X35<Parameter!$C$3,1,0)","v":0}]
[null,null,null,null,null,null,null,null,{"$f":"IF(OR(E36=Sprache!$C$19,E36=Sprache!$D$19),F36,0)+IF(OR(G36=Sprache!$C$19,G36=Sprache!$D$19),H36,0)","v":0},{"$f":"IF(OR(E36=Sprache!$C$20,E36=Sprache!$D$20),F36,0)+IF(OR(G36=Sprache!$C$20,G36=Sprache!$D$20),H36,0)","v":0},{"$f":"IF(OR(E36=Sprache!$C$21,E36=Sprache!$D$21),F36,0)+IF(OR(G36=Sprache!$C$21,G36=Sprache!$D$21),H36,0)","v":0},{"$f":"IF(OR(E36=Sprache!$C$22,E36=Sprache!$D$22),F36,0)+IF(OR(G36=Sprache!$C$22,G36=Sprache!$D$22),H36,0)","v":0},{"$f":"IF(OR(E36=Sprache!$C$23,E36=Sprache!$D$23),F36,0)+IF(OR(G36=Sprache!$C$23,G36=Sprache!$D$23),H36,0)","v":0},{"$f":"IF(OR(E36=Sprache!$C$24,E36=Sprache!$D$24),F36,0)+IF(OR(G36=Sprache!$C$24,G36=Sprache!$D$24),H36,0)","v":0},0,{"$f":"'Formulaire B '!$G$11*I36+'Formulaire B '!$G$11*J36+'Formulaire B '!$G$12*K36+'Formulaire B '!$G$13*L36+'Formulaire B '!$G$14*M36+'Formulaire B '!$G$15*N36","v":0},"",null,null,null,0,null,null,"","",{"$f":"IF(B36<>\"\",HYPERLINK($AC$9&AB36,Sprache!$E$25 &\" \"&B36),\"\")","v":""},null,27,{"$f":"Eingabemeldung(Sprache!$E$18,Sprache!$E$17,'Formulaire C'!E36)","v":""},{"$f":"Eingabemeldung(Sprache!$E$18,Sprache!$E$17,'Formulaire C'!G36)","v":""},false,0,{"$f":"IF(X36<Parameter!$C$3,1,0)","v":0}]
[null,null,null,null,null,null,null,null,{"$f":"IF(OR(E37=Sprache!$C$19,E37=Sprache!$D$19),F37,0)+IF(OR(G37=Sprache!$C$19,G37=Sprache!$D$19),H37,0)","v":0},{"$f":"IF(OR(E37=Sprache!$C$20,E37=Sprache!$D$20),F37,0)+IF(OR(G37=Sprache!$C$20,G37=Sprache!$D$20),H37,0)","v":0},{"$f":"IF(OR(E37=Sprache!$C$21,E37=Sprache!$D$21),F37,0)+IF(OR(G37=Sprache!$C$21,G37=Sprache!$D$21),H37,0)","v":0},{"$f":"IF(OR(E37=Sprache!$C$22,E37=Sprache!$D$22),F37,0)+IF(OR(G37=Sprache!$C$22,G37=Sprache!$D$22),H37,0)","v":0},{"$f":"IF(OR(E37=Sprache!$C$23,E37=Sprache!$D$23),F37,0)+IF(OR(G37=Sprache!$C$23,G37=Sprache!$D$23),H37,0)","v":0},{"$f":"IF(OR(E37=Sprache!$C$24,E37=Sprache!$D$24),F37,0)+IF(OR(G37=Sprache!$C$24,G37=Sprache!$D$24),H37,0)","v":0},0,{"$f":"'Formulaire B '!$G$11*I37+'Formulaire B '!$G$11*J37+'Formulaire B '!$G$12*K37+'Formulaire B '!$G$13*L37+'Formulaire B '!$G$14*M37+'Formulaire B '!$G$15*N37","v":0},"",null,null,null,0,null,null,"","",{"$f":"IF(B37<>\"\",HYPERLINK($AC$9&AB37,Sprache!$E$25 &\" \"&B37),\"\")","v":""},null,28,{"$f":"Eingabemeldung(Sprache!$E$18,Sprache!$E$17,'Formulaire C'!E37)","v":""},{"$f":"Eingabemeldung(Sprache!$E$18,Sprache!$E$17,'Formulaire C'!G37)","v":""},false,0,{"$f":"IF(X37<Parameter!$C$3,1,0)","v":0}]
[null,null,null,null,null,null,null,null,{"$f":"IF(OR(E38=Sprache!$C$19,E38=Sprache!$D$19),F38,0)+IF(OR(G38=Sprache!$C$19,G38=Sprache!$D$19),H38,0)","v":0},{"$f":"IF(OR(E38=Sprache!$C$20,E38=Sprache!$D$20),F38,0)+IF(OR(G38=Sprache!$C$20,G38=Sprache!$D$20),H38,0)","v":0},{"$f":"IF(OR(E38=Sprache!$C$21,E38=Sprache!$D$21),F38,0)+IF(OR(G38=Sprache!$C$21,G38=Sprache!$D$21),H38,0)","v":0},{"$f":"IF(OR(E38=Sprache!$C$22,E38=Sprache!$D$22),F38,0)+IF(OR(G38=Sprache!$C$22,G38=Sprache!$D$22),H38,0)","v":0},{"$f":"IF(OR(E38=Sprache!$C$23,E38=Sprache!$D$23),F38,0)+IF(OR(G38=Sprache!$C$23,G38=Sprache!$D$23),H38,0)","v":0},{"$f":"IF(OR(E38=Sprache!$C$24,E38=Sprache!$D$24),F38,0)+IF(OR(G38=Sprache!$C$24,G38=Sprache!$D$24),H38,0)","v":0},0,{"$f":"'Formulaire B '!$G$11*I38+'Formulaire B '!$G$11*J38+'Formulaire B '!$G$12*K38+'Formulaire B '!$G$13*L38+'Formulaire B '!$G$14*M38+'Formulaire B '!$G$15*N38","v":0},"",null,null,null,0,null,null,"","",{"$f":"IF(B38<>\"\",HYPERLINK($AC$9&AB38,Sprache!$E$25 &\" \"&B38),\"\")","v":""},null,29,{"$f":"Eingabemeldung(Sprache!$E$18,Sprache!$E$17,'Formulaire C'!E38)","v":""},{"$f":"Eingabemeldung(Sprache!$E$18,Sprache!$E$17,'Formulaire C'!G38)","v":""},false,0,{"$f":"IF(X38<Parameter!$C$3,1,0)","v":0}]
[null,null,null,null,null,null,null,null,{"$f":"IF(OR(E39=Sprache!$C$19,E39=Sprache!$D$19),F39,0)+IF(OR(G39=Sprache!$C$19,G39=Sprache!$D$19),H39,0)","v":0},{"$f":"IF(OR(E39=Sprache!$C$20,E39=Sprache!$D$20),F39,0)+IF(OR(G39=Sprache!$C$20,G39=Sprache!$D$20),H39,0)","v":0},{"$f":"IF(OR(E39=Sprache!$C$21,E39=Sprache!$D$21),F39,0)+IF(OR(G39=Sprache!$C$21,G39=Sprache!$D$21),H39,0)","v":0},{"$f":"IF(OR(E39=Sprache!$C$22,E39=Sprache!$D$22),F39,0)+IF(OR(G39=Sprache!$C$22,G39=Sprache!$D$22),H39,0)","v":0},{"$f":"IF(OR(E39=Sprache!$C$23,E39=Sprache!$D$23),F39,0)+IF(OR(G39=Sprache!$C$23,G39=Sprache!$D$23),H39,0)","v":0},{"$f":"IF(OR(E39=Sprache!$C$24,E39=Sprache!$D$24),F39,0)+IF(OR(G39=Sprache!$C$24,G39=Sprache!$D$24),H39,0)","v":0},0,{"$f":"'Formulaire B '!$G$11*I39+'Formulaire B '!$G$11*J39+'Formulaire B '!$G$12*K39+'Formulaire B '!$G$13*L39+'Formulaire B '!$G$14*M39+'Formulaire B '!$G$15*N39","v":0},"",null,null,null,0,null,null,"","",{"$f":"IF(B39<>\"\",HYPERLINK($AC$9&AB39,Sprache!$E$25 &\" \"&B39),\"\")","v":""},null,30,{"$f":"Eingabemeldung(Sprache!$E$18,Sprache!$E$17,'Formulaire C'!E39)","v":""},{"$f":"Eingabemeldung(Sprache!$E$18,Sprache!$E$17,'Formulaire C'!G39)","v":""},false,0,{"$f":"IF(X39<Parameter!$C$3,1,0)","v":0}]
[null,null,null,null,null,null,null,null,{"$f":"IF(OR(E40=Sprache!$C$19,E40=Sprache!$D$19),F40,0)+IF(OR(G40=Sprache!$C$19,G40=Sprache!$D$19),H40,0)","v":0},{"$f":"IF(OR(E40=Sprache!$C$20,E40=Sprache!$D$20),F40,0)+IF(OR(G40=Sprache!$C$20,G40=Sprache!$D$20),H40,0)","v":0},{"$f":"IF(OR(E40=Sprache!$C$21,E40=Sprache!$D$21),F40,0)+IF(OR(G40=Sprache!$C$21,G40=Sprache!$D$21),H40,0)","v":0},{"$f":"IF(OR(E40=Sprache!$C$22,E40=Sprache!$D$22),F40,0)+IF(OR(G40=Sprache!$C$22,G40=Sprache!$D$22),H40,0)","v":0},{"$f":"IF(OR(E40=Sprache!$C$23,E40=Sprache!$D$23),F40,0)+IF(OR(G40=Sprache!$C$23,G40=Sprache!$D$23),H40,0)","v":0},{"$f":"IF(OR(E40=Sprache!$C$24,E40=Sprache!$D$24),F40,0)+IF(OR(G40=Sprache!$C$24,G40=Sprache!$D$24),H40,0)","v":0},0,{"$f":"'Formulaire B '!$G$11*I40+'Formulaire B '!$G$11*J40+'Formulaire B '!$G$12*K40+'Formulaire B '!$G$13*L40+'Formulaire B '!$G$14*M40+'Formulaire B '!$G$15*N40","v":0},"",null,null,null,0,null,null,"","",{"$f":"IF(B40<>\"\",HYPERLINK($AC$9&AB40,Sprache!$E$25 &\" \"&B40),\"\")","v":""},null,31,{"$f":"Eingabemeldung(Sprache!$E$18,Sprache!$E$17,'Formulaire C'!E40)","v":""},{"$f":"Eingabemeldung(Sprache!$E$18,Sprache!$E$17,'Formulaire C'!G40)","v":""},false,0,{"$f":"IF(X40<Parameter!$C$3,1,0)","v":0}]
[null,null,null,null,null,null,null,null,{"$f":"IF(OR(E41=Sprache!$C$19,E41=Sprache!$D$19),F41,0)+IF(OR(G41=Sprache!$C$19,G41=Sprache!$D$19),H41,0)","v":0},{"$f":"IF(OR(E41=Sprache!$C$20,E41=Sprache!$D$20),F41,0)+IF(OR(G41=Sprache!$C$20,G41=Sprache!$D$20),H41,0)","v":0},{"$f":"IF(OR(E41=Sprache!$C$21,E41=Sprache!$D$21),F41,0)+IF(OR(G41=Sprache!$C$21,G41=Sprache!$D$21),H41,0)","v":0},{"$f":"IF(OR(E41=Sprache!$C$22,E41=Sprache!$D$22),F41,0)+IF(OR(G41=Sprache!$C$22,G41=Sprache!$D$22),H41,0)","v":0},{"$f":"IF(OR(E41=Sprache!$C$23,E41=Sprache!$D$23),F41,0)+IF(OR(G41=Sprache!$C$23,G41=Sprache!$D$23),H41,0)","v":0},{"$f":"IF(OR(E41=Sprache!$C$24,E41=Sprache!$D$24),F41,0)+IF(OR(G41=Sprache!$C$24,G41=Sprache!$D$24),H41,0)","v":0},0,{"$f":"'Formulaire B '!$G$11*I41+'Formulaire B '!$G$11*J41+'Formulaire B '!$G$12*K41+'Formulaire B '!$G$13*L41+'Formulaire B '!$G$14*M41+'Formulaire B '!$G$15*N41","v":0},"",null,null,null,0,null,null,"","",{"$f":"IF(B41<>\"\",HYPERLINK($AC$9&AB41,Sprache!$E$25 &\" \"&B41),\"\")","v":""},null,32,{"$f":"Eingabemeldung(Sprache!$E$18,Sprache!$E$17,'Formulaire C'!E41)","v":""},{"$f":"Eingabemeldung(Sprache!$E$18,Sprache!$E$17,'Formulaire C'!G41)","v":""},false,0,{"$f":"IF(X41<Parameter!$C$3,1,0)","v":0}]
[null,null,null,null,null,null,null,null,{"$f":"IF(OR(E42=Sprache!$C$19,E42=Sprache!$D$19),F42,0)+IF(OR(G42=Sprache!$C$19,G42=Sprache!$D$19),H42,0)","v":0},{"$f":"IF(OR(E42=Sprache!$C$20,E42=Sprache!$D$20),F42,0)+IF(OR(G42=Sprache!$C$20,G42=Sprache!$D$20),H42,0)","v":0},{"$f":"IF(OR(E42=Sprache!$C$21,E42=Sprache!$D$21),F42,0)+IF(OR(G42=Sprache!$C$21,G42=Sprache!$D$21),H42,0)","v":0},{"$f":"IF(OR(E42=Sprache!$C$22,E42=Sprache!$D$22),F42,0)+IF(OR(G42=Sprache!$C$22,G42=Sprache!$D$22),H42,0)","v":0},{"$f":"IF(OR(E42=Sprache!$C$23,E42=Sprache!$D$23),F42,0)+IF(OR(G42=Sprache!$C$23,G42=Sprache!$D$23),H42,0)","v":0},{"$f":"IF(OR(E42=Sprache!$C$24,E42=Sprache!$D$24),F42,0)+IF(OR(G42=Sprache!$C$24,G42=Sprache!$D$24),H42,0)","v":0},0,{"$f":"'Formulaire B '!$G$11*I42+'Formulaire B '!$G$11*J42+'Formulaire B '!$G$12*K42+'Formulaire B '!$G$13*L42+'Formulaire B '!$G$14*M42+'Formulaire B '!$G$15*N42","v":0},"",null,null,null,0,null,null,"","",{"$f":"IF(B42<>\"\",HYPERLINK($AC$9&AB42,Sprache!$E$25 &\" \"&B42),\"\")","v":""},null,33,{"$f":"Eingabemeldung(Sprache!$E$18,Sprache!$E$17,'Formulaire C'!E42)","v":""},{"$f":"Eingabemeldung(Sprache!$E$18,Sprache!$E$17,'Formulaire C'!G42)","v":""},false,0,{"$f":"IF(X42<Parameter!$C$3,1,0)","v":0}]
[null,null,null,null,null,null,null,null,{"$f":"IF(OR(E43=Sprache!$C$19,E43=Sprache!$D$19),F43,0)+IF(OR(G43=Sprache!$C$19,G43=Sprache!$D$19),H43,0)","v":0},{"$f":"IF(OR(E43=Sprache!$C$20,E43=Sprache!$D$20),F43,0)+IF(OR(G43=Sprache!$C$20,G43=Sprache!$D$20),H43,0)","v":0},{"$f":"IF(OR(E43=Sprache!$C$21,E43=Sprache!$D$21),F43,0)+IF(OR(G43=Sprache!$C$21,G43=Sprache!$D$21),H43,0)","v":0},{"$f":"IF(OR(E43=Sprache!$C$22,E43=Sprache!$D$22),F43,0)+IF(OR(G43=Sprache!$C$22,G43=Sprache!$D$22),H43,0)","v":0},{"$f":"IF(OR(E43=Sprache!$C$23,E43=Sprache!$D$23),F43,0)+IF(OR(G43=Sprache!$C$23,G43=Sprache!$D$23),H43,0)","v":0},{"$f":"IF(OR(E43=Sprache!$C$24,E43=Sprache!$D$24),F43,0)+IF(OR(G43=Sprache!$C$24,G43=Sprache!$D$24),H43,0)","v":0},0,{"$f":"'Formulaire B '!$G$11*I43+'Formulaire B '!$G$11*J43+'Formulaire B '!$G$12*K43+'Formulaire B '!$G$13*L43+'Formulaire B '!$G$14*M43+'Formulaire B '!$G$15*N43","v":0},"",null,null,null,0,null,null,"","",{"$f":"IF(B43<>\"\",HYPERLINK($AC$9&AB43,Sprache!$E$25 &\" \"&B43),\"\")","v":""},null,34,{"$f":"Eingabemeldung(Sprache!$E$18,Sprache!$E$17,'Formulaire C'!E43)","v":""},{"$f":"Eingabemeldung(Sprache!$E$18,Sprache!$E$17,'Formulaire C'!G43)","v":""},false,0,{"$f":"IF(X43<Parameter!$C$3,1,0)","v":0}]
[null,null,null,null,null,null,null,null,{"$f":"IF(OR(E44=Sprache!$C$19,E44=Sprache!$D$19),F44,0)+IF(OR(G44=Sprache!$C$19,G44=Sprache!$D$19),H44,0)","v":0},{"$f":"IF(OR(E44=Sprache!$C$20,E44=Sprache!$D$20),F44,0)+IF(OR(G44=Sprache!$C$20,G44=Sprache!$D$20),H44,0)","v":0},{"$f":"IF(OR(E44=Sprache!$C$21,E44=Sprache!$D$21),F44,0)+IF(OR(G44=Sprache!$C$21,G44=Sprache!$D$21),H44,0)","v":0},{"$f":"IF(OR(E44=Sprache!$C$22,E44=Sprache!$D$22),F44,0)+IF(OR(G44=Sprache!$C$22,G44=Sprache!$D$22),H44,0)","v":0},{"$f":"IF(OR(E44=Sprache!$C$23,E44=Sprache!$D$23),F44,0)+IF(OR(G44=Sprache!$C$23,G44=Sprache!$D$23),H44,0)","v":0},{"$f":"IF(OR(E44=Sprache!$C$24,E44=Sprache!$D$24),F44,0)+IF(OR(G44=Sprache!$C$24,G44=Sprache!$D$24),H44,0)","v":0},0,{"$f":"'Formulaire B '!$G$11*I44+'Formulaire B '!$G$11*J44+'Formulaire B '!$G$12*K44+'Formulaire B '!$G$13*L44+'Formulaire B '!$G$14*M44+'Formulaire B '!$G$15*N44","v":0},"",null,null,null,0,null,null,"","",{"$f":"IF(B44<>\"\",HYPERLINK($AC$9&AB44,Sprache!$E$25 &\" \"&B44),\"\")","v":""},null,35,{"$f":"Eingabemeldung(Sprache!$E$18,Sprache!$E$17,'Formulaire C'!E44)","v":""},{"$f":"Eingabemeldung(Sprache!$E$18,Sprache!$E$17,'Formulaire C'!G44)","v":""},false,0,{"$f":"IF(X44<Parameter!$C$3,1,0)","v":0}]
[null,null,null,null,null,null,null,null,{"$f":"IF(OR(E45=Sprache!$C$19,E45=Sprache!$D$19),F45,0)+IF(OR(G45=Sprache!$C$19,G45=Sprache!$D$19),H45,0)","v":0},{"$f":"IF(OR(E45=Sprache!$C$20,E45=Sprache!$D$20),F45,0)+IF(OR(G45=Sprache!$C$20,G45=Sprache!$D$20),H45,0)","v":0},{"$f":"IF(OR(E45=Sprache!$C$21,E45=Sprache!$D$21),F45,0)+IF(OR(G45=Sprache!$C$21,G45=Sprache!$D$21),H45,0)","v":0},{"$f":"IF(OR(E45=Sprache!$C$22,E45=Sprache!$D$22),F45,0)+IF(OR(G45=Sprache!$C$22,G45=Sprache!$D$22),H45,0)","v":0},{"$f":"IF(OR(E45=Sprache!$C$23,E45=Sprache!$D$23),F45,0)+IF(OR(G45=Sprache!$C$23,G45=Sprache!$D$23),H45,0)","v":0},{"$f":"IF(OR(E45=Sprache!$C$24,E45=Sprache!$D$24),F45,0)+IF(OR(G45=Sprache!$C$24,G45=Sprache!$D$24),H45,0)","v":0},0,{"$f":"'Formulaire B '!$G$11*I45+'Formulaire B '!$G$11*J45+'Formulaire B '!$G$12*K45+'Formulaire B '!$G$13*L45+'Formulaire B '!$G$14*M45+'Formulaire B '!$G$15*N45","v":0},"",null,null,null,0,null,null,"","",{"$f":"IF(B45<>\"\",HYPERLINK($AC$9&AB45,Sprache!$E$25 &\" \"&B45),\"\")","v":""},null,36,{"$f":"Eingabemeldung(Sprache!$E$18,Sprache!$E$17,'Formulaire C'!E45)","v":""},{"$f":"Eingabemeldung(Sprache!$E$18,Sprache!$E$17,'Formulaire C'!G45)","v":""},false,0,{"$f":"IF(X45<Parameter!$C$3,1,0)","v":0}]
[null,null,null,null,null,null,null,null,{"$f":"IF(OR(E46=Sprache!$C$19,E46=Sprache!$D$19),F46,0)+IF(OR(G46=Sprache!$C$19,G46=Sprache!$D$19),H46,0)","v":0},{"$f":"IF(OR(E46=Sprache!$C$20,E46=Sprache!$D$20),F46,0)+IF(OR(G46=Sprache!$C$20,G46=Sprache!$D$20),H46,0)","v":0},{"$f":"IF(OR(E46=Sprache!$C$21,E46=Sprache!$D$21),F46,0)+IF(OR(G46=Sprache!$C$21,G46=Sprache!$D$21),H46,0)","v":0},{"$f":"IF(OR(E46=Sprache!$C$22,E46=Sprache!$D$22),F46,0)+IF(OR(G46=Sprache!$C$22,G46=Sprache!$D$22),H46,0)","v":0},{"$f":"IF(OR(E46=Sprache!$C$23,E46=Sprache!$D$23),F46,0)+IF(OR(G46=Sprache!$C$23,G46=Sprache!$D$23),H46,0)","v":0},{"$f":"IF(OR(E46=Sprache!$C$24,E46=Sprache!$D$24),F46,0)+IF(OR(G46=Sprache!$C$24,G46=Sprache!$D$24),H46,0)","v":0},0,{"$f":"'Formulaire B '!$G$11*I46+'Formulaire B '!$G$11*J46+'Formulaire B '!$G$12*K46+'Formulaire B '!$G$13*L46+'Formulaire B '!$G$14*M46+'Formulaire B '!$G$15*N46","v":0},"",null,null,null,0,null,null,"","",{"$f":"IF(B46<>\"\",HYPERLINK($AC$9&AB46,Sprache!$E$25 &\" \"&B46),\"\")","v":""},null,37,{"$f":"Eingabemeldung(Sprache!$E$18,Sprache!$E$17,'Formulaire C'!E46)","v":""},{"$f":"Eingabemeldung(Sprache!$E$18,Sprache!$E$17,'Formulaire C'!G46)","v":""},false,0,{"$f":"IF(X46<Parameter!$C$3,1,0)","v":0}]
[null,null,null,null,null,null,null,null,{"$f":"IF(OR(E47=Sprache!$C$19,E47=Sprache!$D$19),F47,0)+IF(OR(G47=Sprache!$C$19,G47=Sprache!$D$19),H47,0)","v":0},{"$f":"IF(OR(E47=Sprache!$C$20,E47=Sprache!$D$20),F47,0)+IF(OR(G47=Sprache!$C$20,G47=Sprache!$D$20),H47,0)","v":0},{"$f":"IF(OR(E47=Sprache!$C$21,E47=Sprache!$D$21),F47,0)+IF(OR(G47=Sprache!$C$21,G47=Sprache!$D$21),H47,0)","v":0},{"$f":"IF(OR(E47=Sprache!$C$22,E47=Sprache!$D$22),F47,0)+IF(OR(G47=Sprache!$C$22,G47=Sprache!$D$22),H47,0)","v":0},{"$f":"IF(OR(E47=Sprache!$C$23,E47=Sprache!$D$23),F47,0)+IF(OR(G47=Sprache!$C$23,G47=Sprache!$D$23),H47,0)","v":0},{"$f":"IF(OR(E47=Sprache!$C$24,E47=Sprache!$D$24),F47,0)+IF(OR(G47=Sprache!$C$24,G47=Sprache!$D$24),H47,0)","v":0},0,{"$f":"'Formulaire B '!$G$11*I47+'Formulaire B '!$G$11*J47+'Formulaire B '!$G$12*K47+'Formulaire B '!$G$13*L47+'Formulaire B '!$G$14*M47+'Formulaire B '!$G$15*N47","v":0},"",null,null,null,0,null,null,"","",{"$f":"IF(B47<>\"\",HYPERLINK($AC$9&AB47,Sprache!$E$25 &\" \"&B47),\"\")","v":""},null,38,{"$f":"Eingabemeldung(Sprache!$E$18,Sprache!$E$17,'Formulaire C'!E47)","v":""},{"$f":"Eingabemeldung(Sprache!$E$18,Sprache!$E$17,'Formulaire C'!G47)","v":""},false,0,{"$f":"IF(X47<Parameter!$C$3,1,0)","v":0}]
[null,null,null,null,null,null,null,null,{"$f":"IF(OR(E48=Sprache!$C$19,E48=Sprache!$D$19),F48,0)+IF(OR(G48=Sprache!$C$19,G48=Sprache!$D$19),H48,0)","v":0},{"$f":"IF(OR(E48=Sprache!$C$20,E48=Sprache!$D$20),F48,0)+IF(OR(G48=Sprache!$C$20,G48=Sprache!$D$20),H48,0)","v":0},{"$f":"IF(OR(E48=Sprache!$C$21,E48=Sprache!$D$21),F48,0)+IF(OR(G48=Sprache!$C$21,G48=Sprache!$D$21),H48,0)","v":0},{"$f":"IF(OR(E48=Sprache!$C$22,E48=Sprache!$D$22),F48,0)+IF(OR(G48=Sprache!$C$22,G48=Sprache!$D$22),H48,0)","v":0},{"$f":"IF(OR(E48=Sprache!$C$23,E48=Sprache!$D$23),F48,0)+IF(OR(G48=Sprache!$C$23,G48=Sprache!$D$23),H48,0)","v":0},{"$f":"IF(OR(E48=Sprache!$C$24,E48=Sprache!$D$24),F48,0)+IF(OR(G48=Sprache!$C$24,G48=Sprache!$D$24),H48,0)","v":0},0,{"$f":"'Formulaire B '!$G$11*I48+'Formulaire B '!$G$11*J48+'Formulaire B '!$G$12*K48+'Formulaire B '!$G$13*L48+'Formulaire B '!$G$14*M48+'Formulaire B '!$G$15*N48","v":0},"",null,null,null,0,null,null,"","",{"$f":"IF(B48<>\"\",HYPERLINK($AC$9&AB48,Sprache!$E$25 &\" \"&B48),\"\")","v":""},null,39,{"$f":"Eingabemeldung(Sprache!$E$18,Sprache!$E$17,'Formulaire C'!E48)","v":""},{"$f":"Eingabemeldung(Sprache!$E$18,Sprache!$E$17,'Formulaire C'!G48)","v":""},false,0,{"$f":"IF(X48<Parameter!$C$3,1,0)","v":0}]
[null,null,null,null,null,null,null,null,{"$f":"IF(OR(E49=Sprache!$C$19,E49=Sprache!$D$19),F49,0)+IF(OR(G49=Sprache!$C$19,G49=Sprache!$D$19),H49,0)","v":0},{"$f":"IF(OR(E49=Sprache!$C$20,E49=Sprache!$D$20),F49,0)+IF(OR(G49=Sprache!$C$20,G49=Sprache!$D$20),H49,0)","v":0},{"$f":"IF(OR(E49=Sprache!$C$21,E49=Sprache!$D$21),F49,0)+IF(OR(G49=Sprache!$C$21,G49=Sprache!$D$21),H49,0)","v":0},{"$f":"IF(OR(E49=Sprache!$C$22,E49=Sprache!$D$22),F49,0)+IF(OR(G49=Sprache!$C$22,G49=Sprache!$D$22),H49,0)","v":0},{"$f":"IF(OR(E49=Sprache!$C$23,E49=Sprache!$D$23),F49,0)+IF(OR(G49=Sprache!$C$23,G49=Sprache!$D$23),H49,0)","v":0},{"$f":"IF(OR(E49=Sprache!$C$24,E49=Sprache!$D$24),F49,0)+IF(OR(G49=Sprache!$C$24,G49=Sprache!$D$24),H49,0)","v":0},0,{"$f":"'Formulaire B '!$G$11*I49+'Formulaire B '!$G$11*J49+'Formulaire B '!$G$12*K49+'Formulaire B '!$G$13*L49+'Formulaire B '!$G$14*M49+'Formulaire B '!$G$15*N49","v":0},"",null,null,null,0,null,null,"","",{"$f":"IF(B49<>\"\",HYPERLINK($AC$9&AB49,Sprache!$E$25 &\" \"&B49),\"\")","v":""},null,40,{"$f":"Eingabemeldung(Sprache!$E$18,Sprache!$E$17,'Formulaire C'!E49)","v":""},{"$f":"Eingabemeldung(Sprache!$E$18,Sprache!$E$17,'Formulaire C'!G49)","v":""},false,0,{"$f":"IF(X49<Parameter!$C$3,1,0)","v":0}]
[null,null,null,null,null,null,null,null,{"$f":"IF(OR(E50=Sprache!$C$19,E50=Sprache!$D$19),F50,0)+IF(OR(G50=Sprache!$C$19,G50=Sprache!$D$19),H50,0)","v":0},{"$f":"IF(OR(E50=Sprache!$C$20,E50=Sprache!$D$20),F50,0)+IF(OR(G50=Sprache!$C$20,G50=Sprache!$D$20),H50,0)","v":0},{"$f":"IF(OR(E50=Sprache!$C$21,E50=Sprache!$D$21),F50,0)+IF(OR(G50=Sprache!$C$21,G50=Sprache!$D$21),H50,0)","v":0},{"$f":"IF(OR(E50=Sprache!$C$22,E50=Sprache!$D$22),F50,0)+IF(OR(G50=Sprache!$C$22,G50=Sprache!$D$22),H50,0)","v":0},{"$f":"IF(OR(E50=Sprache!$C$23,E50=Sprache!$D$23),F50,0)+IF(OR(G50=Sprache!$C$23,G50=Sprache!$D$23),H50,0)","v":0},{"$f":"IF(OR(E50=Sprache!$C$24,E50=Sprache!$D$24),F50,0)+IF(OR(G50=Sprache!$C$24,G50=Sprache!$D$24),H50,0)","v":0},0,{"$f":"'Formulaire B '!$G$11*I50+'Formulaire B '!$G$11*J50+'Formulaire B '!$G$12*K50+'Formulaire B '!$G$13*L50+'Formulaire B '!$G$14*M50+'Formulaire B '!$G$15*N50","v":0},"",null,null,null,0,null,null,"","",{"$f":"IF(B50<>\"\",HYPERLINK($AC$9&AB50,Sprache!$E$25 &\" \"&B50),\"\")","v":""},null,41,{"$f":"Eingabemeldung(Sprache!$E$18,Sprache!$E$17,'Formulaire C'!E50)","v":""},{"$f":"Eingabemeldung(Sprache!$E$18,Sprache!$E$17,'Formulaire C'!G50)","v":""},false,0,{"$f":"IF(X50<Parameter!$C$3,1,0)","v":0}]
[null,null,null,null,null,null,null,null,{"$f":"IF(OR(E51=Sprache!$C$19,E51=Sprache!$D$19),F51,0)+IF(OR(G51=Sprache!$C$19,G51=Sprache!$D$19),H51,0)","v":0},{"$f":"IF(OR(E51=Sprache!$C$20,E51=Sprache!$D$20),F51,0)+IF(OR(G51=Sprache!$C$20,G51=Sprache!$D$20),H51,0)","v":0},{"$f":"IF(OR(E51=Sprache!$C$21,E51=Sprache!$D$21),F51,0)+IF(OR(G51=Sprache!$C$21,G51=Sprache!$D$21),H51,0)","v":0},{"$f":"IF(OR(E51=Sprache!$C$22,E51=Sprache!$D$22),F51,0)+IF(OR(G51=Sprache!$C$22,G51=Sprache!$D$22),H51,0)","v":0},{"$f":"IF(OR(E51=Sprache!$C$23,E51=Sprache!$D$23),F51,0)+IF(OR(G51=Sprache!$C$23,G51=Sprache!$D$23),H51,0)","v":0},{"$f":"IF(OR(E51=Sprache!$C$24,E51=Sprache!$D$24),F51,0)+IF(OR(G51=Sprache!$C$24,G51=Sprache!$D$24),H51,0)","v":0},0,{"$f":"'Formulaire B '!$G$11*I51+'Formulaire B '!$G$11*J51+'Formulaire B '!$G$12*K51+'Formulaire B '!$G$13*L51+'Formulaire B '!$G$14*M51+'Formulaire B '!$G$15*N51","v":0},"",null,null,null,0,null,null,"","",{"$f":"IF(B51<>\"\",HYPERLINK($AC$9&AB51,Sprache!$E$25 &\" \"&B51),\"\")","v":""},null,42,{"$f":"Eingabemeldung(Sprache!$E$18,Sprache!$E$17,'Formulaire C'!E51)","v":""},{"$f":"Eingabemeldung(Sprache!$E$18,Sprache!$E$17,'Formulaire C'!G51)","v":""},false,0,{"$f":"IF(X51<Parameter!$C$3,1,0)","v":0}]
[null,null,null,null,null,null,null,null,{"$f":"IF(OR(E52=Sprache!$C$19,E52=Sprache!$D$19),F52,0)+IF(OR(G52=Sprache!$C$19,G52=Sprache!$D$19),H52,0)","v":0},{"$f":"IF(OR(E52=Sprache!$C$20,E52=Sprache!$D$20),F52,0)+IF(OR(G52=Sprache!$C$20,G52=Sprache!$D$20),H52,0)","v":0},{"$f":"IF(OR(E52=Sprache!$C$21,E52=Sprache!$D$21),F52,0)+IF(OR(G52=Sprache!$C$21,G52=Sprache!$D$21),H52,0)","v":0},{"$f":"IF(OR(E52=Sprache!$C$22,E52=Sprache!$D$22),F52,0)+IF(OR(G52=Sprache!$C$22,G52=Sprache!$D$22),H52,0)","v":0},{"$f":"IF(OR(E52=Sprache!$C$23,E52=Sprache!$D$23),F52,0)+IF(OR(G52=Sprache!$C$23,G52=Sprache!$D$23),H52,0)","v":0},{"$f":"IF(OR(E52=Sprache!$C$24,E52=Sprache!$D$24),F52,0)+IF(OR(G52=Sprache!$C$24,G52=Sprache!$D$24),H52,0)","v":0},0,{"$f":"'Formulaire B '!$G$11*I52+'Formulaire B '!$G$11*J52+'Formulaire B '!$G$12*K52+'Formulaire B '!$G$13*L52+'Formulaire B '!$G$14*M52+'Formulaire B '!$G$15*N52","v":0},"",null,null,null,0,null,null,"","",{"$f":"IF(B52<>\"\",HYPERLINK($AC$9&AB52,Sprache!$E$25 &\" \"&B52),\"\")","v":""},null,43,{"$f":"Eingabemeldung(Sprache!$E$18,Sprache!$E$17,'Formulaire C'!E52)","v":""},{"$f":"Eingabemeldung(Sprache!$E$18,Sprache!$E$17,'Formulaire C'!G52)","v":""},false,0,{"$f":"IF(X52<Parameter!$C$3,1,0)","v":0}]
[null,null,null,null,null,null,null,null,{"$f":"IF(OR(E53=Sprache!$C$19,E53=Sprache!$D$19),F53,0)+IF(OR(G53=Sprache!$C$19,G53=Sprache!$D$19),H53,0)","v":0},{"$f":"IF(OR(E53=Sprache!$C$20,E53=Sprache!$D$20),F53,0)+IF(OR(G53=Sprache!$C$20,G53=Sprache!$D$20),H53,0)","v":0},{"$f":"IF(OR(E53=Sprache!$C$21,E53=Sprache!$D$21),F53,0)+IF(OR(G53=Sprache!$C$21,G53=Sprache!$D$21),H53,0)","v":0},{"$f":"IF(OR(E53=Sprache!$C$22,E53=Sprache!$D$22),F53,0)+IF(OR(G53=Sprache!$C$22,G53=Sprache!$D$22),H53,0)","v":0},{"$f":"IF(OR(E53=Sprache!$C$23,E53=Sprache!$D$23),F53,0)+IF(OR(G53=Sprache!$C$23,G53=Sprache!$D$23),H53,0)","v":0},{"$f":"IF(OR(E53=Sprache!$C$24,E53=Sprache!$D$24),F53,0)+IF(OR(G53=Sprache!$C$24,G53=Sprache!$D$24),H53,0)","v":0},0,{"$f":"'Formulaire B '!$G$11*I53+'Formulaire B '!$G$11*J53+'Formulaire B '!$G$12*K53+'Formulaire B '!$G$13*L53+'Formulaire B '!$G$14*M53+'Formulaire B '!$G$15*N53","v":0},"",null,null,null,0,null,null,"","",{"$f":"IF(B53<>\"\",HYPERLINK($AC$9&AB53,Sprache!$E$25 &\" \"&B53),\"\")","v":""},null,44,{"$f":"Eingabemeldung(Sprache!$E$18,Sprache!$E$17,'Formulaire C'!E53)","v":""},{"$f":"Eingabemeldung(Sprache!$E$18,Sprache!$E$17,'Formulaire C'!G53)","v":""},false,0,{"$f":"IF(X53<Parameter!$C$3,1,0)","v":0}]
[null,null,null,null,null,null,null,null,{"$f":"IF(OR(E54=Sprache!$C$19,E54=Sprache!$D$19),F54,0)+IF(OR(G54=Sprache!$C$19,G54=Sprache!$D$19),H54,0)","v":0},{"$f":"IF(OR(E54=Sprache!$C$20,E54=Sprache!$D$20),F54,0)+IF(OR(G54=Sprache!$C$20,G54=Sprache!$D$20),H54,0)","v":0},{"$f":"IF(OR(E54=Sprache!$C$21,E54=Sprache!$D$21),F54,0)+IF(OR(G54=Sprache!$C$21,G54=Sprache!$D$21),H54,0)","v":0},{"$f":"IF(OR(E54=Sprache!$C$22,E54=Sprache!$D$22),F54,0)+IF(OR(G54=Sprache!$C$22,G54=Sprache!$D$22),H54,0)","v":0},{"$f":"IF(OR(E54=Sprache!$C$23,E54=Sprache!$D$23),F54,0)+IF(OR(G54=Sprache!$C$23,G54=Sprache!$D$23),H54,0)","v":0},{"$f":"IF(OR(E54=Sprache!$C$24,E54=Sprache!$D$24),F54,0)+IF(OR(G54=Sprache!$C$24,G54=Sprache!$D$24),H54,0)","v":0},0,{"$f":"'Formulaire B '!$G$11*I54+'Formulaire B '!$G$11*J54+'Formulaire B '!$G$12*K54+'Formulaire B '!$G$13*L54+'Formulaire B '!$G$14*M54+'Formulaire B '!$G$15*N54","v":0},"",null,null,null,0,null,null,"","",{"$f":"IF(B54<>\"\",HYPERLINK($AC$9&AB54,Sprache!$E$25 &\" \"&B54),\"\")","v":""},null,45,{"$f":"Eingabemeldung(Sprache!$E$18,Sprache!$E$17,'Formulaire C'!E54)","v":""},{"$f":"Eingabemeldung(Sprache!$E$18,Sprache!$E$17,'Formulaire C'!G54)","v":""},false,0,{"$f":"IF(X54<Parameter!$C$3,1,0)","v":0}]
[null,null,null,null,null,null,null,null,{"$f":"IF(OR(E55=Sprache!$C$19,E55=Sprache!$D$19),F55,0)+IF(OR(G55=Sprache!$C$19,G55=Sprache!$D$19),H55,0)","v":0},{"$f":"IF(OR(E55=Sprache!$C$20,E55=Sprache!$D$20),F55,0)+IF(OR(G55=Sprache!$C$20,G55=Sprache!$D$20),H55,0)","v":0},{"$f":"IF(OR(E55=Sprache!$C$21,E55=Sprache!$D$21),F55,0)+IF(OR(G55=Sprache!$C$21,G55=Sprache!$D$21),H55,0)","v":0},{"$f":"IF(OR(E55=Sprache!$C$22,E55=Sprache!$D$22),F55,0)+IF(OR(G55=Sprache!$C$22,G55=Sprache!$D$22),H55,0)","v":0},{"$f":"IF(OR(E55=Sprache!$C$23,E55=Sprache!$D$23),F55,0)+IF(OR(G55=Sprache!$C$23,G55=Sprache!$D$23),H55,0)","v":0},{"$f":"IF(OR(E55=Sprache!$C$24,E55=Sprache!$D$24),F55,0)+IF(OR(G55=Sprache!$C$24,G55=Sprache!$D$24),H55,0)","v":0},{"$f":"F55+H55","v":0},{"$f":"'Formulaire B '!$G$11*I55+'Formulaire B '!$G$11*J55+'Formulaire B '!$G$12*K55+'Formulaire B '!$G$13*L55+'Formulaire B '!$G$14*M55+'Formulaire B '!$G$15*N55","v":0},"",null,null,null,{"$f":"(F55*S55)+(H55*T55)","v":0},null,null,"","",{"$f":"IF(B55<>\"\",HYPERLINK($AC$9&AB55,Sprache!$E$25 &\" \"&B55),\"\")","v":""},null,46,{"$f":"Eingabemeldung(Sprache!$E$18,Sprache!$E$17,'Formulaire C'!E55)","v":""},{"$f":"Eingabemeldung(Sprache!$E$18,Sprache!$E$17,'Formulaire C'!G55)","v":""},false,0,{"$f":"IF(X55<Parameter!$C$3,1,0)","v":0}]
[null,null,null,null,null,null,null,null,{"$f":"IF(OR(E56=Sprache!$C$19,E56=Sprache!$D$19),F56,0)+IF(OR(G56=Sprache!$C$19,G56=Sprache!$D$19),H56,0)","v":0},{"$f":"IF(OR(E56=Sprache!$C$20,E56=Sprache!$D$20),F56,0)+IF(OR(G56=Sprache!$C$20,G56=Sprache!$D$20),H56,0)","v":0},{"$f":"IF(OR(E56=Sprache!$C$21,E56=Sprache!$D$21),F56,0)+IF(OR(G56=Sprache!$C$21,G56=Sprache!$D$21),H56,0)","v":0},{"$f":"IF(OR(E56=Sprache!$C$22,E56=Sprache!$D$22),F56,0)+IF(OR(G56=Sprache!$C$22,G56=Sprache!$D$22),H56,0)","v":0},{"$f":"IF(OR(E56=Sprache!$C$23,E56=Sprache!$D$23),F56,0)+IF(OR(G56=Sprache!$C$23,G56=Sprache!$D$23),H56,0)","v":0},{"$f":"IF(OR(E56=Sprache!$C$24,E56=Sprache!$D$24),F56,0)+IF(OR(G56=Sprache!$C$24,G56=Sprache!$D$24),H56,0)","v":0},0,{"$f":"'Formulaire B '!$G$11*I56+'Formulaire B '!$G$11*J56+'Formulaire B '!$G$12*K56+'Formulaire B '!$G$13*L56+'Formulaire B '!$G$14*M56+'Formulaire B '!$G$15*N56","v":0},"",null,null,null,0,null,null,"","",{"$f":"IF(B56<>\"\",HYPERLINK($AC$9&AB56,Sprache!$E$25 &\" \"&B56),\"\")","v":""},null,47,{"$f":"Eingabemeldung(Sprache!$E$18,Sprache!$E$17,'Formulaire C'!E56)","v":""},{"$f":"Eingabemeldung(Sprache!$E$18,Sprache!$E$17,'Formulaire C'!G56)","v":""},false,0,{"$f":"IF(X56<Parameter!$C$3,1,0)","v":0}]
[null,null,null,null,null,null,null,null,{"$f":"IF(OR(E57=Sprache!$C$19,E57=Sprache!$D$19),F57,0)+IF(OR(G57=Sprache!$C$19,G57=Sprache!$D$19),H57,0)","v":0},{"$f":"IF(OR(E57=Sprache!$C$20,E57=Sprache!$D$20),F57,0)+IF(OR(G57=Sprache!$C$20,G57=Sprache!$D$20),H57,0)","v":0},{"$f":"IF(OR(E57=Sprache!$C$21,E57=Sprache!$D$21),F57,0)+IF(OR(G57=Sprache!$C$21,G57=Sprache!$D$21),H57,0)","v":0},{"$f":"IF(OR(E57=Sprache!$C$22,E57=Sprache!$D$22),F57,0)+IF(OR(G57=Sprache!$C$22,G57=Sprache!$D$22),H57,0)","v":0},{"$f":"IF(OR(E57=Sprache!$C$23,E57=Sprache!$D$23),F57,0)+IF(OR(G57=Sprache!$C$23,G57=Sprache!$D$23),H57,0)","v":0},{"$f":"IF(OR(E57=Sprache!$C$24,E57=Sprache!$D$24),F57,0)+IF(OR(G57=Sprache!$C$24,G57=Sprache!$D$24),H57,0)","v":0},0,{"$f":"'Formulaire B '!$G$11*I57+'Formulaire B '!$G$11*J57+'Formulaire B '!$G$12*K57+'Formulaire B '!$G$13*L57+'Formulaire B '!$G$14*M57+'Formulaire B '!$G$15*N57","v":0},"",null,null,null,0,null,null,"","",{"$f":"IF(B57<>\"\",HYPERLINK($AC$9&AB57,Sprache!$E$25 &\" \"&B57),\"\")","v":""},null,48,{"$f":"Eingabemeldung(Sprache!$E$18,Sprache!$E$17,'Formulaire C'!E57)","v":""},{"$f":"Eingabemeldung(Sprache!$E$18,Sprache!$E$17,'Formulaire C'!G57)","v":""},false,0,{"$f":"IF(X57<Parameter!$C$3,1,0)","v":0}]
[null,null,null,null,null,null,null,null,{"$f":"IF(OR(E58=Sprache!$C$19,E58=Sprache!$D$19),F58,0)+IF(OR(G58=Sprache!$C$19,G58=Sprache!$D$19),H58,0)","v":0},{"$f":"IF(OR(E58=Sprache!$C$20,E58=Sprache!$D$20),F58,0)+IF(OR(G58=Sprache!$C$20,G58=Sprache!$D$20),H58,0)","v":0},{"$f":"IF(OR(E58=Sprache!$C$21,E58=Sprache!$D$21),F58,0)+IF(OR(G58=Sprache!$C$21,G58=Sprache!$D$21),H58,0)","v":0},{"$f":"IF(OR(E58=Sprache!$C$22,E58=Sprache!$D$22),F58,0)+IF(OR(G58=Sprache!$C$22,G58=Sprache!$D$22),H58,0)","v":0},{"$f":"IF(OR(E58=Sprache!$C$23,E58=Sprache!$D$23),F58,0)+IF(OR(G58=Sprache!$C$23,G58=Sprache!$D$23),H58,0)","v":0},{"$f":"IF(OR(E58=Sprache!$C$24,E58=Sprache!$D$24),F58,0)+IF(OR(G58=Sprache!$C$24,G58=Sprache!$D$24),H58,0)","v":0},0,{"$f":"'Formulaire B '!$G$11*I58+'Formulaire B '!$G$11*J58+'Formulaire B '!$G$12*K58+'Formulaire B '!$G$13*L58+'Formulaire B '!$G$14*M58+'Formulaire B '!$G$15*N58","v":0},"",null,null,null,0,null,null,"","",{"$f":"IF(B58<>\"\",HYPERLINK($AC$9&AB58,Sprache!$E$25 &\" \"&B58),\"\")","v":""},null,49,{"$f":"Eingabemeldung(Sprache!$E$18,Sprache!$E$17,'Formulaire C'!E58)","v":""},{"$f":"Eingabemeldung(Sprache!$E$18,Sprache!$E$17,'Formulaire C'!G58)","v":""},false,0,{"$f":"IF(X58<Parameter!$C$3,1,0)","v":0}]
[null,null,null,null,null,null,null,null,{"$f":"IF(OR(E59=Sprache!$C$19,E59=Sprache!$D$19),F59,0)+IF(OR(G59=Sprache!$C$19,G59=Sprache!$D$19),H59,0)","v":0},{"$f":"IF(OR(E59=Sprache!$C$20,E59=Sprache!$D$20),F59,0)+IF(OR(G59=Sprache!$C$20,G59=Sprache!$D$20),H59,0)","v":0},{"$f":"IF(OR(E59=Sprache!$C$21,E59=Sprache!$D$21),F59,0)+IF(OR(G59=Sprache!$C$21,G59=Sprache!$D$21),H59,0)","v":0},{"$f":"IF(OR(E59=Sprache!$C$22,E59=Sprache!$D$22),F59,0)+IF(OR(G59=Sprache!$C$22,G59=Sprache!$D$22),H59,0)","v":0},{"$f":"IF(OR(E59=Sprache!$C$23,E59=Sprache!$D$23),F59,0)+IF(OR(G59=Sprache!$C$23,G59=Sprache!$D$23),H59,0)","v":0},{"$f":"IF(OR(E59=Sprache!$C$24,E59=Sprache!$D$24),F59,0)+IF(OR(G59=Sprache!$C$24,G59=Sprache!$D$24),H59,0)","v":0},0,{"$f":"'Formulaire B '!$G$11*I59+'Formulaire B '!$G$11*J59+'Formulaire B '!$G$12*K59+'Formulaire B '!$G$13*L59+'Formulaire B '!$G$14*M59+'Formulaire B '!$G$15*N59","v":0},"",null,null,null,0,null,null,"","",{"$f":"IF(B59<>\"\",HYPERLINK($AC$9&AB59,Sprache!$E$25 &\" \"&B59),\"\")","v":""},null,50,{"$f":"Eingabemeldung(Sprache!$E$18,Sprache!$E$17,'Formulaire C'!E59)","v":""},{"$f":"Eingabemeldung(Sprache!$E$18,Sprache!$E$17,'Formulaire C'!G59)","v":""},false,0,{"$f":"IF(X59<Parameter!$C$3,1,0)","v":0}]
[null,null,null,null,null,null,null,null,{"$f":"IF(OR(E60=Sprache!$C$19,E60=Sprache!$D$19),F60,0)+IF(OR(G60=Sprache!$C$19,G60=Sprache!$D$19),H60,0)","v":0},{"$f":"IF(OR(E60=Sprache!$C$20,E60=Sprache!$D$20),F60,0)+IF(OR(G60=Sprache!$C$20,G60=Sprache!$D$20),H60,0)","v":0},{"$f":"IF(OR(E60=Sprache!$C$21,E60=Sprache!$D$21),F60,0)+IF(OR(G60=Sprache!$C$21,G60=Sprache!$D$21),H60,0)","v":0},{"$f":"IF(OR(E60=Sprache!$C$22,E60=Sprache!$D$22),F60,0)+IF(OR(G60=Sprache!$C$22,G60=Sprache!$D$22),H60,0)","v":0},{"$f":"IF(OR(E60=Sprache!$C$23,E60=Sprache!$D$23),F60,0)+IF(OR(G60=Sprache!$C$23,G60=Sprache!$D$23),H60,0)","v":0},{"$f":"IF(OR(E60=Sprache!$C$24,E60=Sprache!$D$24),F60,0)+IF(OR(G60=Sprache!$C$24,G60=Sprache!$D$24),H60,0)","v":0},0,{"$f":"'Formulaire B '!$G$11*I60+'Formulaire B '!$G$11*J60+'Formulaire B '!$G$12*K60+'Formulaire B '!$G$13*L60+'Formulaire B '!$G$14*M60+'Formulaire B '!$G$15*N60","v":0},"",null,null,null,0,null,null,"","",{"$f":"IF(B60<>\"\",HYPERLINK($AC$9&AB60,Sprache!$E$25 &\" \"&B60),\"\")","v":""},null,51,{"$f":"Eingabemeldung(Sprache!$E$18,Sprache!$E$17,'Formulaire C'!E60)","v":""},{"$f":"Eingabemeldung(Sprache!$E$18,Sprache!$E$17,'Formulaire C'!G60)","v":""},false,0,{"$f":"IF(X60<Parameter!$C$3,1,0)","v":0}]
[null,null,null,null,null,null,null,null,{"$f":"IF(OR(E61=Sprache!$C$19,E61=Sprache!$D$19),F61,0)+IF(OR(G61=Sprache!$C$19,G61=Sprache!$D$19),H61,0)","v":0},{"$f":"IF(OR(E61=Sprache!$C$20,E61=Sprache!$D$20),F61,0)+IF(OR(G61=Sprache!$C$20,G61=Sprache!$D$20),H61,0)","v":0},{"$f":"IF(OR(E61=Sprache!$C$21,E61=Sprache!$D$21),F61,0)+IF(OR(G61=Sprache!$C$21,G61=Sprache!$D$21),H61,0)","v":0},{"$f":"IF(OR(E61=Sprache!$C$22,E61=Sprache!$D$22),F61,0)+IF(OR(G61=Sprache!$C$22,G61=Sprache!$D$22),H61,0)","v":0},{"$f":"IF(OR(E61=Sprache!$C$23,E61=Sprache!$D$23),F61,0)+IF(OR(G61=Sprache!$C$23,G61=Sprache!$D$23),H61,0)","v":0},{"$f":"IF(OR(E61=Sprache!$C$24,E61=Sprache!$D$24),F61,0)+IF(OR(G61=Sprache!$C$24,G61=Sprache!$D$24),H61,0)","v":0},0,{"$f":"'Formulaire B '!$G$11*I61+'Formulaire B '!$G$11*J61+'Formulaire B '!$G$12*K61+'Formulaire B '!$G$13*L61+'Formulaire B '!$G$14*M61+'Formulaire B '!$G$15*N61","v":0},"",null,null,null,0,null,null,"","",{"$f":"IF(B61<>\"\",HYPERLINK($AC$9&AB61,Sprache!$E$25 &\" \"&B61),\"\")","v":""},null,52,{"$f":"Eingabemeldung(Sprache!$E$18,Sprache!$E$17,'Formulaire C'!E61)","v":""},{"$f":"Eingabemeldung(Sprache!$E$18,Sprache!$E$17,'Formulaire C'!G61)","v":""},false,0,{"$f":"IF(X61<Parameter!$C$3,1,0)","v":0}]
[null,null,null,null,null,null,null,null,{"$f":"IF(OR(E62=Sprache!$C$19,E62=Sprache!$D$19),F62,0)+IF(OR(G62=Sprache!$C$19,G62=Sprache!$D$19),H62,0)","v":0},{"$f":"IF(OR(E62=Sprache!$C$20,E62=Sprache!$D$20),F62,0)+IF(OR(G62=Sprache!$C$20,G62=Sprache!$D$20),H62,0)","v":0},{"$f":"IF(OR(E62=Sprache!$C$21,E62=Sprache!$D$21),F62,0)+IF(OR(G62=Sprache!$C$21,G62=Sprache!$D$21),H62,0)","v":0},{"$f":"IF(OR(E62=Sprache!$C$22,E62=Sprache!$D$22),F62,0)+IF(OR(G62=Sprache!$C$22,G62=Sprache!$D$22),H62,0)","v":0},{"$f":"IF(OR(E62=Sprache!$C$23,E62=Sprache!$D$23),F62,0)+IF(OR(G62=Sprache!$C$23,G62=Sprache!$D$23),H62,0)","v":0},{"$f":"IF(OR(E62=Sprache!$C$24,E62=Sprache!$D$24),F62,0)+IF(OR(G62=Sprache!$C$24,G62=Sprache!$D$24),H62,0)","v":0},0,{"$f":"'Formulaire B '!$G$11*I62+'Formulaire B '!$G$11*J62+'Formulaire B '!$G$12*K62+'Formulaire B '!$G$13*L62+'Formulaire B '!$G$14*M62+'Formulaire B '!$G$15*N62","v":0},"",null,null,null,0,null,null,"","",{"$f":"IF(B62<>\"\",HYPERLINK($AC$9&AB62,Sprache!$E$25 &\" \"&B62),\"\")","v":""},null,53,{"$f":"Eingabemeldung(Sprache!$E$18,Sprache!$E$17,'Formulaire C'!E62)","v":""},{"$f":"Eingabemeldung(Sprache!$E$18,Sprache!$E$17,'Formulaire C'!G62)","v":""},false,0,{"$f":"IF(X62<Parameter!$C$3,1,0)","v":0}]
[null,null,null,null,null,null,null,null,{"$f":"IF(OR(E63=Sprache!$C$19,E63=Sprache!$D$19),F63,0)+IF(OR(G63=Sprache!$C$19,G63=Sprache!$D$19),H63,0)","v":0},{"$f":"IF(OR(E63=Sprache!$C$20,E63=Sprache!$D$20),F63,0)+IF(OR(G63=Sprache!$C$20,G63=Sprache!$D$20),H63,0)","v":0},{"$f":"IF(OR(E63=Sprache!$C$21,E63=Sprache!$D$21),F63,0)+IF(OR(G63=Sprache!$C$21,G63=Sprache!$D$21),H63,0)","v":0},{"$f":"IF(OR(E63=Sprache!$C$22,E63=Sprache!$D$22),F63,0)+IF(OR(G63=Sprache!$C$22,G63=Sprache!$D$22),H63,0)","v":0},{"$f":"IF(OR(E63=Sprache!$C$23,E63=Sprache!$D$23),F63,0)+IF(OR(G63=Sprache!$C$23,G63=Sprache!$D$23),H63,0)","v":0},{"$f":"IF(OR(E63=Sprache!$C$24,E63=Sprache!$D$24),F63,0)+IF(OR(G63=Sprache!$C$24,G63=Sprache!$D$24),H63,0)","v":0},0,{"$f":"'Formulaire B '!$G$11*I63+'Formulaire B '!$G$11*J63+'Formulaire B '!$G$12*K63+'Formulaire B '!$G$13*L63+'Formulaire B '!$G$14*M63+'Formulaire B '!$G$15*N63","v":0},"",null,null,null,0,null,null,"","",{"$f":"IF(B63<>\"\",HYPERLINK($AC$9&AB63,Sprache!$E$25 &\" \"&B63),\"\")","v":""},null,54,{"$f":"Eingabemeldung(Sprache!$E$18,Sprache!$E$17,'Formulaire C'!E63)","v":""},{"$f":"Eingabemeldung(Sprache!$E$18,Sprache!$E$17,'Formulaire C'!G63)","v":""},false,0,{"$f":"IF(X63<Parameter!$C$3,1,0)","v":0}]
[null,null,null,null,null,null,null,null,{"$f":"IF(OR(E64=Sprache!$C$19,E64=Sprache!$D$19),F64,0)+IF(OR(G64=Sprache!$C$19,G64=Sprache!$D$19),H64,0)","v":0},{"$f":"IF(OR(E64=Sprache!$C$20,E64=Sprache!$D$20),F64,0)+IF(OR(G64=Sprache!$C$20,G64=Sprache!$D$20),H64,0)","v":0},{"$f":"IF(OR(E64=Sprache!$C$21,E64=Sprache!$D$21),F64,0)+IF(OR(G64=Sprache!$C$21,G64=Sprache!$D$21),H64,0)","v":0},{"$f":"IF(OR(E64=Sprache!$C$22,E64=Sprache!$D$22),F64,0)+IF(OR(G64=Sprache!$C$22,G64=Sprache!$D$22),H64,0)","v":0},{"$f":"IF(OR(E64=Sprache!$C$23,E64=Sprache!$D$23),F64,0)+IF(OR(G64=Sprache!$C$23,G64=Sprache!$D$23),H64,0)","v":0},{"$f":"IF(OR(E64=Sprache!$C$24,E64=Sprache!$D$24),F64,0)+IF(OR(G64=Sprache!$C$24,G64=Sprache!$D$24),H64,0)","v":0},0,{"$f":"'Formulaire B '!$G$11*I64+'Formulaire B '!$G$11*J64+'Formulaire B '!$G$12*K64+'Formulaire B '!$G$13*L64+'Formulaire B '!$G$14*M64+'Formulaire B '!$G$15*N64","v":0},"",null,null,null,0,null,null,"","",{"$f":"IF(B64<>\"\",HYPERLINK($AC$9&AB64,Sprache!$E$25 &\" \"&B64),\"\")","v":""},null,55,{"$f":"Eingabemeldung(Sprache!$E$18,Sprache!$E$17,'Formulaire C'!E64)","v":""},{"$f":"Eingabemeldung(Sprache!$E$18,Sprache!$E$17,'Formulaire C'!G64)","v":""},false,0,{"$f":"IF(X64<Parameter!$C$3,1,0)","v":0}]
[null,null,null,null,null,null,null,null,{"$f":"IF(OR(E65=Sprache!$C$19,E65=Sprache!$D$19),F65,0)+IF(OR(G65=Sprache!$C$19,G65=Sprache!$D$19),H65,0)","v":0},{"$f":"IF(OR(E65=Sprache!$C$20,E65=Sprache!$D$20),F65,0)+IF(OR(G65=Sprache!$C$20,G65=Sprache!$D$20),H65,0)","v":0},{"$f":"IF(OR(E65=Sprache!$C$21,E65=Sprache!$D$21),F65,0)+IF(OR(G65=Sprache!$C$21,G65=Sprache!$D$21),H65,0)","v":0},{"$f":"IF(OR(E65=Sprache!$C$22,E65=Sprache!$D$22),F65,0)+IF(OR(G65=Sprache!$C$22,G65=Sprache!$D$22),H65,0)","v":0},{"$f":"IF(OR(E65=Sprache!$C$23,E65=Sprache!$D$23),F65,0)+IF(OR(G65=Sprache!$C$23,G65=Sprache!$D$23),H65,0)","v":0},{"$f":"IF(OR(E65=Sprache!$C$24,E65=Sprache!$D$24),F65,0)+IF(OR(G65=Sprache!$C$24,G65=Sprache!$D$24),H65,0)","v":0},0,{"$f":"'Formulaire B '!$G$11*I65+'Formulaire B '!$G$11*J65+'Formulaire B '!$G$12*K65+'Formulaire B '!$G$13*L65+'Formulaire B '!$G$14*M65+'Formulaire B '!$G$15*N65","v":0},"",null,null,null,0,null,null,"","",{"$f":"IF(B65<>\"\",HYPERLINK($AC$9&AB65,Sprache!$E$25 &\" \"&B65),\"\")","v":""},null,56,{"$f":"Eingabemeldung(Sprache!$E$18,Sprache!$E$17,'Formulaire C'!E65)","v":""},{"$f":"Eingabemeldung(Sprache!$E$18,Sprache!$E$17,'Formulaire C'!G65)","v":""},false,0,{"$f":"IF(X65<Parameter!$C$3,1,0)","v":0}]
[null,null,null,null,null,null,null,null,{"$f":"IF(OR(E66=Sprache!$C$19,E66=Sprache!$D$19),F66,0)+IF(OR(G66=Sprache!$C$19,G66=Sprache!$D$19),H66,0)","v":0},{"$f":"IF(OR(E66=Sprache!$C$20,E66=Sprache!$D$20),F66,0)+IF(OR(G66=Sprache!$C$20,G66=Sprache!$D$20),H66,0)","v":0},{"$f":"IF(OR(E66=Sprache!$C$21,E66=Sprache!$D$21),F66,0)+IF(OR(G66=Sprache!$C$21,G66=Sprache!$D$21),H66,0)","v":0},{"$f":"IF(OR(E66=Sprache!$C$22,E66=Sprache!$D$22),F66,0)+IF(OR(G66=Sprache!$C$22,G66=Sprache!$D$22),H66,0)","v":0},{"$f":"IF(OR(E66=Sprache!$C$23,E66=Sprache!$D$23),F66,0)+IF(OR(G66=Sprache!$C$23,G66=Sprache!$D$23),H66,0)","v":0},{"$f":"IF(OR(E66=Sprache!$C$24,E66=Sprache!$D$24),F66,0)+IF(OR(G66=Sprache!$C$24,G66=Sprache!$D$24),H66,0)","v":0},0,{"$f":"'Formulaire B '!$G$11*I66+'Formulaire B '!$G$11*J66+'Formulaire B '!$G$12*K66+'Formulaire B '!$G$13*L66+'Formulaire B '!$G$14*M66+'Formulaire B '!$G$15*N66","v":0},"",null,null,null,0,null,null,"","",{"$f":"IF(B66<>\"\",HYPERLINK($AC$9&AB66,Sprache!$E$25 &\" \"&B66),\"\")","v":""},null,57,{"$f":"Eingabemeldung(Sprache!$E$18,Sprache!$E$17,'Formulaire C'!E66)","v":""},{"$f":"Eingabemeldung(Sprache!$E$18,Sprache!$E$17,'Formulaire C'!G66)","v":""},false,0,{"$f":"IF(X66<Parameter!$C$3,1,0)","v":0}]
[null,null,null,null,null,null,null,null,{"$f":"IF(OR(E67=Sprache!$C$19,E67=Sprache!$D$19),F67,0)+IF(OR(G67=Sprache!$C$19,G67=Sprache!$D$19),H67,0)","v":0},{"$f":"IF(OR(E67=Sprache!$C$20,E67=Sprache!$D$20),F67,0)+IF(OR(G67=Sprache!$C$20,G67=Sprache!$D$20),H67,0)","v":0},{"$f":"IF(OR(E67=Sprache!$C$21,E67=Sprache!$D$21),F67,0)+IF(OR(G67=Sprache!$C$21,G67=Sprache!$D$21),H67,0)","v":0},{"$f":"IF(OR(E67=Sprache!$C$22,E67=Sprache!$D$22),F67,0)+IF(OR(G67=Sprache!$C$22,G67=Sprache!$D$22),H67,0)","v":0},{"$f":"IF(OR(E67=Sprache!$C$23,E67=Sprache!$D$23),F67,0)+IF(OR(G67=Sprache!$C$23,G67=Sprache!$D$23),H67,0)","v":0},{"$f":"IF(OR(E67=Sprache!$C$24,E67=Sprache!$D$24),F67,0)+IF(OR(G67=Sprache!$C$24,G67=Sprache!$D$24),H67,0)","v":0},0,{"$f":"'Formulaire B '!$G$11*I67+'Formulaire B '!$G$11*J67+'Formulaire B '!$G$12*K67+'Formulaire B '!$G$13*L67+'Formulaire B '!$G$14*M67+'Formulaire B '!$G$15*N67","v":0},"",null,null,null,0,null,null,"","",{"$f":"IF(B67<>\"\",HYPERLINK($AC$9&AB67,Sprache!$E$25 &\" \"&B67),\"\")","v":""},null,58,{"$f":"Eingabemeldung(Sprache!$E$18,Sprache!$E$17,'Formulaire C'!E67)","v":""},{"$f":"Eingabemeldung(Sprache!$E$18,Sprache!$E$17,'Formulaire C'!G67)","v":""},false,0,{"$f":"IF(X67<Parameter!$C$3,1,0)","v":0}]
[null,null,null,null,null,null,null,null,{"$f":"IF(OR(E68=Sprache!$C$19,E68=Sprache!$D$19),F68,0)+IF(OR(G68=Sprache!$C$19,G68=Sprache!$D$19),H68,0)","v":0},{"$f":"IF(OR(E68=Sprache!$C$20,E68=Sprache!$D$20),F68,0)+IF(OR(G68=Sprache!$C$20,G68=Sprache!$D$20),H68,0)","v":0},{"$f":"IF(OR(E68=Sprache!$C$21,E68=Sprache!$D$21),F68,0)+IF(OR(G68=Sprache!$C$21,G68=Sprache!$D$21),H68,0)","v":0},{"$f":"IF(OR(E68=Sprache!$C$22,E68=Sprache!$D$22),F68,0)+IF(OR(G68=Sprache!$C$22,G68=Sprache!$D$22),H68,0)","v":0},{"$f":"IF(OR(E68=Sprache!$C$23,E68=Sprache!$D$23),F68,0)+IF(OR(G68=Sprache!$C$23,G68=Sprache!$D$23),H68,0)","v":0},{"$f":"IF(OR(E68=Sprache!$C$24,E68=Sprache!$D$24),F68,0)+IF(OR(G68=Sprache!$C$24,G68=Sprache!$D$24),H68,0)","v":0},0,{"$f":"'Formulaire B '!$G$11*I68+'Formulaire B '!$G$11*J68+'Formulaire B '!$G$12*K68+'Formulaire B '!$G$13*L68+'Formulaire B '!$G$14*M68+'Formulaire B '!$G$15*N68","v":0},"",null,null,null,0,null,null,"","",{"$f":"IF(B68<>\"\",HYPERLINK($AC$9&AB68,Sprache!$E$25 &\" \"&B68),\"\")","v":""},null,59,{"$f":"Eingabemeldung(Sprache!$E$18,Sprache!$E$17,'Formulaire C'!E68)","v":""},{"$f":"Eingabemeldung(Sprache!$E$18,Sprache!$E$17,'Formulaire C'!G68)","v":""},false,0,{"$f":"IF(X68<Parameter!$C$3,1,0)","v":0}]
[null,null,null,null,null,null,null,null,{"$f":"IF(OR(E69=Sprache!$C$19,E69=Sprache!$D$19),F69,0)+IF(OR(G69=Sprache!$C$19,G69=Sprache!$D$19),H69,0)","v":0},{"$f":"IF(OR(E69=Sprache!$C$20,E69=Sprache!$D$20),F69,0)+IF(OR(G69=Sprache!$C$20,G69=Sprache!$D$20),H69,0)","v":0},{"$f":"IF(OR(E69=Sprache!$C$21,E69=Sprache!$D$21),F69,0)+IF(OR(G69=Sprache!$C$21,G69=Sprache!$D$21),H69,0)","v":0},{"$f":"IF(OR(E69=Sprache!$C$22,E69=Sprache!$D$22),F69,0)+IF(OR(G69=Sprache!$C$22,G69=Sprache!$D$22),H69,0)","v":0},{"$f":"IF(OR(E69=Sprache!$C$23,E69=Sprache!$D$23),F69,0)+IF(OR(G69=Sprache!$C$23,G69=Sprache!$D$23),H69,0)","v":0},{"$f":"IF(OR(E69=Sprache!$C$24,E69=Sprache!$D$24),F69,0)+IF(OR(G69=Sprache!$C$24,G69=Sprache!$D$24),H69,0)","v":0},0,{"$f":"'Formulaire B '!$G$11*I69+'Formulaire B '!$G$11*J69+'Formulaire B '!$G$12*K69+'Formulaire B '!$G$13*L69+'Formulaire B '!$G$14*M69+'Formulaire B '!$G$15*N69","v":0},"",null,null,null,0,null,null,"","",{"$f":"IF(B69<>\"\",HYPERLINK($AC$9&AB69,Sprache!$E$25 &\" \"&B69),\"\")","v":""},null,60,{"$f":"Eingabemeldung(Sprache!$E$18,Sprache!$E$17,'Formulaire C'!E69)","v":""},{"$f":"Eingabemeldung(Sprache!$E$18,Sprache!$E$17,'Formulaire C'!G69)","v":""},false,0,{"$f":"IF(X69<Parameter!$C$3,1,0)","v":0}]
[null,null,null,null,null,null,null,null,{"$f":"IF(OR(E70=Sprache!$C$19,E70=Sprache!$D$19),F70,0)+IF(OR(G70=Sprache!$C$19,G70=Sprache!$D$19),H70,0)","v":0},{"$f":"IF(OR(E70=Sprache!$C$20,E70=Sprache!$D$20),F70,0)+IF(OR(G70=Sprache!$C$20,G70=Sprache!$D$20),H70,0)","v":0},{"$f":"IF(OR(E70=Sprache!$C$21,E70=Sprache!$D$21),F70,0)+IF(OR(G70=Sprache!$C$21,G70=Sprache!$D$21),H70,0)","v":0},{"$f":"IF(OR(E70=Sprache!$C$22,E70=Sprache!$D$22),F70,0)+IF(OR(G70=Sprache!$C$22,G70=Sprache!$D$22),H70,0)","v":0},{"$f":"IF(OR(E70=Sprache!$C$23,E70=Sprache!$D$23),F70,0)+IF(OR(G70=Sprache!$C$23,G70=Sprache!$D$23),H70,0)","v":0},{"$f":"IF(OR(E70=Sprache!$C$24,E70=Sprache!$D$24),F70,0)+IF(OR(G70=Sprache!$C$24,G70=Sprache!$D$24),H70,0)","v":0},0,{"$f":"'Formulaire B '!$G$11*I70+'Formulaire B '!$G$11*J70+'Formulaire B '!$G$12*K70+'Formulaire B '!$G$13*L70+'Formulaire B '!$G$14*M70+'Formulaire B '!$G$15*N70","v":0},"",null,null,null,0,null,null,"","",{"$f":"IF(B70<>\"\",HYPERLINK($AC$9&AB70,Sprache!$E$25 &\" \"&B70),\"\")","v":""},null,61,{"$f":"Eingabemeldung(Sprache!$E$18,Sprache!$E$17,'Formulaire C'!E70)","v":""},{"$f":"Eingabemeldung(Sprache!$E$18,Sprache!$E$17,'Formulaire C'!G70)","v":""},false,0,{"$f":"IF(X70<Parameter!$C$3,1,0)","v":0}]
[null,null,null,null,null,null,null,null,{"$f":"IF(OR(E71=Sprache!$C$19,E71=Sprache!$D$19),F71,0)+IF(OR(G71=Sprache!$C$19,G71=Sprache!$D$19),H71,0)","v":0},{"$f":"IF(OR(E71=Sprache!$C$20,E71=Sprache!$D$20),F71,0)+IF(OR(G71=Sprache!$C$20,G71=Sprache!$D$20),H71,0)","v":0},{"$f":"IF(OR(E71=Sprache!$C$21,E71=Sprache!$D$21),F71,0)+IF(OR(G71=Sprache!$C$21,G71=Sprache!$D$21),H71,0)","v":0},{"$f":"IF(OR(E71=Sprache!$C$22,E71=Sprache!$D$22),F71,0)+IF(OR(G71=Sprache!$C$22,G71=Sprache!$D$22),H71,0)","v":0},{"$f":"IF(OR(E71=Sprache!$C$23,E71=Sprache!$D$23),F71,0)+IF(OR(G71=Sprache!$C$23,G71=Sprache!$D$23),H71,0)","v":0},{"$f":"IF(OR(E71=Sprache!$C$24,E71=Sprache!$D$24),F71,0)+IF(OR(G71=Sprache!$C$24,G71=Sprache!$D$24),H71,0)","v":0},0,{"$f":"'Formulaire B '!$G$11*I71+'Formulaire B '!$G$11*J71+'Formulaire B '!$G$12*K71+'Formulaire B '!$G$13*L71+'Formulaire B '!$G$14*M71+'Formulaire B '!$G$15*N71","v":0},"",null,null,null,0,null,null,"","",{"$f":"IF(B71<>\"\",HYPERLINK($AC$9&AB71,Sprache!$E$25 &\" \"&B71),\"\")","v":""},null,62,{"$f":"Eingabemeldung(Sprache!$E$18,Sprache!$E$17,'Formulaire C'!E71)","v":""},{"$f":"Eingabemeldung(Sprache!$E$18,Sprache!$E$17,'Formulaire C'!G71)","v":""},false,0,{"$f":"IF(X71<Parameter!$C$3,1,0)","v":0}]
[null,null,null,null,null,null,null,null,{"$f":"IF(OR(E72=Sprache!$C$19,E72=Sprache!$D$19),F72,0)+IF(OR(G72=Sprache!$C$19,G72=Sprache!$D$19),H72,0)","v":0},{"$f":"IF(OR(E72=Sprache!$C$20,E72=Sprache!$D$20),F72,0)+IF(OR(G72=Sprache!$C$20,G72=Sprache!$D$20),H72,0)","v":0},{"$f":"IF(OR(E72=Sprache!$C$21,E72=Sprache!$D$21),F72,0)+IF(OR(G72=Sprache!$C$21,G72=Sprache!$D$21),H72,0)","v":0},{"$f":"IF(OR(E72=Sprache!$C$22,E72=Sprache!$D$22),F72,0)+IF(OR(G72=Sprache!$C$22,G72=Sprache!$D$22),H72,0)","v":0},{"$f":"IF(OR(E72=Sprache!$C$23,E72=Sprache!$D$23),F72,0)+IF(OR(G72=Sprache!$C$23,G72=Sprache!$D$23),H72,0)","v":0},{"$f":"IF(OR(E72=Sprache!$C$24,E72=Sprache!$D$24),F72,0)+IF(OR(G72=Sprache!$C$24,G72=Sprache!$D$24),H72,0)","v":0},0,{"$f":"'Formulaire B '!$G$11*I72+'Formulaire B '!$G$11*J72+'Formulaire B '!$G$12*K72+'Formulaire B '!$G$13*L72+'Formulaire B '!$G$14*M72+'Formulaire B '!$G$15*N72","v":0},"",null,null,null,0,null,null,"","",{"$f":"IF(B72<>\"\",HYPERLINK($AC$9&AB72,Sprache!$E$25 &\" \"&B72),\"\")","v":""},null,63,{"$f":"Eingabemeldung(Sprache!$E$18,Sprache!$E$17,'Formulaire C'!E72)","v":""},{"$f":"Eingabemeldung(Sprache!$E$18,Sprache!$E$17,'Formulaire C'!G72)","v":""},false,0,{"$f":"IF(X72<Parameter!$C$3,1,0)","v":0}]
[null,null,null,null,null,null,null,null,{"$f":"IF(OR(E73=Sprache!$C$19,E73=Sprache!$D$19),F73,0)+IF(OR(G73=Sprache!$C$19,G73=Sprache!$D$19),H73,0)","v":0},{"$f":"IF(OR(E73=Sprache!$C$20,E73=Sprache!$D$20),F73,0)+IF(OR(G73=Sprache!$C$20,G73=Sprache!$D$20),H73,0)","v":0},{"$f":"IF(OR(E73=Sprache!$C$21,E73=Sprache!$D$21),F73,0)+IF(OR(G73=Sprache!$C$21,G73=Sprache!$D$21),H73,0)","v":0},{"$f":"IF(OR(E73=Sprache!$C$22,E73=Sprache!$D$22),F73,0)+IF(OR(G73=Sprache!$C$22,G73=Sprache!$D$22),H73,0)","v":0},{"$f":"IF(OR(E73=Sprache!$C$23,E73=Sprache!$D$23),F73,0)+IF(OR(G73=Sprache!$C$23,G73=Sprache!$D$23),H73,0)","v":0},{"$f":"IF(OR(E73=Sprache!$C$24,E73=Sprache!$D$24),F73,0)+IF(OR(G73=Sprache!$C$24,G73=Sprache!$D$24),H73,0)","v":0},0,{"$f":"'Formulaire B '!$G$11*I73+'Formulaire B '!$G$11*J73+'Formulaire B '!$G$12*K73+'Formulaire B '!$G$13*L73+'Formulaire B '!$G$14*M73+'Formulaire B '!$G$15*N73","v":0},"",null,null,null,0,null,null,"","",{"$f":"IF(B73<>\"\",HYPERLINK($AC$9&AB73,Sprache!$E$25 &\" \"&B73),\"\")","v":""},null,64,{"$f":"Eingabemeldung(Sprache!$E$18,Sprache!$E$17,'Formulaire C'!E73)","v":""},{"$f":"Eingabemeldung(Sprache!$E$18,Sprache!$E$17,'Formulaire C'!G73)","v":""},false,0,{"$f":"IF(X73<Parameter!$C$3,1,0)","v":0}]
[null,null,null,null,null,null,null,null,{"$f":"IF(OR(E74=Sprache!$C$19,E74=Sprache!$D$19),F74,0)+IF(OR(G74=Sprache!$C$19,G74=Sprache!$D$19),H74,0)","v":0},{"$f":"IF(OR(E74=Sprache!$C$20,E74=Sprache!$D$20),F74,0)+IF(OR(G74=Sprache!$C$20,G74=Sprache!$D$20),H74,0)","v":0},{"$f":"IF(OR(E74=Sprache!$C$21,E74=Sprache!$D$21),F74,0)+IF(OR(G74=Sprache!$C$21,G74=Sprache!$D$21),H74,0)","v":0},{"$f":"IF(OR(E74=Sprache!$C$22,E74=Sprache!$D$22),F74,0)+IF(OR(G74=Sprache!$C$22,G74=Sprache!$D$22),H74,0)","v":0},{"$f":"IF(OR(E74=Sprache!$C$23,E74=Sprache!$D$23),F74,0)+IF(OR(G74=Sprache!$C$23,G74=Sprache!$D$23),H74,0)","v":0},{"$f":"IF(OR(E74=Sprache!$C$24,E74=Sprache!$D$24),F74,0)+IF(OR(G74=Sprache!$C$24,G74=Sprache!$D$24),H74,0)","v":0},0,{"$f":"'Formulaire B '!$G$11*I74+'Formulaire B '!$G$11*J74+'Formulaire B '!$G$12*K74+'Formulaire B '!$G$13*L74+'Formulaire B '!$G$14*M74+'Formulaire B '!$G$15*N74","v":0},"",null,null,null,0,null,null,"","",{"$f":"IF(B74<>\"\",HYPERLINK($AC$9&AB74,Sprache!$E$25 &\" \"&B74),\"\")","v":""},null,65,{"$f":"Eingabemeldung(Sprache!$E$18,Sprache!$E$17,'Formulaire C'!E74)","v":""},{"$f":"Eingabemeldung(Sprache!$E$18,Sprache!$E$17,'Formulaire C'!G74)","v":""},false,0,{"$f":"IF(X74<Parameter!$C$3,1,0)","v":0}]
[null,null,null,null,null,null,null,null,{"$f":"IF(OR(E75=Sprache!$C$19,E75=Sprache!$D$19),F75,0)+IF(OR(G75=Sprache!$C$19,G75=Sprache!$D$19),H75,0)","v":0},{"$f":"IF(OR(E75=Sprache!$C$20,E75=Sprache!$D$20),F75,0)+IF(OR(G75=Sprache!$C$20,G75=Sprache!$D$20),H75,0)","v":0},{"$f":"IF(OR(E75=Sprache!$C$21,E75=Sprache!$D$21),F75,0)+IF(OR(G75=Sprache!$C$21,G75=Sprache!$D$21),H75,0)","v":0},{"$f":"IF(OR(E75=Sprache!$C$22,E75=Sprache!$D$22),F75,0)+IF(OR(G75=Sprache!$C$22,G75=Sprache!$D$22),H75,0)","v":0},{"$f":"IF(OR(E75=Sprache!$C$23,E75=Sprache!$D$23),F75,0)+IF(OR(G75=Sprache!$C$23,G75=Sprache!$D$23),H75,0)","v":0},{"$f":"IF(OR(E75=Sprache!$C$24,E75=Sprache!$D$24),F75,0)+IF(OR(G75=Sprache!$C$24,G75=Sprache!$D$24),H75,0)","v":0},0,{"$f":"'Formulaire B '!$G$11*I75+'Formulaire B '!$G$11*J75+'Formulaire B '!$G$12*K75+'Formulaire B '!$G$13*L75+'Formulaire B '!$G$14*M75+'Formulaire B '!$G$15*N75","v":0},"",null,null,null,0,null,null,"","",{"$f":"IF(B75<>\"\",HYPERLINK($AC$9&AB75,Sprache!$E$25 &\" \"&B75),\"\")","v":""},null,66,{"$f":"Eingabemeldung(Sprache!$E$18,Sprache!$E$17,'Formulaire C'!E75)","v":""},{"$f":"Eingabemeldung(Sprache!$E$18,Sprache!$E$17,'Formulaire C'!G75)","v":""},false,0,{"$f":"IF(X75<Parameter!$C$3,1,0)","v":0}]
[null,null,null,null,null,null,null,null,{"$f":"IF(OR(E76=Sprache!$C$19,E76=Sprache!$D$19),F76,0)+IF(OR(G76=Sprache!$C$19,G76=Sprache!$D$19),H76,0)","v":0},{"$f":"IF(OR(E76=Sprache!$C$20,E76=Sprache!$D$20),F76,0)+IF(OR(G76=Sprache!$C$20,G76=Sprache!$D$20),H76,0)","v":0},{"$f":"IF(OR(E76=Sprache!$C$21,E76=Sprache!$D$21),F76,0)+IF(OR(G76=Sprache!$C$21,G76=Sprache!$D$21),H76,0)","v":0},{"$f":"IF(OR(E76=Sprache!$C$22,E76=Sprache!$D$22),F76,0)+IF(OR(G76=Sprache!$C$22,G76=Sprache!$D$22),H76,0)","v":0},{"$f":"IF(OR(E76=Sprache!$C$23,E76=Sprache!$D$23),F76,0)+IF(OR(G76=Sprache!$C$23,G76=Sprache!$D$23),H76,0)","v":0},{"$f":"IF(OR(E76=Sprache!$C$24,E76=Sprache!$D$24),F76,0)+IF(OR(G76=Sprache!$C$24,G76=Sprache!$D$24),H76,0)","v":0},0,{"$f":"'Formulaire B '!$G$11*I76+'Formulaire B '!$G$11*J76+'Formulaire B '!$G$12*K76+'Formulaire B '!$G$13*L76+'Formulaire B '!$G$14*M76+'Formulaire B '!$G$15*N76","v":0},"",null,null,null,0,null,null,"","",{"$f":"IF(B76<>\"\",HYPERLINK($AC$9&AB76,Sprache!$E$25 &\" \"&B76),\"\")","v":""},null,67,{"$f":"Eingabemeldung(Sprache!$E$18,Sprache!$E$17,'Formulaire C'!E76)","v":""},{"$f":"Eingabemeldung(Sprache!$E$18,Sprache!$E$17,'Formulaire C'!G76)","v":""},false,0,{"$f":"IF(X76<Parameter!$C$3,1,0)","v":0}]
[null,null,null,null,null,null,null,null,{"$f":"IF(OR(E77=Sprache!$C$19,E77=Sprache!$D$19),F77,0)+IF(OR(G77=Sprache!$C$19,G77=Sprache!$D$19),H77,0)","v":0},{"$f":"IF(OR(E77=Sprache!$C$20,E77=Sprache!$D$20),F77,0)+IF(OR(G77=Sprache!$C$20,G77=Sprache!$D$20),H77,0)","v":0},{"$f":"IF(OR(E77=Sprache!$C$21,E77=Sprache!$D$21),F77,0)+IF(OR(G77=Sprache!$C$21,G77=Sprache!$D$21),H77,0)","v":0},{"$f":"IF(OR(E77=Sprache!$C$22,E77=Sprache!$D$22),F77,0)+IF(OR(G77=Sprache!$C$22,G77=Sprache!$D$22),H77,0)","v":0},{"$f":"IF(OR(E77=Sprache!$C$23,E77=Sprache!$D$23),F77,0)+IF(OR(G77=Sprache!$C$23,G77=Sprache!$D$23),H77,0)","v":0},{"$f":"IF(OR(E77=Sprache!$C$24,E77=Sprache!$D$24),F77,0)+IF(OR(G77=Sprache!$C$24,G77=Sprache!$D$24),H77,0)","v":0},0,{"$f":"'Formulaire B '!$G$11*I77+'Formulaire B '!$G$11*J77+'Formulaire B '!$G$12*K77+'Formulaire B '!$G$13*L77+'Formulaire B '!$G$14*M77+'Formulaire B '!$G$15*N77","v":0},"",null,null,null,0,null,null,"","",{"$f":"IF(B77<>\"\",HYPERLINK($AC$9&AB77,Sprache!$E$25 &\" \"&B77),\"\")","v":""},null,68,{"$f":"Eingabemeldung(Sprache!$E$18,Sprache!$E$17,'Formulaire C'!E77)","v":""},{"$f":"Eingabemeldung(Sprache!$E$18,Sprache!$E$17,'Formulaire C'!G77)","v":""},false,0,{"$f":"IF(X77<Parameter!$C$3,1,0)","v":0}]
[null,null,null,null,null,null,null,null,{"$f":"IF(OR(E78=Sprache!$C$19,E78=Sprache!$D$19),F78,0)+IF(OR(G78=Sprache!$C$19,G78=Sprache!$D$19),H78,0)","v":0},{"$f":"IF(OR(E78=Sprache!$C$20,E78=Sprache!$D$20),F78,0)+IF(OR(G78=Sprache!$C$20,G78=Sprache!$D$20),H78,0)","v":0},{"$f":"IF(OR(E78=Sprache!$C$21,E78=Sprache!$D$21),F78,0)+IF(OR(G78=Sprache!$C$21,G78=Sprache!$D$21),H78,0)","v":0},{"$f":"IF(OR(E78=Sprache!$C$22,E78=Sprache!$D$22),F78,0)+IF(OR(G78=Sprache!$C$22,G78=Sprache!$D$22),H78,0)","v":0},{"$f":"IF(OR(E78=Sprache!$C$23,E78=Sprache!$D$23),F78,0)+IF(OR(G78=Sprache!$C$23,G78=Sprache!$D$23),H78,0)","v":0},{"$f":"IF(OR(E78=Sprache!$C$24,E78=Sprache!$D$24),F78,0)+IF(OR(G78=Sprache!$C$24,G78=Sprache!$D$24),H78,0)","v":0},0,{"$f":"'Formulaire B '!$G$11*I78+'Formulaire B '!$G$11*J78+'Formulaire B '!$G$12*K78+'Formulaire B '!$G$13*L78+'Formulaire B '!$G$14*M78+'Formulaire B '!$G$15*N78","v":0},"",null,null,null,0,null,null,"","",{"$f":"IF(B78<>\"\",HYPERLINK($AC$9&AB78,Sprache!$E$25 &\" \"&B78),\"\")","v":""},null,69,{"$f":"Eingabemeldung(Sprache!$E$18,Sprache!$E$17,'Formulaire C'!E78)","v":""},{"$f":"Eingabemeldung(Sprache!$E$18,Sprache!$E$17,'Formulaire C'!G78)","v":""},false,0,{"$f":"IF(X78<Parameter!$C$3,1,0)","v":0}]
[null,null,null,null,null,null,null,null,{"$f":"IF(OR(E79=Sprache!$C$19,E79=Sprache!$D$19),F79,0)+IF(OR(G79=Sprache!$C$19,G79=Sprache!$D$19),H79,0)","v":0},{"$f":"IF(OR(E79=Sprache!$C$20,E79=Sprache!$D$20),F79,0)+IF(OR(G79=Sprache!$C$20,G79=Sprache!$D$20),H79,0)","v":0},{"$f":"IF(OR(E79=Sprache!$C$21,E79=Sprache!$D$21),F79,0)+IF(OR(G79=Sprache!$C$21,G79=Sprache!$D$21),H79,0)","v":0},{"$f":"IF(OR(E79=Sprache!$C$22,E79=Sprache!$D$22),F79,0)+IF(OR(G79=Sprache!$C$22,G79=Sprache!$D$22),H79,0)","v":0},{"$f":"IF(OR(E79=Sprache!$C$23,E79=Sprache!$D$23),F79,0)+IF(OR(G79=Sprache!$C$23,G79=Sprache!$D$23),H79,0)","v":0},{"$f":"IF(OR(E79=Sprache!$C$24,E79=Sprache!$D$24),F79,0)+IF(OR(G79=Sprache!$C$24,G79=Sprache!$D$24),H79,0)","v":0},0,{"$f":"'Formulaire B '!$G$11*I79+'Formulaire B '!$G$11*J79+'Formulaire B '!$G$12*K79+'Formulaire B '!$G$13*L79+'Formulaire B '!$G$14*M79+'Formulaire B '!$G$15*N79","v":0},"",null,null,null,0,null,null,"","",{"$f":"IF(B79<>\"\",HYPERLINK($AC$9&AB79,Sprache!$E$25 &\" \"&B79),\"\")","v":""},null,70,{"$f":"Eingabemeldung(Sprache!$E$18,Sprache!$E$17,'Formulaire C'!E79)","v":""},{"$f":"Eingabemeldung(Sprache!$E$18,Sprache!$E$17,'Formulaire C'!G79)","v":""},false,0,{"$f":"IF(X79<Parameter!$C$3,1,0)","v":0}]
[null,null,null,null,null,null,null,null,{"$f":"IF(OR(E80=Sprache!$C$19,E80=Sprache!$D$19),F80,0)+IF(OR(G80=Sprache!$C$19,G80=Sprache!$D$19),H80,0)","v":0},{"$f":"IF(OR(E80=Sprache!$C$20,E80=Sprache!$D$20),F80,0)+IF(OR(G80=Sprache!$C$20,G80=Sprache!$D$20),H80,0)","v":0},{"$f":"IF(OR(E80=Sprache!$C$21,E80=Sprache!$D$21),F80,0)+IF(OR(G80=Sprache!$C$21,G80=Sprache!$D$21),H80,0)","v":0},{"$f":"IF(OR(E80=Sprache!$C$22,E80=Sprache!$D$22),F80,0)+IF(OR(G80=Sprache!$C$22,G80=Sprache!$D$22),H80,0)","v":0},{"$f":"IF(OR(E80=Sprache!$C$23,E80=Sprache!$D$23),F80,0)+IF(OR(G80=Sprache!$C$23,G80=Sprache!$D$23),H80,0)","v":0},{"$f":"IF(OR(E80=Sprache!$C$24,E80=Sprache!$D$24),F80,0)+IF(OR(G80=Sprache!$C$24,G80=Sprache!$D$24),H80,0)","v":0},0,{"$f":"'Formulaire B '!$G$11*I80+'Formulaire B '!$G$11*J80+'Formulaire B '!$G$12*K80+'Formulaire B '!$G$13*L80+'Formulaire B '!$G$14*M80+'Formulaire B '!$G$15*N80","v":0},"",null,null,null,0,null,null,"","",{"$f":"IF(B80<>\"\",HYPERLINK($AC$9&AB80,Sprache!$E$25 &\" \"&B80),\"\")","v":""},null,71,{"$f":"Eingabemeldung(Sprache!$E$18,Sprache!$E$17,'Formulaire C'!E80)","v":""},{"$f":"Eingabemeldung(Sprache!$E$18,Sprache!$E$17,'Formulaire C'!G80)","v":""},false,0,{"$f":"IF(X80<Parameter!$C$3,1,0)","v":0}]
[null,null,null,null,null,null,null,null,{"$f":"IF(OR(E81=Sprache!$C$19,E81=Sprache!$D$19),F81,0)+IF(OR(G81=Sprache!$C$19,G81=Sprache!$D$19),H81,0)","v":0},{"$f":"IF(OR(E81=Sprache!$C$20,E81=Sprache!$D$20),F81,0)+IF(OR(G81=Sprache!$C$20,G81=Sprache!$D$20),H81,0)","v":0},{"$f":"IF(OR(E81=Sprache!$C$21,E81=Sprache!$D$21),F81,0)+IF(OR(G81=Sprache!$C$21,G81=Sprache!$D$21),H81,0)","v":0},{"$f":"IF(OR(E81=Sprache!$C$22,E81=Sprache!$D$22),F81,0)+IF(OR(G81=Sprache!$C$22,G81=Sprache!$D$22),H81,0)","v":0},{"$f":"IF(OR(E81=Sprache!$C$23,E81=Sprache!$D$23),F81,0)+IF(OR(G81=Sprache!$C$23,G81=Sprache!$D$23),H81,0)","v":0},{"$f":"IF(OR(E81=Sprache!$C$24,E81=Sprache!$D$24),F81,0)+IF(OR(G81=Sprache!$C$24,G81=Sprache!$D$24),H81,0)","v":0},0,{"$f":"'Formulaire B '!$G$11*I81+'Formulaire B '!$G$11*J81+'Formulaire B '!$G$12*K81+'Formulaire B '!$G$13*L81+'Formulaire B '!$G$14*M81+'Formulaire B '!$G$15*N81","v":0},"",null,null,null,0,null,null,"","",{"$f":"IF(B81<>\"\",HYPERLINK($AC$9&AB81,Sprache!$E$25 &\" \"&B81),\"\")","v":""},null,72,{"$f":"Eingabemeldung(Sprache!$E$18,Sprache!$E$17,'Formulaire C'!E81)","v":""},{"$f":"Eingabemeldung(Sprache!$E$18,Sprache!$E$17,'Formulaire C'!G81)","v":""},false,0,{"$f":"IF(X81<Parameter!$C$3,1,0)","v":0}]
[null,null,null,null,null,null,null,null,{"$f":"IF(OR(E82=Sprache!$C$19,E82=Sprache!$D$19),F82,0)+IF(OR(G82=Sprache!$C$19,G82=Sprache!$D$19),H82,0)","v":0},{"$f":"IF(OR(E82=Sprache!$C$20,E82=Sprache!$D$20),F82,0)+IF(OR(G82=Sprache!$C$20,G82=Sprache!$D$20),H82,0)","v":0},{"$f":"IF(OR(E82=Sprache!$C$21,E82=Sprache!$D$21),F82,0)+IF(OR(G82=Sprache!$C$21,G82=Sprache!$D$21),H82,0)","v":0},{"$f":"IF(OR(E82=Sprache!$C$22,E82=Sprache!$D$22),F82,0)+IF(OR(G82=Sprache!$C$22,G82=Sprache!$D$22),H82,0)","v":0},{"$f":"IF(OR(E82=Sprache!$C$23,E82=Sprache!$D$23),F82,0)+IF(OR(G82=Sprache!$C$23,G82=Sprache!$D$23),H82,0)","v":0},{"$f":"IF(OR(E82=Sprache!$C$24,E82=Sprache!$D$24),F82,0)+IF(OR(G82=Sprache!$C$24,G82=Sprache!$D$24),H82,0)","v":0},0,{"$f":"'Formulaire B '!$G$11*I82+'Formulaire B '!$G$11*J82+'Formulaire B '!$G$12*K82+'Formulaire B '!$G$13*L82+'Formulaire B '!$G$14*M82+'Formulaire B '!$G$15*N82","v":0},"",null,null,null,0,null,null,"","",{"$f":"IF(B82<>\"\",HYPERLINK($AC$9&AB82,Sprache!$E$25 &\" \"&B82),\"\")","v":""},null,73,{"$f":"Eingabemeldung(Sprache!$E$18,Sprache!$E$17,'Formulaire C'!E82)","v":""},{"$f":"Eingabemeldung(Sprache!$E$18,Sprache!$E$17,'Formulaire C'!G82)","v":""},false,0,{"$f":"IF(X82<Parameter!$C$3,1,0)","v":0}]
[null,null,null,null,null,null,null,null,{"$f":"IF(OR(E83=Sprache!$C$19,E83=Sprache!$D$19),F83,0)+IF(OR(G83=Sprache!$C$19,G83=Sprache!$D$19),H83,0)","v":0},{"$f":"IF(OR(E83=Sprache!$C$20,E83=Sprache!$D$20),F83,0)+IF(OR(G83=Sprache!$C$20,G83=Sprache!$D$20),H83,0)","v":0},{"$f":"IF(OR(E83=Sprache!$C$21,E83=Sprache!$D$21),F83,0)+IF(OR(G83=Sprache!$C$21,G83=Sprache!$D$21),H83,0)","v":0},{"$f":"IF(OR(E83=Sprache!$C$22,E83=Sprache!$D$22),F83,0)+IF(OR(G83=Sprache!$C$22,G83=Sprache!$D$22),H83,0)","v":0},{"$f":"IF(OR(E83=Sprache!$C$23,E83=Sprache!$D$23),F83,0)+IF(OR(G83=Sprache!$C$23,G83=Sprache!$D$23),H83,0)","v":0},{"$f":"IF(OR(E83=Sprache!$C$24,E83=Sprache!$D$24),F83,0)+IF(OR(G83=Sprache!$C$24,G83=Sprache!$D$24),H83,0)","v":0},0,{"$f":"'Formulaire B '!$G$11*I83+'Formulaire B '!$G$11*J83+'Formulaire B '!$G$12*K83+'Formulaire B '!$G$13*L83+'Formulaire B '!$G$14*M83+'Formulaire B '!$G$15*N83","v":0},"",null,null,null,0,null,null,"","",{"$f":"IF(B83<>\"\",HYPERLINK($AC$9&AB83,Sprache!$E$25 &\" \"&B83),\"\")","v":""},null,74,{"$f":"Eingabemeldung(Sprache!$E$18,Sprache!$E$17,'Formulaire C'!E83)","v":""},{"$f":"Eingabemeldung(Sprache!$E$18,Sprache!$E$17,'Formulaire C'!G83)","v":""},false,0,{"$f":"IF(X83<Parameter!$C$3,1,0)","v":0}]
[null,null,null,null,null,null,null,null,{"$f":"IF(OR(E84=Sprache!$C$19,E84=Sprache!$D$19),F84,0)+IF(OR(G84=Sprache!$C$19,G84=Sprache!$D$19),H84,0)","v":0},{"$f":"IF(OR(E84=Sprache!$C$20,E84=Sprache!$D$20),F84,0)+IF(OR(G84=Sprache!$C$20,G84=Sprache!$D$20),H84,0)","v":0},{"$f":"IF(OR(E84=Sprache!$C$21,E84=Sprache!$D$21),F84,0)+IF(OR(G84=Sprache!$C$21,G84=Sprache!$D$21),H84,0)","v":0},{"$f":"IF(OR(E84=Sprache!$C$22,E84=Sprache!$D$22),F84,0)+IF(OR(G84=Sprache!$C$22,G84=Sprache!$D$22),H84,0)","v":0},{"$f":"IF(OR(E84=Sprache!$C$23,E84=Sprache!$D$23),F84,0)+IF(OR(G84=Sprache!$C$23,G84=Sprache!$D$23),H84,0)","v":0},{"$f":"IF(OR(E84=Sprache!$C$24,E84=Sprache!$D$24),F84,0)+IF(OR(G84=Sprache!$C$24,G84=Sprache!$D$24),H84,0)","v":0},0,{"$f":"'Formulaire B '!$G$11*I84+'Formulaire B '!$G$11*J84+'Formulaire B '!$G$12*K84+'Formulaire B '!$G$13*L84+'Formulaire B '!$G$14*M84+'Formulaire B '!$G$15*N84","v":0},"",null,null,null,0,null,null,"","",{"$f":"IF(B84<>\"\",HYPERLINK($AC$9&AB84,Sprache!$E$25 &\" \"&B84),\"\")","v":""},null,75,{"$f":"Eingabemeldung(Sprache!$E$18,Sprache!$E$17,'Formulaire C'!E84)","v":""},{"$f":"Eingabemeldung(Sprache!$E$18,Sprache!$E$17,'Formulaire C'!G84)","v":""},false,0,{"$f":"IF(X84<Parameter!$C$3,1,0)","v":0}]
[null,null,null,null,null,null,null,null,{"$f":"IF(OR(E85=Sprache!$C$19,E85=Sprache!$D$19),F85,0)+IF(OR(G85=Sprache!$C$19,G85=Sprache!$D$19),H85,0)","v":0},{"$f":"IF(OR(E85=Sprache!$C$20,E85=Sprache!$D$20),F85,0)+IF(OR(G85=Sprache!$C$20,G85=Sprache!$D$20),H85,0)","v":0},{"$f":"IF(OR(E85=Sprache!$C$21,E85=Sprache!$D$21),F85,0)+IF(OR(G85=Sprache!$C$21,G85=Sprache!$D$21),H85,0)","v":0},{"$f":"IF(OR(E85=Sprache!$C$22,E85=Sprache!$D$22),F85,0)+IF(OR(G85=Sprache!$C$22,G85=Sprache!$D$22),H85,0)","v":0},{"$f":"IF(OR(E85=Sprache!$C$23,E85=Sprache!$D$23),F85,0)+IF(OR(G85=Sprache!$C$23,G85=Sprache!$D$23),H85,0)","v":0},{"$f":"IF(OR(E85=Sprache!$C$24,E85=Sprache!$D$24),F85,0)+IF(OR(G85=Sprache!$C$24,G85=Sprache!$D$24),H85,0)","v":0},0,{"$f":"'Formulaire B '!$G$11*I85+'Formulaire B '!$G$11*J85+'Formulaire B '!$G$12*K85+'Formulaire B '!$G$13*L85+'Formulaire B '!$G$14*M85+'Formulaire B '!$G$15*N85","v":0},"",null,null,null,0,null,null,"","",{"$f":"IF(B85<>\"\",HYPERLINK($AC$9&AB85,Sprache!$E$25 &\" \"&B85),\"\")","v":""},null,76,{"$f":"Eingabemeldung(Sprache!$E$18,Sprache!$E$17,'Formulaire C'!E85)","v":""},{"$f":"Eingabemeldung(Sprache!$E$18,Sprache!$E$17,'Formulaire C'!G85)","v":""},false,0,{"$f":"IF(X85<Parameter!$C$3,1,0)","v":0}]
[null,null,null,null,null,null,null,null,{"$f":"IF(OR(E86=Sprache!$C$19,E86=Sprache!$D$19),F86,0)+IF(OR(G86=Sprache!$C$19,G86=Sprache!$D$19),H86,0)","v":0},{"$f":"IF(OR(E86=Sprache!$C$20,E86=Sprache!$D$20),F86,0)+IF(OR(G86=Sprache!$C$20,G86=Sprache!$D$20),H86,0)","v":0},{"$f":"IF(OR(E86=Sprache!$C$21,E86=Sprache!$D$21),F86,0)+IF(OR(G86=Sprache!$C$21,G86=Sprache!$D$21),H86,0)","v":0},{"$f":"IF(OR(E86=Sprache!$C$22,E86=Sprache!$D$22),F86,0)+IF(OR(G86=Sprache!$C$22,G86=Sprache!$D$22),H86,0)","v":0},{"$f":"IF(OR(E86=Sprache!$C$23,E86=Sprache!$D$23),F86,0)+IF(OR(G86=Sprache!$C$23,G86=Sprache!$D$23),H86,0)","v":0},{"$f":"IF(OR(E86=Sprache!$C$24,E86=Sprache!$D$24),F86,0)+IF(OR(G86=Sprache!$C$24,G86=Sprache!$D$24),H86,0)","v":0},0,{"$f":"'Formulaire B '!$G$11*I86+'Formulaire B '!$G$11*J86+'Formulaire B '!$G$12*K86+'Formulaire B '!$G$13*L86+'Formulaire B '!$G$14*M86+'Formulaire B '!$G$15*N86","v":0},"",null,null,null,0,null,null,"","",{"$f":"IF(B86<>\"\",HYPERLINK($AC$9&AB86,Sprache!$E$25 &\" \"&B86),\"\")","v":""},null,77,{"$f":"Eingabemeldung(Sprache!$E$18,Sprache!$E$17,'Formulaire C'!E86)","v":""},{"$f":"Eingabemeldung(Sprache!$E$18,Sprache!$E$17,'Formulaire C'!G86)","v":""},false,0,{"$f":"IF(X86<Parameter!$C$3,1,0)","v":0}]
[null,null,null,null,null,null,null,null,{"$f":"IF(OR(E87=Sprache!$C$19,E87=Sprache!$D$19),F87,0)+IF(OR(G87=Sprache!$C$19,G87=Sprache!$D$19),H87,0)","v":0},{"$f":"IF(OR(E87=Sprache!$C$20,E87=Sprache!$D$20),F87,0)+IF(OR(G87=Sprache!$C$20,G87=Sprache!$D$20),H87,0)","v":0},{"$f":"IF(OR(E87=Sprache!$C$21,E87=Sprache!$D$21),F87,0)+IF(OR(G87=Sprache!$C$21,G87=Sprache!$D$21),H87,0)","v":0},{"$f":"IF(OR(E87=Sprache!$C$22,E87=Sprache!$D$22),F87,0)+IF(OR(G87=Sprache!$C$22,G87=Sprache!$D$22),H87,0)","v":0},{"$f":"IF(OR(E87=Sprache!$C$23,E87=Sprache!$D$23),F87,0)+IF(OR(G87=Sprache!$C$23,G87=Sprache!$D$23),H87,0)","v":0},{"$f":"IF(OR(E87=Sprache!$C$24,E87=Sprache!$D$24),F87,0)+IF(OR(G87=Sprache!$C$24,G87=Sprache!$D$24),H87,0)","v":0},{"$f":"F87+H87","v":0},{"$f":"'Formulaire B '!$G$11*I87+'Formulaire B '!$G$11*J87+'Formulaire B '!$G$12*K87+'Formulaire B '!$G$13*L87+'Formulaire B '!$G$14*M87+'Formulaire B '!$G$15*N87","v":0},"",null,null,null,{"$f":"(F87*S87)+(H87*T87)","v":0},null,null,"","",{"$f":"IF(B87<>\"\",HYPERLINK($AC$9&AB87,Sprache!$E$25 &\" \"&B87),\"\")","v":""},null,78,{"$f":"Eingabemeldung(Sprache!$E$18,Sprache!$E$17,'Formulaire C'!E87)","v":""},{"$f":"Eingabemeldung(Sprache!$E$18,Sprache!$E$17,'Formulaire C'!G87)","v":""},false,0,{"$f":"IF(X87<Parameter!$C$3,1,0)","v":0}]
[null,null,null,null,null,null,null,null,{"$f":"IF(OR(E88=Sprache!$C$19,E88=Sprache!$D$19),F88,0)+IF(OR(G88=Sprache!$C$19,G88=Sprache!$D$19),H88,0)","v":0},{"$f":"IF(OR(E88=Sprache!$C$20,E88=Sprache!$D$20),F88,0)+IF(OR(G88=Sprache!$C$20,G88=Sprache!$D$20),H88,0)","v":0},{"$f":"IF(OR(E88=Sprache!$C$21,E88=Sprache!$D$21),F88,0)+IF(OR(G88=Sprache!$C$21,G88=Sprache!$D$21),H88,0)","v":0},{"$f":"IF(OR(E88=Sprache!$C$22,E88=Sprache!$D$22),F88,0)+IF(OR(G88=Sprache!$C$22,G88=Sprache!$D$22),H88,0)","v":0},{"$f":"IF(OR(E88=Sprache!$C$23,E88=Sprache!$D$23),F88,0)+IF(OR(G88=Sprache!$C$23,G88=Sprache!$D$23),H88,0)","v":0},{"$f":"IF(OR(E88=Sprache!$C$24,E88=Sprache!$D$24),F88,0)+IF(OR(G88=Sprache!$C$24,G88=Sprache!$D$24),H88,0)","v":0},0,{"$f":"'Formulaire B '!$G$11*I88+'Formulaire B '!$G$11*J88+'Formulaire B '!$G$12*K88+'Formulaire B '!$G$13*L88+'Formulaire B '!$G$14*M88+'Formulaire B '!$G$15*N88","v":0},{"$f":"IFERROR(P88/($H$7-$P$228),\"\")","v":""},null,null,null,0,null,null,{"$f":"IF(U88=0, \"\",V88*W88/U88)","v":""},{"$f":"IF(AG88,\"X\",\"\")","v":""},{"$f":"IF(B88<>\"\",HYPERLINK($AC$9&AB88,Sprache!$E$25 &\" \"&B88),\"\")","v":""},null,79,{"$f":"Eingabemeldung(Sprache!$E$18,Sprache!$E$17,'Formulaire C'!E88)","v":""},{"$f":"Eingabemeldung(Sprache!$E$18,Sprache!$E$17,'Formulaire C'!G88)","v":""},{"$f":"ISNUMBER(R88)","v":false},{"$f":"IF(Y88=\"X\",1,0)","v":0},{"$f":"IF(X88<Parameter!$C$3,1,0)","v":0}]
[null,null,null,null,null,null,null,null,{"$f":"IF(OR(E89=Sprache!$C$19,E89=Sprache!$D$19),F89,0)+IF(OR(G89=Sprache!$C$19,G89=Sprache!$D$19),H89,0)","v":0},{"$f":"IF(OR(E89=Sprache!$C$20,E89=Sprache!$D$20),F89,0)+IF(OR(G89=Sprache!$C$20,G89=Sprache!$D$20),H89,0)","v":0},{"$f":"IF(OR(E89=Sprache!$C$21,E89=Sprache!$D$21),F89,0)+IF(OR(G89=Sprache!$C$21,G89=Sprache!$D$21),H89,0)","v":0},{"$f":"IF(OR(E89=Sprache!$C$22,E89=Sprache!$D$22),F89,0)+IF(OR(G89=Sprache!$C$22,G89=Sprache!$D$22),H89,0)","v":0},{"$f":"IF(OR(E89=Sprache!$C$23,E89=Sprache!$D$23),F89,0)+IF(OR(G89=Sprache!$C$23,G89=Sprache!$D$23),H89,0)","v":0},{"$f":"IF(OR(E89=Sprache!$C$24,E89=Sprache!$D$24),F89,0)+IF(OR(G89=Sprache!$C$24,G89=Sprache!$D$24),H89,0)","v":0},0,{"$f":"'Formulaire B '!$G$11*I89+'Formulaire B '!$G$11*J89+'Formulaire B '!$G$12*K89+'Formulaire B '!$G$13*L89+'Formulaire B '!$G$14*M89+'Formulaire B '!$G$15*N89","v":0},"",null,null,null,0,null,null,"","",{"$f":"IF(B89<>\"\",HYPERLINK($AC$9&AB89,Sprache!$E$25 &\" \"&B89),\"\")","v":""},null,{"$f":"AB88+1","v":80},{"$f":"Eingabemeldung(Sprache!$E$18,Sprache!$E$17,'Formulaire C'!E89)","v":""},{"$f":"Eingabemeldung(Sprache!$E$18,Sprache!$E$17,'Formulaire C'!G89)","v":""},false,0,{"$f":"IF(X89<Parameter!$C$3,1,0)","v":0}]
[null,null,null,null,null,null,null,null,{"$f":"IF(OR(E90=Sprache!$C$19,E90=Sprache!$D$19),F90,0)+IF(OR(G90=Sprache!$C$19,G90=Sprache!$D$19),H90,0)","v":0},{"$f":"IF(OR(E90=Sprache!$C$20,E90=Sprache!$D$20),F90,0)+IF(OR(G90=Sprache!$C$20,G90=Sprache!$D$20),H90,0)","v":0},{"$f":"IF(OR(E90=Sprache!$C$21,E90=Sprache!$D$21),F90,0)+IF(OR(G90=Sprache!$C$21,G90=Sprache!$D$21),H90,0)","v":0},{"$f":"IF(OR(E90=Sprache!$C$22,E90=Sprache!$D$22),F90,0)+IF(OR(G90=Sprache!$C$22,G90=Sprache!$D$22),H90,0)","v":0},{"$f":"IF(OR(E90=Sprache!$C$23,E90=Sprache!$D$23),F90,0)+IF(OR(G90=Sprache!$C$23,G90=Sprache!$D$23),H90,0)","v":0},{"$f":"IF(OR(E90=Sprache!$C$24,E90=Sprache!$D$24),F90,0)+IF(OR(G90=Sprache!$C$24,G90=Sprache!$D$24),H90,0)","v":0},0,{"$f":"'Formulaire B '!$G$11*I90+'Formulaire B '!$G$11*J90+'Formulaire B '!$G$12*K90+'Formulaire B '!$G$13*L90+'Formulaire B '!$G$14*M90+'Formulaire B '!$G$15*N90","v":0},"",null,null,null,0,null,null,"","",{"$f":"IF(B90<>\"\",HYPERLINK($AC$9&AB90,Sprache!$E$25 &\" \"&B90),\"\")","v":""},null,81,{"$f":"Eingabemeldung(Sprache!$E$18,Sprache!$E$17,'Formulaire C'!E90)","v":""},{"$f":"Eingabemeldung(Sprache!$E$18,Sprache!$E$17,'Formulaire C'!G90)","v":""},false,0,{"$f":"IF(X90<Parameter!$C$3,1,0)","v":0}]
[null,null,null,null,null,null,null,null,{"$f":"IF(OR(E91=Sprache!$C$19,E91=Sprache!$D$19),F91,0)+IF(OR(G91=Sprache!$C$19,G91=Sprache!$D$19),H91,0)","v":0},{"$f":"IF(OR(E91=Sprache!$C$20,E91=Sprache!$D$20),F91,0)+IF(OR(G91=Sprache!$C$20,G91=Sprache!$D$20),H91,0)","v":0},{"$f":"IF(OR(E91=Sprache!$C$21,E91=Sprache!$D$21),F91,0)+IF(OR(G91=Sprache!$C$21,G91=Sprache!$D$21),H91,0)","v":0},{"$f":"IF(OR(E91=Sprache!$C$22,E91=Sprache!$D$22),F91,0)+IF(OR(G91=Sprache!$C$22,G91=Sprache!$D$22),H91,0)","v":0},{"$f":"IF(OR(E91=Sprache!$C$23,E91=Sprache!$D$23),F91,0)+IF(OR(G91=Sprache!$C$23,G91=Sprache!$D$23),H91,0)","v":0},{"$f":"IF(OR(E91=Sprache!$C$24,E91=Sprache!$D$24),F91,0)+IF(OR(G91=Sprache!$C$24,G91=Sprache!$D$24),H91,0)","v":0},0,{"$f":"'Formulaire B '!$G$11*I91+'Formulaire B '!$G$11*J91+'Formulaire B '!$G$12*K91+'Formulaire B '!$G$13*L91+'Formulaire B '!$G$14*M91+'Formulaire B '!$G$15*N91","v":0},"",null,null,null,0,null,null,"","",{"$f":"IF(B91<>\"\",HYPERLINK($AC$9&AB91,Sprache!$E$25 &\" \"&B91),\"\")","v":""},null,82,{"$f":"Eingabemeldung(Sprache!$E$18,Sprache!$E$17,'Formulaire C'!E91)","v":""},{"$f":"Eingabemeldung(Sprache!$E$18,Sprache!$E$17,'Formulaire C'!G91)","v":""},false,0,{"$f":"IF(X91<Parameter!$C$3,1,0)","v":0}]
[null,null,null,null,null,null,null,null,{"$f":"IF(OR(E92=Sprache!$C$19,E92=Sprache!$D$19),F92,0)+IF(OR(G92=Sprache!$C$19,G92=Sprache!$D$19),H92,0)","v":0},{"$f":"IF(OR(E92=Sprache!$C$20,E92=Sprache!$D$20),F92,0)+IF(OR(G92=Sprache!$C$20,G92=Sprache!$D$20),H92,0)","v":0},{"$f":"IF(OR(E92=Sprache!$C$21,E92=Sprache!$D$21),F92,0)+IF(OR(G92=Sprache!$C$21,G92=Sprache!$D$21),H92,0)","v":0},{"$f":"IF(OR(E92=Sprache!$C$22,E92=Sprache!$D$22),F92,0)+IF(OR(G92=Sprache!$C$22,G92=Sprache!$D$22),H92,0)","v":0},{"$f":"IF(OR(E92=Sprache!$C$23,E92=Sprache!$D$23),F92,0)+IF(OR(G92=Sprache!$C$23,G92=Sprache!$D$23),H92,0)","v":0},{"$f":"IF(OR(E92=Sprache!$C$24,E92=Sprache!$D$24),F92,0)+IF(OR(G92=Sprache!$C$24,G92=Sprache!$D$24),H92,0)","v":0},0,{"$f":"'Formulaire B '!$G$11*I92+'Formulaire B '!$G$11*J92+'Formulaire B '!$G$12*K92+'Formulaire B '!$G$13*L92+'Formulaire B '!$G$14*M92+'Formulaire B '!$G$15*N92","v":0},"",null,null,null,0,null,null,"","",{"$f":"IF(B92<>\"\",HYPERLINK($AC$9&AB92,Sprache!$E$25 &\" \"&B92),\"\")","v":""},null,83,{"$f":"Eingabemeldung(Sprache!$E$18,Sprache!$E$17,'Formulaire C'!E92)","v":""},{"$f":"Eingabemeldung(Sprache!$E$18,Sprache!$E$17,'Formulaire C'!G92)","v":""},false,0,{"$f":"IF(X92<Parameter!$C$3,1,0)","v":0}]
[null,null,null,null,null,null,null,null,{"$f":"IF(OR(E93=Sprache!$C$19,E93=Sprache!$D$19),F93,0)+IF(OR(G93=Sprache!$C$19,G93=Sprache!$D$19),H93,0)","v":0},{"$f":"IF(OR(E93=Sprache!$C$20,E93=Sprache!$D$20),F93,0)+IF(OR(G93=Sprache!$C$20,G93=Sprache!$D$20),H93,0)","v":0},{"$f":"IF(OR(E93=Sprache!$C$21,E93=Sprache!$D$21),F93,0)+IF(OR(G93=Sprache!$C$21,G93=Sprache!$D$21),H93,0)","v":0},{"$f":"IF(OR(E93=Sprache!$C$22,E93=Sprache!$D$22),F93,0)+IF(OR(G93=Sprache!$C$22,G93=Sprache!$D$22),H93,0)","v":0},{"$f":"IF(OR(E93=Sprache!$C$23,E93=Sprache!$D$23),F93,0)+IF(OR(G93=Sprache!$C$23,G93=Sprache!$D$23),H93,0)","v":0},{"$f":"IF(OR(E93=Sprache!$C$24,E93=Sprache!$D$24),F93,0)+IF(OR(G93=Sprache!$C$24,G93=Sprache!$D$24),H93,0)","v":0},0,{"$f":"'Formulaire B '!$G$11*I93+'Formulaire B '!$G$11*J93+'Formulaire B '!$G$12*K93+'Formulaire B '!$G$13*L93+'Formulaire B '!$G$14*M93+'Formulaire B '!$G$15*N93","v":0},"",null,null,null,0,null,null,"","",{"$f":"IF(B93<>\"\",HYPERLINK($AC$9&AB93,Sprache!$E$25 &\" \"&B93),\"\")","v":""},null,84,{"$f":"Eingabemeldung(Sprache!$E$18,Sprache!$E$17,'Formulaire C'!E93)","v":""},{"$f":"Eingabemeldung(Sprache!$E$18,Sprache!$E$17,'Formulaire C'!G93)","v":""},false,0,{"$f":"IF(X93<Parameter!$C$3,1,0)","v":0}]
[null,null,null,null,null,null,null,null,{"$f":"IF(OR(E94=Sprache!$C$19,E94=Sprache!$D$19),F94,0)+IF(OR(G94=Sprache!$C$19,G94=Sprache!$D$19),H94,0)","v":0},{"$f":"IF(OR(E94=Sprache!$C$20,E94=Sprache!$D$20),F94,0)+IF(OR(G94=Sprache!$C$20,G94=Sprache!$D$20),H94,0)","v":0},{"$f":"IF(OR(E94=Sprache!$C$21,E94=Sprache!$D$21),F94,0)+IF(OR(G94=Sprache!$C$21,G94=Sprache!$D$21),H94,0)","v":0},{"$f":"IF(OR(E94=Sprache!$C$22,E94=Sprache!$D$22),F94,0)+IF(OR(G94=Sprache!$C$22,G94=Sprache!$D$22),H94,0)","v":0},{"$f":"IF(OR(E94=Sprache!$C$23,E94=Sprache!$D$23),F94,0)+IF(OR(G94=Sprache!$C$23,G94=Sprache!$D$23),H94,0)","v":0},{"$f":"IF(OR(E94=Sprache!$C$24,E94=Sprache!$D$24),F94,0)+IF(OR(G94=Sprache!$C$24,G94=Sprache!$D$24),H94,0)","v":0},0,{"$f":"'Formulaire B '!$G$11*I94+'Formulaire B '!$G$11*J94+'Formulaire B '!$G$12*K94+'Formulaire B '!$G$13*L94+'Formulaire B '!$G$14*M94+'Formulaire B '!$G$15*N94","v":0},"",null,null,null,0,null,null,"","",{"$f":"IF(B94<>\"\",HYPERLINK($AC$9&AB94,Sprache!$E$25 &\" \"&B94),\"\")","v":""},null,85,{"$f":"Eingabemeldung(Sprache!$E$18,Sprache!$E$17,'Formulaire C'!E94)","v":""},{"$f":"Eingabemeldung(Sprache!$E$18,Sprache!$E$17,'Formulaire C'!G94)","v":""},false,0,{"$f":"IF(X94<Parameter!$C$3,1,0)","v":0}]
[null,null,null,null,null,null,null,null,{"$f":"IF(OR(E95=Sprache!$C$19,E95=Sprache!$D$19),F95,0)+IF(OR(G95=Sprache!$C$19,G95=Sprache!$D$19),H95,0)","v":0},{"$f":"IF(OR(E95=Sprache!$C$20,E95=Sprache!$D$20),F95,0)+IF(OR(G95=Sprache!$C$20,G95=Sprache!$D$20),H95,0)","v":0},{"$f":"IF(OR(E95=Sprache!$C$21,E95=Sprache!$D$21),F95,0)+IF(OR(G95=Sprache!$C$21,G95=Sprache!$D$21),H95,0)","v":0},{"$f":"IF(OR(E95=Sprache!$C$22,E95=Sprache!$D$22),F95,0)+IF(OR(G95=Sprache!$C$22,G95=Sprache!$D$22),H95,0)","v":0},{"$f":"IF(OR(E95=Sprache!$C$23,E95=Sprache!$D$23),F95,0)+IF(OR(G95=Sprache!$C$23,G95=Sprache!$D$23),H95,0)","v":0},{"$f":"IF(OR(E95=Sprache!$C$24,E95=Sprache!$D$24),F95,0)+IF(OR(G95=Sprache!$C$24,G95=Sprache!$D$24),H95,0)","v":0},0,{"$f":"'Formulaire B '!$G$11*I95+'Formulaire B '!$G$11*J95+'Formulaire B '!$G$12*K95+'Formulaire B '!$G$13*L95+'Formulaire B '!$G$14*M95+'Formulaire B '!$G$15*N95","v":0},"",null,null,null,0,null,null,"","",{"$f":"IF(B95<>\"\",HYPERLINK($AC$9&AB95,Sprache!$E$25 &\" \"&B95),\"\")","v":""},null,86,{"$f":"Eingabemeldung(Sprache!$E$18,Sprache!$E$17,'Formulaire C'!E95)","v":""},{"$f":"Eingabemeldung(Sprache!$E$18,Sprache!$E$17,'Formulaire C'!G95)","v":""},false,0,{"$f":"IF(X95<Parameter!$C$3,1,0)","v":0}]
[null,null,null,null,null,null,null,null,{"$f":"IF(OR(E96=Sprache!$C$19,E96=Sprache!$D$19),F96,0)+IF(OR(G96=Sprache!$C$19,G96=Sprache!$D$19),H96,0)","v":0},{"$f":"IF(OR(E96=Sprache!$C$20,E96=Sprache!$D$20),F96,0)+IF(OR(G96=Sprache!$C$20,G96=Sprache!$D$20),H96,0)","v":0},{"$f":"IF(OR(E96=Sprache!$C$21,E96=Sprache!$D$21),F96,0)+IF(OR(G96=Sprache!$C$21,G96=Sprache!$D$21),H96,0)","v":0},{"$f":"IF(OR(E96=Sprache!$C$22,E96=Sprache!$D$22),F96,0)+IF(OR(G96=Sprache!$C$22,G96=Sprache!$D$22),H96,0)","v":0},{"$f":"IF(OR(E96=Sprache!$C$23,E96=Sprache!$D$23),F96,0)+IF(OR(G96=Sprache!$C$23,G96=Sprache!$D$23),H96,0)","v":0},{"$f":"IF(OR(E96=Sprache!$C$24,E96=Sprache!$D$24),F96,0)+IF(OR(G96=Sprache!$C$24,G96=Sprache!$D$24),H96,0)","v":0},0,{"$f":"'Formulaire B '!$G$11*I96+'Formulaire B '!$G$11*J96+'Formulaire B '!$G$12*K96+'Formulaire B '!$G$13*L96+'Formulaire B '!$G$14*M96+'Formulaire B '!$G$15*N96","v":0},"",null,null,null,0,null,null,"","",{"$f":"IF(B96<>\"\",HYPERLINK($AC$9&AB96,Sprache!$E$25 &\" \"&B96),\"\")","v":""},null,87,{"$f":"Eingabemeldung(Sprache!$E$18,Sprache!$E$17,'Formulaire C'!E96)","v":""},{"$f":"Eingabemeldung(Sprache!$E$18,Sprache!$E$17,'Formulaire C'!G96)","v":""},false,0,{"$f":"IF(X96<Parameter!$C$3,1,0)","v":0}]
[null,null,null,null,null,null,null,null,{"$f":"IF(OR(E97=Sprache!$C$19,E97=Sprache!$D$19),F97,0)+IF(OR(G97=Sprache!$C$19,G97=Sprache!$D$19),H97,0)","v":0},{"$f":"IF(OR(E97=Sprache!$C$20,E97=Sprache!$D$20),F97,0)+IF(OR(G97=Sprache!$C$20,G97=Sprache!$D$20),H97,0)","v":0},{"$f":"IF(OR(E97=Sprache!$C$21,E97=Sprache!$D$21),F97,0)+IF(OR(G97=Sprache!$C$21,G97=Sprache!$D$21),H97,0)","v":0},{"$f":"IF(OR(E97=Sprache!$C$22,E97=Sprache!$D$22),F97,0)+IF(OR(G97=Sprache!$C$22,G97=Sprache!$D$22),H97,0)","v":0},{"$f":"IF(OR(E97=Sprache!$C$23,E97=Sprache!$D$23),F97,0)+IF(OR(G97=Sprache!$C$23,G97=Sprache!$D$23),H97,0)","v":0},{"$f":"IF(OR(E97=Sprache!$C$24,E97=Sprache!$D$24),F97,0)+IF(OR(G97=Sprache!$C$24,G97=Sprache!$D$24),H97,0)","v":0},0,{"$f":"'Formulaire B '!$G$11*I97+'Formulaire B '!$G$11*J97+'Formulaire B '!$G$12*K97+'Formulaire B '!$G$13*L97+'Formulaire B '!$G$14*M97+'Formulaire B '!$G$15*N97","v":0},"",null,null,null,0,null,null,"","",{"$f":"IF(B97<>\"\",HYPERLINK($AC$9&AB97,Sprache!$E$25 &\" \"&B97),\"\")","v":""},null,88,{"$f":"Eingabemeldung(Sprache!$E$18,Sprache!$E$17,'Formulaire C'!E97)","v":""},{"$f":"Eingabemeldung(Sprache!$E$18,Sprache!$E$17,'Formulaire C'!G97)","v":""},false,0,{"$f":"IF(X97<Parameter!$C$3,1,0)","v":0}]
[null,null,null,null,null,null,null,null,{"$f":"IF(OR(E98=Sprache!$C$19,E98=Sprache!$D$19),F98,0)+IF(OR(G98=Sprache!$C$19,G98=Sprache!$D$19),H98,0)","v":0},{"$f":"IF(OR(E98=Sprache!$C$20,E98=Sprache!$D$20),F98,0)+IF(OR(G98=Sprache!$C$20,G98=Sprache!$D$20),H98,0)","v":0},{"$f":"IF(OR(E98=Sprache!$C$21,E98=Sprache!$D$21),F98,0)+IF(OR(G98=Sprache!$C$21,G98=Sprache!$D$21),H98,0)","v":0},{"$f":"IF(OR(E98=Sprache!$C$22,E98=Sprache!$D$22),F98,0)+IF(OR(G98=Sprache!$C$22,G98=Sprache!$D$22),H98,0)","v":0},{"$f":"IF(OR(E98=Sprache!$C$23,E98=Sprache!$D$23),F98,0)+IF(OR(G98=Sprache!$C$23,G98=Sprache!$D$23),H98,0)","v":0},{"$f":"IF(OR(E98=Sprache!$C$24,E98=Sprache!$D$24),F98,0)+IF(OR(G98=Sprache!$C$24,G98=Sprache!$D$24),H98,0)","v":0},0,{"$f":"'Formulaire B '!$G$11*I98+'Formulaire B '!$G$11*J98+'Formulaire B '!$G$12*K98+'Formulaire B '!$G$13*L98+'Formulaire B '!$G$14*M98+'Formulaire B '!$G$15*N98","v":0},"",null,null,null,0,null,null,"","",{"$f":"IF(B98<>\"\",HYPERLINK($AC$9&AB98,Sprache!$E$25 &\" \"&B98),\"\")","v":""},null,89,{"$f":"Eingabemeldung(Sprache!$E$18,Sprache!$E$17,'Formulaire C'!E98)","v":""},{"$f":"Eingabemeldung(Sprache!$E$18,Sprache!$E$17,'Formulaire C'!G98)","v":""},false,0,{"$f":"IF(X98<Parameter!$C$3,1,0)","v":0}]
[null,null,null,null,null,null,null,null,{"$f":"IF(OR(E99=Sprache!$C$19,E99=Sprache!$D$19),F99,0)+IF(OR(G99=Sprache!$C$19,G99=Sprache!$D$19),H99,0)","v":0},{"$f":"IF(OR(E99=Sprache!$C$20,E99=Sprache!$D$20),F99,0)+IF(OR(G99=Sprache!$C$20,G99=Sprache!$D$20),H99,0)","v":0},{"$f":"IF(OR(E99=Sprache!$C$21,E99=Sprache!$D$21),F99,0)+IF(OR(G99=Sprache!$C$21,G99=Sprache!$D$21),H99,0)","v":0},{"$f":"IF(OR(E99=Sprache!$C$22,E99=Sprache!$D$22),F99,0)+IF(OR(G99=Sprache!$C$22,G99=Sprache!$D$22),H99,0)","v":0},{"$f":"IF(OR(E99=Sprache!$C$23,E99=Sprache!$D$23),F99,0)+IF(OR(G99=Sprache!$C$23,G99=Sprache!$D$23),H99,0)","v":0},{"$f":"IF(OR(E99=Sprache!$C$24,E99=Sprache!$D$24),F99,0)+IF(OR(G99=Sprache!$C$24,G99=Sprache!$D$24),H99,0)","v":0},0,{"$f":"'Formulaire B '!$G$11*I99+'Formulaire B '!$G$11*J99+'Formulaire B '!$G$12*K99+'Formulaire B '!$G$13*L99+'Formulaire B '!$G$14*M99+'Formulaire B '!$G$15*N99","v":0},"",null,null,null,0,null,null,"","",{"$f":"IF(B99<>\"\",HYPERLINK($AC$9&AB99,Sprache!$E$25 &\" \"&B99),\"\")","v":""},null,90,{"$f":"Eingabemeldung(Sprache!$E$18,Sprache!$E$17,'Formulaire C'!E99)","v":""},{"$f":"Eingabemeldung(Sprache!$E$18,Sprache!$E$17,'Formulaire C'!G99)","v":""},false,0,{"$f":"IF(X99<Parameter!$C$3,1,0)","v":0}]
[null,null,null,null,null,null,null,null,{"$f":"IF(OR(E100=Sprache!$C$19,E100=Sprache!$D$19),F100,0)+IF(OR(G100=Sprache!$C$19,G100=Sprache!$D$19),H100,0)","v":0},{"$f":"IF(OR(E100=Sprache!$C$20,E100=Sprache!$D$20),F100,0)+IF(OR(G100=Sprache!$C$20,G100=Sprache!$D$20),H100,0)","v":0},{"$f":"IF(OR(E100=Sprache!$C$21,E100=Sprache!$D$21),F100,0)+IF(OR(G100=Sprache!$C$21,G100=Sprache!$D$21),H100,0)","v":0},{"$f":"IF(OR(E100=Sprache!$C$22,E100=Sprache!$D$22),F100,0)+IF(OR(G100=Sprache!$C$22,G100=Sprache!$D$22),H100,0)","v":0},{"$f":"IF(OR(E100=Sprache!$C$23,E100=Sprache!$D$23),F100,0)+IF(OR(G100=Sprache!$C$23,G100=Sprache!$D$23),H100,0)","v":0},{"$f":"IF(OR(E100=Sprache!$C$24,E100=Sprache!$D$24),F100,0)+IF(OR(G100=Sprache!$C$24,G100=Sprache!$D$24),H100,0)","v":0},0,{"$f":"'Formulaire B '!$G$11*I100+'Formulaire B '!$G$11*J100+'Formulaire B '!$G$12*K100+'Formulaire B '!$G$13*L100+'Formulaire B '!$G$14*M100+'Formulaire B '!$G$15*N100","v":0},"",null,null,null,0,null,null,"","",{"$f":"IF(B100<>\"\",HYPERLINK($AC$9&AB100,Sprache!$E$25 &\" \"&B100),\"\")","v":""},null,91,{"$f":"Eingabemeldung(Sprache!$E$18,Sprache!$E$17,'Formulaire C'!E100)","v":""},{"$f":"Eingabemeldung(Sprache!$E$18,Sprache!$E$17,'Formulaire C'!G100)","v":""},false,0,{"$f":"IF(X100<Parameter!$C$3,1,0)","v":0}]
[null,null,null,null,null,null,null,null,{"$f":"IF(OR(E101=Sprache!$C$19,E101=Sprache!$D$19),F101,0)+IF(OR(G101=Sprache!$C$19,G101=Sprache!$D$19),H101,0)","v":0},{"$f":"IF(OR(E101=Sprache!$C$20,E101=Sprache!$D$20),F101,0)+IF(OR(G101=Sprache!$C$20,G101=Sprache!$D$20),H101,0)","v":0},{"$f":"IF(OR(E101=Sprache!$C$21,E101=Sprache!$D$21),F101,0)+IF(OR(G101=Sprache!$C$21,G101=Sprache!$D$21),H101,0)","v":0},{"$f":"IF(OR(E101=Sprache!$C$22,E101=Sprache!$D$22),F101,0)+IF(OR(G101=Sprache!$C$22,G101=Sprache!$D$22),H101,0)","v":0},{"$f":"IF(OR(E101=Sprache!$C$23,E101=Sprache!$D$23),F101,0)+IF(OR(G101=Sprache!$C$23,G101=Sprache!$D$23),H101,0)","v":0},{"$f":"IF(OR(E101=Sprache!$C$24,E101=Sprache!$D$24),F101,0)+IF(OR(G101=Sprache!$C$24,G101=Sprache!$D$24),H101,0)","v":0},0,{"$f":"'Formulaire B '!$G$11*I101+'Formulaire B '!$G$11*J101+'Formulaire B '!$G$12*K101+'Formulaire B '!$G$13*L101+'Formulaire B '!$G$14*M101+'Formulaire B '!$G$15*N101","v":0},"",null,null,null,0,null,null,"","",{"$f":"IF(B101<>\"\",HYPERLINK($AC$9&AB101,Sprache!$E$25 &\" \"&B101),\"\")","v":""},null,92,{"$f":"Eingabemeldung(Sprache!$E$18,Sprache!$E$17,'Formulaire C'!E101)","v":""},{"$f":"Eingabemeldung(Sprache!$E$18,Sprache!$E$17,'Formulaire C'!G101)","v":""},false,0,{"$f":"IF(X101<Parameter!$C$3,1,0)","v":0}]
[null,null,null,null,null,null,null,null,{"$f":"IF(OR(E102=Sprache!$C$19,E102=Sprache!$D$19),F102,0)+IF(OR(G102=Sprache!$C$19,G102=Sprache!$D$19),H102,0)","v":0},{"$f":"IF(OR(E102=Sprache!$C$20,E102=Sprache!$D$20),F102,0)+IF(OR(G102=Sprache!$C$20,G102=Sprache!$D$20),H102,0)","v":0},{"$f":"IF(OR(E102=Sprache!$C$21,E102=Sprache!$D$21),F102,0)+IF(OR(G102=Sprache!$C$21,G102=Sprache!$D$21),H102,0)","v":0},{"$f":"IF(OR(E102=Sprache!$C$22,E102=Sprache!$D$22),F102,0)+IF(OR(G102=Sprache!$C$22,G102=Sprache!$D$22),H102,0)","v":0},{"$f":"IF(OR(E102=Sprache!$C$23,E102=Sprache!$D$23),F102,0)+IF(OR(G102=Sprache!$C$23,G102=Sprache!$D$23),H102,0)","v":0},{"$f":"IF(OR(E102=Sprache!$C$24,E102=Sprache!$D$24),F102,0)+IF(OR(G102=Sprache!$C$24,G102=Sprache!$D$24),H102,0)","v":0},0,{"$f":"'Formulaire B '!$G$11*I102+'Formulaire B '!$G$11*J102+'Formulaire B '!$G$12*K102+'Formulaire B '!$G$13*L102+'Formulaire B '!$G$14*M102+'Formulaire B '!$G$15*N102","v":0},"",null,null,null,0,null,null,"","",{"$f":"IF(B102<>\"\",HYPERLINK($AC$9&AB102,Sprache!$E$25 &\" \"&B102),\"\")","v":""},null,93,{"$f":"Eingabemeldung(Sprache!$E$18,Sprache!$E$17,'Formulaire C'!E102)","v":""},{"$f":"Eingabemeldung(Sprache!$E$18,Sprache!$E$17,'Formulaire C'!G102)","v":""},false,0,{"$f":"IF(X102<Parameter!$C$3,1,0)","v":0}]
[null,null,null,null,null,null,null,null,{"$f":"IF(OR(E103=Sprache!$C$19,E103=Sprache!$D$19),F103,0)+IF(OR(G103=Sprache!$C$19,G103=Sprache!$D$19),H103,0)","v":0},{"$f":"IF(OR(E103=Sprache!$C$20,E103=Sprache!$D$20),F103,0)+IF(OR(G103=Sprache!$C$20,G103=Sprache!$D$20),H103,0)","v":0},{"$f":"IF(OR(E103=Sprache!$C$21,E103=Sprache!$D$21),F103,0)+IF(OR(G103=Sprache!$C$21,G103=Sprache!$D$21),H103,0)","v":0},{"$f":"IF(OR(E103=Sprache!$C$22,E103=Sprache!$D$22),F103,0)+IF(OR(G103=Sprache!$C$22,G103=Sprache!$D$22),H103,0)","v":0},{"$f":"IF(OR(E103=Sprache!$C$23,E103=Sprache!$D$23),F103,0)+IF(OR(G103=Sprache!$C$23,G103=Sprache!$D$23),H103,0)","v":0},{"$f":"IF(OR(E103=Sprache!$C$24,E103=Sprache!$D$24),F103,0)+IF(OR(G103=Sprache!$C$24,G103=Sprache!$D$24),H103,0)","v":0},0,{"$f":"'Formulaire B '!$G$11*I103+'Formulaire B '!$G$11*J103+'Formulaire B '!$G$12*K103+'Formulaire B '!$G$13*L103+'Formulaire B '!$G$14*M103+'Formulaire B '!$G$15*N103","v":0},"",null,null,null,0,null,null,"","",{"$f":"IF(B103<>\"\",HYPERLINK($AC$9&AB103,Sprache!$E$25 &\" \"&B103),\"\")","v":""},null,94,{"$f":"Eingabemeldung(Sprache!$E$18,Sprache!$E$17,'Formulaire C'!E103)","v":""},{"$f":"Eingabemeldung(Sprache!$E$18,Sprache!$E$17,'Formulaire C'!G103)","v":""},false,0,{"$f":"IF(X103<Parameter!$C$3,1,0)","v":0}]
[null,null,null,null,null,null,null,null,{"$f":"IF(OR(E104=Sprache!$C$19,E104=Sprache!$D$19),F104,0)+IF(OR(G104=Sprache!$C$19,G104=Sprache!$D$19),H104,0)","v":0},{"$f":"IF(OR(E104=Sprache!$C$20,E104=Sprache!$D$20),F104,0)+IF(OR(G104=Sprache!$C$20,G104=Sprache!$D$20),H104,0)","v":0},{"$f":"IF(OR(E104=Sprache!$C$21,E104=Sprache!$D$21),F104,0)+IF(OR(G104=Sprache!$C$21,G104=Sprache!$D$21),H104,0)","v":0},{"$f":"IF(OR(E104=Sprache!$C$22,E104=Sprache!$D$22),F104,0)+IF(OR(G104=Sprache!$C$22,G104=Sprache!$D$22),H104,0)","v":0},{"$f":"IF(OR(E104=Sprache!$C$23,E104=Sprache!$D$23),F104,0)+IF(OR(G104=Sprache!$C$23,G104=Sprache!$D$23),H104,0)","v":0},{"$f":"IF(OR(E104=Sprache!$C$24,E104=Sprache!$D$24),F104,0)+IF(OR(G104=Sprache!$C$24,G104=Sprache!$D$24),H104,0)","v":0},0,{"$f":"'Formulaire B '!$G$11*I104+'Formulaire B '!$G$11*J104+'Formulaire B '!$G$12*K104+'Formulaire B '!$G$13*L104+'Formulaire B '!$G$14*M104+'Formulaire B '!$G$15*N104","v":0},"",null,null,null,0,null,null,"","",{"$f":"IF(B104<>\"\",HYPERLINK($AC$9&AB104,Sprache!$E$25 &\" \"&B104),\"\")","v":""},null,95,{"$f":"Eingabemeldung(Sprache!$E$18,Sprache!$E$17,'Formulaire C'!E104)","v":""},{"$f":"Eingabemeldung(Sprache!$E$18,Sprache!$E$17,'Formulaire C'!G104)","v":""},false,0,{"$f":"IF(X104<Parameter!$C$3,1,0)","v":0}]
[null,null,null,null,null,null,null,null,{"$f":"IF(OR(E105=Sprache!$C$19,E105=Sprache!$D$19),F105,0)+IF(OR(G105=Sprache!$C$19,G105=Sprache!$D$19),H105,0)","v":0},{"$f":"IF(OR(E105=Sprache!$C$20,E105=Sprache!$D$20),F105,0)+IF(OR(G105=Sprache!$C$20,G105=Sprache!$D$20),H105,0)","v":0},{"$f":"IF(OR(E105=Sprache!$C$21,E105=Sprache!$D$21),F105,0)+IF(OR(G105=Sprache!$C$21,G105=Sprache!$D$21),H105,0)","v":0},{"$f":"IF(OR(E105=Sprache!$C$22,E105=Sprache!$D$22),F105,0)+IF(OR(G105=Sprache!$C$22,G105=Sprache!$D$22),H105,0)","v":0},{"$f":"IF(OR(E105=Sprache!$C$23,E105=Sprache!$D$23),F105,0)+IF(OR(G105=Sprache!$C$23,G105=Sprache!$D$23),H105,0)","v":0},{"$f":"IF(OR(E105=Sprache!$C$24,E105=Sprache!$D$24),F105,0)+IF(OR(G105=Sprache!$C$24,G105=Sprache!$D$24),H105,0)","v":0},0,{"$f":"'Formulaire B '!$G$11*I105+'Formulaire B '!$G$11*J105+'Formulaire B '!$G$12*K105+'Formulaire B '!$G$13*L105+'Formulaire B '!$G$14*M105+'Formulaire B '!$G$15*N105","v":0},"",null,null,null,0,null,null,"","",{"$f":"IF(B105<>\"\",HYPERLINK($AC$9&AB105,Sprache!$E$25 &\" \"&B105),\"\")","v":""},null,96,{"$f":"Eingabemeldung(Sprache!$E$18,Sprache!$E$17,'Formulaire C'!E105)","v":""},{"$f":"Eingabemeldung(Sprache!$E$18,Sprache!$E$17,'Formulaire C'!G105)","v":""},false,0,{"$f":"IF(X105<Parameter!$C$3,1,0)","v":0}]
[null,null,null,null,null,null,null,null,{"$f":"IF(OR(E106=Sprache!$C$19,E106=Sprache!$D$19),F106,0)+IF(OR(G106=Sprache!$C$19,G106=Sprache!$D$19),H106,0)","v":0},{"$f":"IF(OR(E106=Sprache!$C$20,E106=Sprache!$D$20),F106,0)+IF(OR(G106=Sprache!$C$20,G106=Sprache!$D$20),H106,0)","v":0},{"$f":"IF(OR(E106=Sprache!$C$21,E106=Sprache!$D$21),F106,0)+IF(OR(G106=Sprache!$C$21,G106=Sprache!$D$21),H106,0)","v":0},{"$f":"IF(OR(E106=Sprache!$C$22,E106=Sprache!$D$22),F106,0)+IF(OR(G106=Sprache!$C$22,G106=Sprache!$D$22),H106,0)","v":0},{"$f":"IF(OR(E106=Sprache!$C$23,E106=Sprache!$D$23),F106,0)+IF(OR(G106=Sprache!$C$23,G106=Sprache!$D$23),H106,0)","v":0},{"$f":"IF(OR(E106=Sprache!$C$24,E106=Sprache!$D$24),F106,0)+IF(OR(G106=Sprache!$C$24,G106=Sprache!$D$24),H106,0)","v":0},0,{"$f":"'Formulaire B '!$G$11*I106+'Formulaire B '!$G$11*J106+'Formulaire B '!$G$12*K106+'Formulaire B '!$G$13*L106+'Formulaire B '!$G$14*M106+'Formulaire B '!$G$15*N106","v":0},"",null,null,null,0,null,null,"","",{"$f":"IF(B106<>\"\",HYPERLINK($AC$9&AB106,Sprache!$E$25 &\" \"&B106),\"\")","v":""},null,97,{"$f":"Eingabemeldung(Sprache!$E$18,Sprache!$E$17,'Formulaire C'!E106)","v":""},{"$f":"Eingabemeldung(Sprache!$E$18,Sprache!$E$17,'Formulaire C'!G106)","v":""},false,0,{"$f":"IF(X106<Parameter!$C$3,1,0)","v":0}]
[null,null,null,null,null,null,null,null,{"$f":"IF(OR(E107=Sprache!$C$19,E107=Sprache!$D$19),F107,0)+IF(OR(G107=Sprache!$C$19,G107=Sprache!$D$19),H107,0)","v":0},{"$f":"IF(OR(E107=Sprache!$C$20,E107=Sprache!$D$20),F107,0)+IF(OR(G107=Sprache!$C$20,G107=Sprache!$D$20),H107,0)","v":0},{"$f":"IF(OR(E107=Sprache!$C$21,E107=Sprache!$D$21),F107,0)+IF(OR(G107=Sprache!$C$21,G107=Sprache!$D$21),H107,0)","v":0},{"$f":"IF(OR(E107=Sprache!$C$22,E107=Sprache!$D$22),F107,0)+IF(OR(G107=Sprache!$C$22,G107=Sprache!$D$22),H107,0)","v":0},{"$f":"IF(OR(E107=Sprache!$C$23,E107=Sprache!$D$23),F107,0)+IF(OR(G107=Sprache!$C$23,G107=Sprache!$D$23),H107,0)","v":0},{"$f":"IF(OR(E107=Sprache!$C$24,E107=Sprache!$D$24),F107,0)+IF(OR(G107=Sprache!$C$24,G107=Sprache!$D$24),H107,0)","v":0},0,{"$f":"'Formulaire B '!$G$11*I107+'Formulaire B '!$G$11*J107+'Formulaire B '!$G$12*K107+'Formulaire B '!$G$13*L107+'Formulaire B '!$G$14*M107+'Formulaire B '!$G$15*N107","v":0},"",null,null,null,0,null,null,"","",{"$f":"IF(B107<>\"\",HYPERLINK($AC$9&AB107,Sprache!$E$25 &\" \"&B107),\"\")","v":""},null,98,{"$f":"Eingabemeldung(Sprache!$E$18,Sprache!$E$17,'Formulaire C'!E107)","v":""},{"$f":"Eingabemeldung(Sprache!$E$18,Sprache!$E$17,'Formulaire C'!G107)","v":""},false,0,{"$f":"IF(X107<Parameter!$C$3,1,0)","v":0}]
[null,null,null,null,null,null,null,null,{"$f":"IF(OR(E108=Sprache!$C$19,E108=Sprache!$D$19),F108,0)+IF(OR(G108=Sprache!$C$19,G108=Sprache!$D$19),H108,0)","v":0},{"$f":"IF(OR(E108=Sprache!$C$20,E108=Sprache!$D$20),F108,0)+IF(OR(G108=Sprache!$C$20,G108=Sprache!$D$20),H108,0)","v":0},{"$f":"IF(OR(E108=Sprache!$C$21,E108=Sprache!$D$21),F108,0)+IF(OR(G108=Sprache!$C$21,G108=Sprache!$D$21),H108,0)","v":0},{"$f":"IF(OR(E108=Sprache!$C$22,E108=Sprache!$D$22),F108,0)+IF(OR(G108=Sprache!$C$22,G108=Sprache!$D$22),H108,0)","v":0},{"$f":"IF(OR(E108=Sprache!$C$23,E108=Sprache!$D$23),F108,0)+IF(OR(G108=Sprache!$C$23,G108=Sprache!$D$23),H108,0)","v":0},{"$f":"IF(OR(E108=Sprache!$C$24,E108=Sprache!$D$24),F108,0)+IF(OR(G108=Sprache!$C$24,G108=Sprache!$D$24),H108,0)","v":0},0,{"$f":"'Formulaire B '!$G$11*I108+'Formulaire B '!$G$11*J108+'Formulaire B '!$G$12*K108+'Formulaire B '!$G$13*L108+'Formulaire B '!$G$14*M108+'Formulaire B '!$G$15*N108","v":0},"",null,null,null,0,null,null,"","",{"$f":"IF(B108<>\"\",HYPERLINK($AC$9&AB108,Sprache!$E$25 &\" \"&B108),\"\")","v":""},null,99,{"$f":"Eingabemeldung(Sprache!$E$18,Sprache!$E$17,'Formulaire C'!E108)","v":""},{"$f":"Eingabemeldung(Sprache!$E$18,Sprache!$E$17,'Formulaire C'!G108)","v":""},false,0,{"$f":"IF(X108<Parameter!$C$3,1,0)","v":0}]
[null,null,null,null,null,null,null,null,{"$f":"IF(OR(E109=Sprache!$C$19,E109=Sprache!$D$19),F109,0)+IF(OR(G109=Sprache!$C$19,G109=Sprache!$D$19),H109,0)","v":0},{"$f":"IF(OR(E109=Sprache!$C$20,E109=Sprache!$D$20),F109,0)+IF(OR(G109=Sprache!$C$20,G109=Sprache!$D$20),H109,0)","v":0},{"$f":"IF(OR(E109=Sprache!$C$21,E109=Sprache!$D$21),F109,0)+IF(OR(G109=Sprache!$C$21,G109=Sprache!$D$21),H109,0)","v":0},{"$f":"IF(OR(E109=Sprache!$C$22,E109=Sprache!$D$22),F109,0)+IF(OR(G109=Sprache!$C$22,G109=Sprache!$D$22),H109,0)","v":0},{"$f":"IF(OR(E109=Sprache!$C$23,E109=Sprache!$D$23),F109,0)+IF(OR(G109=Sprache!$C$23,G109=Sprache!$D$23),H109,0)","v":0},{"$f":"IF(OR(E109=Sprache!$C$24,E109=Sprache!$D$24),F109,0)+IF(OR(G109=Sprache!$C$24,G109=Sprache!$D$24),H109,0)","v":0},0,{"$f":"'Formulaire B '!$G$11*I109+'Formulaire B '!$G$11*J109+'Formulaire B '!$G$12*K109+'Formulaire B '!$G$13*L109+'Formulaire B '!$G$14*M109+'Formulaire B '!$G$15*N109","v":0},"",null,null,null,0,null,null,"","",{"$f":"IF(B109<>\"\",HYPERLINK($AC$9&AB109,Sprache!$E$25 &\" \"&B109),\"\")","v":""},null,100,{"$f":"Eingabemeldung(Sprache!$E$18,Sprache!$E$17,'Formulaire C'!E109)","v":""},{"$f":"Eingabemeldung(Sprache!$E$18,Sprache!$E$17,'Formulaire C'!G109)","v":""},false,0,{"$f":"IF(X109<Parameter!$C$3,1,0)","v":0}]
[null,null,null,null,null,null,null,null,{"$f":"IF(OR(E110=Sprache!$C$19,E110=Sprache!$D$19),F110,0)+IF(OR(G110=Sprache!$C$19,G110=Sprache!$D$19),H110,0)","v":0},{"$f":"IF(OR(E110=Sprache!$C$20,E110=Sprache!$D$20),F110,0)+IF(OR(G110=Sprache!$C$20,G110=Sprache!$D$20),H110,0)","v":0},{"$f":"IF(OR(E110=Sprache!$C$21,E110=Sprache!$D$21),F110,0)+IF(OR(G110=Sprache!$C$21,G110=Sprache!$D$21),H110,0)","v":0},{"$f":"IF(OR(E110=Sprache!$C$22,E110=Sprache!$D$22),F110,0)+IF(OR(G110=Sprache!$C$22,G110=Sprache!$D$22),H110,0)","v":0},{"$f":"IF(OR(E110=Sprache!$C$23,E110=Sprache!$D$23),F110,0)+IF(OR(G110=Sprache!$C$23,G110=Sprache!$D$23),H110,0)","v":0},{"$f":"IF(OR(E110=Sprache!$C$24,E110=Sprache!$D$24),F110,0)+IF(OR(G110=Sprache!$C$24,G110=Sprache!$D$24),H110,0)","v":0},0,{"$f":"'Formulaire B '!$G$11*I110+'Formulaire B '!$G$11*J110+'Formulaire B '!$G$12*K110+'Formulaire B '!$G$13*L110+'Formulaire B '!$G$14*M110+'Formulaire B '!$G$15*N110","v":0},"",null,null,null,0,null,null,"","",{"$f":"IF(B110<>\"\",HYPERLINK($AC$9&AB110,Sprache!$E$25 &\" \"&B110),\"\")","v":""},null,101,{"$f":"Eingabemeldung(Sprache!$E$18,Sprache!$E$17,'Formulaire C'!E110)","v":""},{"$f":"Eingabemeldung(Sprache!$E$18,Sprache!$E$17,'Formulaire C'!G110)","v":""},false,0,{"$f":"IF(X110<Parameter!$C$3,1,0)","v":0}]
[null,null,null,null,null,null,null,null,{"$f":"IF(OR(E111=Sprache!$C$19,E111=Sprache!$D$19),F111,0)+IF(OR(G111=Sprache!$C$19,G111=Sprache!$D$19),H111,0)","v":0},{"$f":"IF(OR(E111=Sprache!$C$20,E111=Sprache!$D$20),F111,0)+IF(OR(G111=Sprache!$C$20,G111=Sprache!$D$20),H111,0)","v":0},{"$f":"IF(OR(E111=Sprache!$C$21,E111=Sprache!$D$21),F111,0)+IF(OR(G111=Sprache!$C$21,G111=Sprache!$D$21),H111,0)","v":0},{"$f":"IF(OR(E111=Sprache!$C$22,E111=Sprache!$D$22),F111,0)+IF(OR(G111=Sprache!$C$22,G111=Sprache!$D$22),H111,0)","v":0},{"$f":"IF(OR(E111=Sprache!$C$23,E111=Sprache!$D$23),F111,0)+IF(OR(G111=Sprache!$C$23,G111=Sprache!$D$23),H111,0)","v":0},{"$f":"IF(OR(E111=Sprache!$C$24,E111=Sprache!$D$24),F111,0)+IF(OR(G111=Sprache!$C$24,G111=Sprache!$D$24),H111,0)","v":0},0,{"$f":"'Formulaire B '!$G$11*I111+'Formulaire B '!$G$11*J111+'Formulaire B '!$G$12*K111+'Formulaire B '!$G$13*L111+'Formulaire B '!$G$14*M111+'Formulaire B '!$G$15*N111","v":0},"",null,null,null,0,null,null,"","",{"$f":"IF(B111<>\"\",HYPERLINK($AC$9&AB111,Sprache!$E$25 &\" \"&B111),\"\")","v":""},null,102,{"$f":"Eingabemeldung(Sprache!$E$18,Sprache!$E$17,'Formulaire C'!E111)","v":""},{"$f":"Eingabemeldung(Sprache!$E$18,Sprache!$E$17,'Formulaire C'!G111)","v":""},false,0,{"$f":"IF(X111<Parameter!$C$3,1,0)","v":0}]
[null,null,null,null,null,null,null,null,{"$f":"IF(OR(E112=Sprache!$C$19,E112=Sprache!$D$19),F112,0)+IF(OR(G112=Sprache!$C$19,G112=Sprache!$D$19),H112,0)","v":0},{"$f":"IF(OR(E112=Sprache!$C$20,E112=Sprache!$D$20),F112,0)+IF(OR(G112=Sprache!$C$20,G112=Sprache!$D$20),H112,0)","v":0},{"$f":"IF(OR(E112=Sprache!$C$21,E112=Sprache!$D$21),F112,0)+IF(OR(G112=Sprache!$C$21,G112=Sprache!$D$21),H112,0)","v":0},{"$f":"IF(OR(E112=Sprache!$C$22,E112=Sprache!$D$22),F112,0)+IF(OR(G112=Sprache!$C$22,G112=Sprache!$D$22),H112,0)","v":0},{"$f":"IF(OR(E112=Sprache!$C$23,E112=Sprache!$D$23),F112,0)+IF(OR(G112=Sprache!$C$23,G112=Sprache!$D$23),H112,0)","v":0},{"$f":"IF(OR(E112=Sprache!$C$24,E112=Sprache!$D$24),F112,0)+IF(OR(G112=Sprache!$C$24,G112=Sprache!$D$24),H112,0)","v":0},0,{"$f":"'Formulaire B '!$G$11*I112+'Formulaire B '!$G$11*J112+'Formulaire B '!$G$12*K112+'Formulaire B '!$G$13*L112+'Formulaire B '!$G$14*M112+'Formulaire B '!$G$15*N112","v":0},"",null,null,null,0,null,null,"","",{"$f":"IF(B112<>\"\",HYPERLINK($AC$9&AB112,Sprache!$E$25 &\" \"&B112),\"\")","v":""},null,103,{"$f":"Eingabemeldung(Sprache!$E$18,Sprache!$E$17,'Formulaire C'!E112)","v":""},{"$f":"Eingabemeldung(Sprache!$E$18,Sprache!$E$17,'Formulaire C'!G112)","v":""},false,0,{"$f":"IF(X112<Parameter!$C$3,1,0)","v":0}]
[null,null,null,null,null,null,null,null,{"$f":"IF(OR(E113=Sprache!$C$19,E113=Sprache!$D$19),F113,0)+IF(OR(G113=Sprache!$C$19,G113=Sprache!$D$19),H113,0)","v":0},{"$f":"IF(OR(E113=Sprache!$C$20,E113=Sprache!$D$20),F113,0)+IF(OR(G113=Sprache!$C$20,G113=Sprache!$D$20),H113,0)","v":0},{"$f":"IF(OR(E113=Sprache!$C$21,E113=Sprache!$D$21),F113,0)+IF(OR(G113=Sprache!$C$21,G113=Sprache!$D$21),H113,0)","v":0},{"$f":"IF(OR(E113=Sprache!$C$22,E113=Sprache!$D$22),F113,0)+IF(OR(G113=Sprache!$C$22,G113=Sprache!$D$22),H113,0)","v":0},{"$f":"IF(OR(E113=Sprache!$C$23,E113=Sprache!$D$23),F113,0)+IF(OR(G113=Sprache!$C$23,G113=Sprache!$D$23),H113,0)","v":0},{"$f":"IF(OR(E113=Sprache!$C$24,E113=Sprache!$D$24),F113,0)+IF(OR(G113=Sprache!$C$24,G113=Sprache!$D$24),H113,0)","v":0},0,{"$f":"'Formulaire B '!$G$11*I113+'Formulaire B '!$G$11*J113+'Formulaire B '!$G$12*K113+'Formulaire B '!$G$13*L113+'Formulaire B '!$G$14*M113+'Formulaire B '!$G$15*N113","v":0},"",null,null,null,0,null,null,"","",{"$f":"IF(B113<>\"\",HYPERLINK($AC$9&AB113,Sprache!$E$25 &\" \"&B113),\"\")","v":""},null,104,{"$f":"Eingabemeldung(Sprache!$E$18,Sprache!$E$17,'Formulaire C'!E113)","v":""},{"$f":"Eingabemeldung(Sprache!$E$18,Sprache!$E$17,'Formulaire C'!G113)","v":""},false,0,{"$f":"IF(X113<Parameter!$C$3,1,0)","v":0}]
[null,null,null,null,null,null,null,null,{"$f":"IF(OR(E114=Sprache!$C$19,E114=Sprache!$D$19),F114,0)+IF(OR(G114=Sprache!$C$19,G114=Sprache!$D$19),H114,0)","v":0},{"$f":"IF(OR(E114=Sprache!$C$20,E114=Sprache!$D$20),F114,0)+IF(OR(G114=Sprache!$C$20,G114=Sprache!$D$20),H114,0)","v":0},{"$f":"IF(OR(E114=Sprache!$C$21,E114=Sprache!$D$21),F114,0)+IF(OR(G114=Sprache!$C$21,G114=Sprache!$D$21),H114,0)","v":0},{"$f":"IF(OR(E114=Sprache!$C$22,E114=Sprache!$D$22),F114,0)+IF(OR(G114=Sprache!$C$22,G114=Sprache!$D$22),H114,0)","v":0},{"$f":"IF(OR(E114=Sprache!$C$23,E114=Sprache!$D$23),F114,0)+IF(OR(G114=Sprache!$C$23,G114=Sprache!$D$23),H114,0)","v":0},{"$f":"IF(OR(E114=Sprache!$C$24,E114=Sprache!$D$24),F114,0)+IF(OR(G114=Sprache!$C$24,G114=Sprache!$D$24),H114,0)","v":0},0,{"$f":"'Formulaire B '!$G$11*I114+'Formulaire B '!$G$11*J114+'Formulaire B '!$G$12*K114+'Formulaire B '!$G$13*L114+'Formulaire B '!$G$14*M114+'Formulaire B '!$G$15*N114","v":0},"",null,null,null,0,null,null,"","",{"$f":"IF(B114<>\"\",HYPERLINK($AC$9&AB114,Sprache!$E$25 &\" \"&B114),\"\")","v":""},null,105,{"$f":"Eingabemeldung(Sprache!$E$18,Sprache!$E$17,'Formulaire C'!E114)","v":""},{"$f":"Eingabemeldung(Sprache!$E$18,Sprache!$E$17,'Formulaire C'!G114)","v":""},false,0,{"$f":"IF(X114<Parameter!$C$3,1,0)","v":0}]
[null,null,null,null,null,null,null,null,{"$f":"IF(OR(E115=Sprache!$C$19,E115=Sprache!$D$19),F115,0)+IF(OR(G115=Sprache!$C$19,G115=Sprache!$D$19),H115,0)","v":0},{"$f":"IF(OR(E115=Sprache!$C$20,E115=Sprache!$D$20),F115,0)+IF(OR(G115=Sprache!$C$20,G115=Sprache!$D$20),H115,0)","v":0},{"$f":"IF(OR(E115=Sprache!$C$21,E115=Sprache!$D$21),F115,0)+IF(OR(G115=Sprache!$C$21,G115=Sprache!$D$21),H115,0)","v":0},{"$f":"IF(OR(E115=Sprache!$C$22,E115=Sprache!$D$22),F115,0)+IF(OR(G115=Sprache!$C$22,G115=Sprache!$D$22),H115,0)","v":0},{"$f":"IF(OR(E115=Sprache!$C$23,E115=Sprache!$D$23),F115,0)+IF(OR(G115=Sprache!$C$23,G115=Sprache!$D$23),H115,0)","v":0},{"$f":"IF(OR(E115=Sprache!$C$24,E115=Sprache!$D$24),F115,0)+IF(OR(G115=Sprache!$C$24,G115=Sprache!$D$24),H115,0)","v":0},0,{"$f":"'Formulaire B '!$G$11*I115+'Formulaire B '!$G$11*J115+'Formulaire B '!$G$12*K115+'Formulaire B '!$G$13*L115+'Formulaire B '!$G$14*M115+'Formulaire B '!$G$15*N115","v":0},"",null,null,null,0,null,null,"","",{"$f":"IF(B115<>\"\",HYPERLINK($AC$9&AB115,Sprache!$E$25 &\" \"&B115),\"\")","v":""},null,106,{"$f":"Eingabemeldung(Sprache!$E$18,Sprache!$E$17,'Formulaire C'!E115)","v":""},{"$f":"Eingabemeldung(Sprache!$E$18,Sprache!$E$17,'Formulaire C'!G115)","v":""},false,0,{"$f":"IF(X115<Parameter!$C$3,1,0)","v":0}]
[null,null,null,null,null,null,null,null,{"$f":"IF(OR(E116=Sprache!$C$19,E116=Sprache!$D$19),F116,0)+IF(OR(G116=Sprache!$C$19,G116=Sprache!$D$19),H116,0)","v":0},{"$f":"IF(OR(E116=Sprache!$C$20,E116=Sprache!$D$20),F116,0)+IF(OR(G116=Sprache!$C$20,G116=Sprache!$D$20),H116,0)","v":0},{"$f":"IF(OR(E116=Sprache!$C$21,E116=Sprache!$D$21),F116,0)+IF(OR(G116=Sprache!$C$21,G116=Sprache!$D$21),H116,0)","v":0},{"$f":"IF(OR(E116=Sprache!$C$22,E116=Sprache!$D$22),F116,0)+IF(OR(G116=Sprache!$C$22,G116=Sprache!$D$22),H116,0)","v":0},{"$f":"IF(OR(E116=Sprache!$C$23,E116=Sprache!$D$23),F116,0)+IF(OR(G116=Sprache!$C$23,G116=Sprache!$D$23),H116,0)","v":0},{"$f":"IF(OR(E116=Sprache!$C$24,E116=Sprache!$D$24),F116,0)+IF(OR(G116=Sprache!$C$24,G116=Sprache!$D$24),H116,0)","v":0},0,{"$f":"'Formulaire B '!$G$11*I116+'Formulaire B '!$G$11*J116+'Formulaire B '!$G$12*K116+'Formulaire B '!$G$13*L116+'Formulaire B '!$G$14*M116+'Formulaire B '!$G$15*N116","v":0},"",null,null,null,0,null,null,"","",{"$f":"IF(B116<>\"\",HYPERLINK($AC$9&AB116,Sprache!$E$25 &\" \"&B116),\"\")","v":""},null,107,{"$f":"Eingabemeldung(Sprache!$E$18,Sprache!$E$17,'Formulaire C'!E116)","v":""},{"$f":"Eingabemeldung(Sprache!$E$18,Sprache!$E$17,'Formulaire C'!G116)","v":""},false,0,{"$f":"IF(X116<Parameter!$C$3,1,0)","v":0}]
[null,null,null,null,null,null,null,null,{"$f":"IF(OR(E117=Sprache!$C$19,E117=Sprache!$D$19),F117,0)+IF(OR(G117=Sprache!$C$19,G117=Sprache!$D$19),H117,0)","v":0},{"$f":"IF(OR(E117=Sprache!$C$20,E117=Sprache!$D$20),F117,0)+IF(OR(G117=Sprache!$C$20,G117=Sprache!$D$20),H117,0)","v":0},{"$f":"IF(OR(E117=Sprache!$C$21,E117=Sprache!$D$21),F117,0)+IF(OR(G117=Sprache!$C$21,G117=Sprache!$D$21),H117,0)","v":0},{"$f":"IF(OR(E117=Sprache!$C$22,E117=Sprache!$D$22),F117,0)+IF(OR(G117=Sprache!$C$22,G117=Sprache!$D$22),H117,0)","v":0},{"$f":"IF(OR(E117=Sprache!$C$23,E117=Sprache!$D$23),F117,0)+IF(OR(G117=Sprache!$C$23,G117=Sprache!$D$23),H117,0)","v":0},{"$f":"IF(OR(E117=Sprache!$C$24,E117=Sprache!$D$24),F117,0)+IF(OR(G117=Sprache!$C$24,G117=Sprache!$D$24),H117,0)","v":0},0,{"$f":"'Formulaire B '!$G$11*I117+'Formulaire B '!$G$11*J117+'Formulaire B '!$G$12*K117+'Formulaire B '!$G$13*L117+'Formulaire B '!$G$14*M117+'Formulaire B '!$G$15*N117","v":0},"",null,null,null,0,null,null,"","",{"$f":"IF(B117<>\"\",HYPERLINK($AC$9&AB117,Sprache!$E$25 &\" \"&B117),\"\")","v":""},null,108,{"$f":"Eingabemeldung(Sprache!$E$18,Sprache!$E$17,'Formulaire C'!E117)","v":""},{"$f":"Eingabemeldung(Sprache!$E$18,Sprache!$E$17,'Formulaire C'!G117)","v":""},false,0,{"$f":"IF(X117<Parameter!$C$3,1,0)","v":0}]
[null,null,null,null,null,null,null,null,{"$f":"IF(OR(E118=Sprache!$C$19,E118=Sprache!$D$19),F118,0)+IF(OR(G118=Sprache!$C$19,G118=Sprache!$D$19),H118,0)","v":0},{"$f":"IF(OR(E118=Sprache!$C$20,E118=Sprache!$D$20),F118,0)+IF(OR(G118=Sprache!$C$20,G118=Sprache!$D$20),H118,0)","v":0},{"$f":"IF(OR(E118=Sprache!$C$21,E118=Sprache!$D$21),F118,0)+IF(OR(G118=Sprache!$C$21,G118=Sprache!$D$21),H118,0)","v":0},{"$f":"IF(OR(E118=Sprache!$C$22,E118=Sprache!$D$22),F118,0)+IF(OR(G118=Sprache!$C$22,G118=Sprache!$D$22),H118,0)","v":0},{"$f":"IF(OR(E118=Sprache!$C$23,E118=Sprache!$D$23),F118,0)+IF(OR(G118=Sprache!$C$23,G118=Sprache!$D$23),H118,0)","v":0},{"$f":"IF(OR(E118=Sprache!$C$24,E118=Sprache!$D$24),F118,0)+IF(OR(G118=Sprache!$C$24,G118=Sprache!$D$24),H118,0)","v":0},0,{"$f":"'Formulaire B '!$G$11*I118+'Formulaire B '!$G$11*J118+'Formulaire B '!$G$12*K118+'Formulaire B '!$G$13*L118+'Formulaire B '!$G$14*M118+'Formulaire B '!$G$15*N118","v":0},"",null,null,null,0,null,null,"","",{"$f":"IF(B118<>\"\",HYPERLINK($AC$9&AB118,Sprache!$E$25 &\" \"&B118),\"\")","v":""},null,109,{"$f":"Eingabemeldung(Sprache!$E$18,Sprache!$E$17,'Formulaire C'!E118)","v":""},{"$f":"Eingabemeldung(Sprache!$E$18,Sprache!$E$17,'Formulaire C'!G118)","v":""},false,0,{"$f":"IF(X118<Parameter!$C$3,1,0)","v":0}]
[null,null,null,null,null,null,null,null,{"$f":"IF(OR(E119=Sprache!$C$19,E119=Sprache!$D$19),F119,0)+IF(OR(G119=Sprache!$C$19,G119=Sprache!$D$19),H119,0)","v":0},{"$f":"IF(OR(E119=Sprache!$C$20,E119=Sprache!$D$20),F119,0)+IF(OR(G119=Sprache!$C$20,G119=Sprache!$D$20),H119,0)","v":0},{"$f":"IF(OR(E119=Sprache!$C$21,E119=Sprache!$D$21),F119,0)+IF(OR(G119=Sprache!$C$21,G119=Sprache!$D$21),H119,0)","v":0},{"$f":"IF(OR(E119=Sprache!$C$22,E119=Sprache!$D$22),F119,0)+IF(OR(G119=Sprache!$C$22,G119=Sprache!$D$22),H119,0)","v":0},{"$f":"IF(OR(E119=Sprache!$C$23,E119=Sprache!$D$23),F119,0)+IF(OR(G119=Sprache!$C$23,G119=Sprache!$D$23),H119,0)","v":0},{"$f":"IF(OR(E119=Sprache!$C$24,E119=Sprache!$D$24),F119,0)+IF(OR(G119=Sprache!$C$24,G119=Sprache!$D$24),H119,0)","v":0},0,{"$f":"'Formulaire B '!$G$11*I119+'Formulaire B '!$G$11*J119+'Formulaire B '!$G$12*K119+'Formulaire B '!$G$13*L119+'Formulaire B '!$G$14*M119+'Formulaire B '!$G$15*N119","v":0},"",null,null,null,{"$f":"(F119*S119)+(H119*T119)","v":0},null,null,"","",{"$f":"IF(B119<>\"\",HYPERLINK($AC$9&AB119,Sprache!$E$25 &\" \"&B119),\"\")","v":""},null,110,{"$f":"Eingabemeldung(Sprache!$E$18,Sprache!$E$17,'Formulaire C'!E119)","v":""},{"$f":"Eingabemeldung(Sprache!$E$18,Sprache!$E$17,'Formulaire C'!G119)","v":""},false,0,{"$f":"IF(X119<Parameter!$C$3,1,0)","v":0}]
[null,null,null,null,null,null,null,null,{"$f":"IF(OR(E120=Sprache!$C$19,E120=Sprache!$D$19),F120,0)+IF(OR(G120=Sprache!$C$19,G120=Sprache!$D$19),H120,0)","v":0},{"$f":"IF(OR(E120=Sprache!$C$20,E120=Sprache!$D$20),F120,0)+IF(OR(G120=Sprache!$C$20,G120=Sprache!$D$20),H120,0)","v":0},{"$f":"IF(OR(E120=Sprache!$C$21,E120=Sprache!$D$21),F120,0)+IF(OR(G120=Sprache!$C$21,G120=Sprache!$D$21),H120,0)","v":0},{"$f":"IF(OR(E120=Sprache!$C$22,E120=Sprache!$D$22),F120,0)+IF(OR(G120=Sprache!$C$22,G120=Sprache!$D$22),H120,0)","v":0},{"$f":"IF(OR(E120=Sprache!$C$23,E120=Sprache!$D$23),F120,0)+IF(OR(G120=Sprache!$C$23,G120=Sprache!$D$23),H120,0)","v":0},{"$f":"IF(OR(E120=Sprache!$C$24,E120=Sprache!$D$24),F120,0)+IF(OR(G120=Sprache!$C$24,G120=Sprache!$D$24),H120,0)","v":0},0,{"$f":"'Formulaire B '!$G$11*I120+'Formulaire B '!$G$11*J120+'Formulaire B '!$G$12*K120+'Formulaire B '!$G$13*L120+'Formulaire B '!$G$14*M120+'Formulaire B '!$G$15*N120","v":0},"",null,null,null,0,null,null,"","",{"$f":"IF(B120<>\"\",HYPERLINK($AC$9&AB120,Sprache!$E$25 &\" \"&B120),\"\")","v":""},null,111,{"$f":"Eingabemeldung(Sprache!$E$18,Sprache!$E$17,'Formulaire C'!E120)","v":""},{"$f":"Eingabemeldung(Sprache!$E$18,Sprache!$E$17,'Formulaire C'!G120)","v":""},false,0,{"$f":"IF(X120<Parameter!$C$3,1,0)","v":0}]
[null,null,null,null,null,null,null,null,{"$f":"IF(OR(E121=Sprache!$C$19,E121=Sprache!$D$19),F121,0)+IF(OR(G121=Sprache!$C$19,G121=Sprache!$D$19),H121,0)","v":0},{"$f":"IF(OR(E121=Sprache!$C$20,E121=Sprache!$D$20),F121,0)+IF(OR(G121=Sprache!$C$20,G121=Sprache!$D$20),H121,0)","v":0},{"$f":"IF(OR(E121=Sprache!$C$21,E121=Sprache!$D$21),F121,0)+IF(OR(G121=Sprache!$C$21,G121=Sprache!$D$21),H121,0)","v":0},{"$f":"IF(OR(E121=Sprache!$C$22,E121=Sprache!$D$22),F121,0)+IF(OR(G121=Sprache!$C$22,G121=Sprache!$D$22),H121,0)","v":0},{"$f":"IF(OR(E121=Sprache!$C$23,E121=Sprache!$D$23),F121,0)+IF(OR(G121=Sprache!$C$23,G121=Sprache!$D$23),H121,0)","v":0},{"$f":"IF(OR(E121=Sprache!$C$24,E121=Sprache!$D$24),F121,0)+IF(OR(G121=Sprache!$C$24,G121=Sprache!$D$24),H121,0)","v":0},0,{"$f":"'Formulaire B '!$G$11*I121+'Formulaire B '!$G$11*J121+'Formulaire B '!$G$12*K121+'Formulaire B '!$G$13*L121+'Formulaire B '!$G$14*M121+'Formulaire B '!$G$15*N121","v":0},"",null,null,null,0,null,null,"","",{"$f":"IF(B121<>\"\",HYPERLINK($AC$9&AB121,Sprache!$E$25 &\" \"&B121),\"\")","v":""},null,112,{"$f":"Eingabemeldung(Sprache!$E$18,Sprache!$E$17,'Formulaire C'!E121)","v":""},{"$f":"Eingabemeldung(Sprache!$E$18,Sprache!$E$17,'Formulaire C'!G121)","v":""},false,0,{"$f":"IF(X121<Parameter!$C$3,1,0)","v":0}]
[null,null,null,null,null,null,null,null,{"$f":"IF(OR(E122=Sprache!$C$19,E122=Sprache!$D$19),F122,0)+IF(OR(G122=Sprache!$C$19,G122=Sprache!$D$19),H122,0)","v":0},{"$f":"IF(OR(E122=Sprache!$C$20,E122=Sprache!$D$20),F122,0)+IF(OR(G122=Sprache!$C$20,G122=Sprache!$D$20),H122,0)","v":0},{"$f":"IF(OR(E122=Sprache!$C$21,E122=Sprache!$D$21),F122,0)+IF(OR(G122=Sprache!$C$21,G122=Sprache!$D$21),H122,0)","v":0},{"$f":"IF(OR(E122=Sprache!$C$22,E122=Sprache!$D$22),F122,0)+IF(OR(G122=Sprache!$C$22,G122=Sprache!$D$22),H122,0)","v":0},{"$f":"IF(OR(E122=Sprache!$C$23,E122=Sprache!$D$23),F122,0)+IF(OR(G122=Sprache!$C$23,G122=Sprache!$D$23),H122,0)","v":0},{"$f":"IF(OR(E122=Sprache!$C$24,E122=Sprache!$D$24),F122,0)+IF(OR(G122=Sprache!$C$24,G122=Sprache!$D$24),H122,0)","v":0},0,{"$f":"'Formulaire B '!$G$11*I122+'Formulaire B '!$G$11*J122+'Formulaire B '!$G$12*K122+'Formulaire B '!$G$13*L122+'Formulaire B '!$G$14*M122+'Formulaire B '!$G$15*N122","v":0},"",null,null,null,0,null,null,"","",{"$f":"IF(B122<>\"\",HYPERLINK($AC$9&AB122,Sprache!$E$25 &\" \"&B122),\"\")","v":""},null,113,{"$f":"Eingabemeldung(Sprache!$E$18,Sprache!$E$17,'Formulaire C'!E122)","v":""},{"$f":"Eingabemeldung(Sprache!$E$18,Sprache!$E$17,'Formulaire C'!G122)","v":""},false,0,{"$f":"IF(X122<Parameter!$C$3,1,0)","v":0}]
[null,null,null,null,null,null,null,null,{"$f":"IF(OR(E123=Sprache!$C$19,E123=Sprache!$D$19),F123,0)+IF(OR(G123=Sprache!$C$19,G123=Sprache!$D$19),H123,0)","v":0},{"$f":"IF(OR(E123=Sprache!$C$20,E123=Sprache!$D$20),F123,0)+IF(OR(G123=Sprache!$C$20,G123=Sprache!$D$20),H123,0)","v":0},{"$f":"IF(OR(E123=Sprache!$C$21,E123=Sprache!$D$21),F123,0)+IF(OR(G123=Sprache!$C$21,G123=Sprache!$D$21),H123,0)","v":0},{"$f":"IF(OR(E123=Sprache!$C$22,E123=Sprache!$D$22),F123,0)+IF(OR(G123=Sprache!$C$22,G123=Sprache!$D$22),H123,0)","v":0},{"$f":"IF(OR(E123=Sprache!$C$23,E123=Sprache!$D$23),F123,0)+IF(OR(G123=Sprache!$C$23,G123=Sprache!$D$23),H123,0)","v":0},{"$f":"IF(OR(E123=Sprache!$C$24,E123=Sprache!$D$24),F123,0)+IF(OR(G123=Sprache!$C$24,G123=Sprache!$D$24),H123,0)","v":0},0,{"$f":"'Formulaire B '!$G$11*I123+'Formulaire B '!$G$11*J123+'Formulaire B '!$G$12*K123+'Formulaire B '!$G$13*L123+'Formulaire B '!$G$14*M123+'Formulaire B '!$G$15*N123","v":0},"",null,null,null,0,null,null,"","",{"$f":"IF(B123<>\"\",HYPERLINK($AC$9&AB123,Sprache!$E$25 &\" \"&B123),\"\")","v":""},null,114,{"$f":"Eingabemeldung(Sprache!$E$18,Sprache!$E$17,'Formulaire C'!E123)","v":""},{"$f":"Eingabemeldung(Sprache!$E$18,Sprache!$E$17,'Formulaire C'!G123)","v":""},false,0,{"$f":"IF(X123<Parameter!$C$3,1,0)","v":0}]
[null,{"$f":"Sprache!E173","v":"Installations de production / services "},null,null,null,null,null,null,null,null,null,null,null,null,null,null,null,null,null,null,null,null,null,null,null,null,null,115]
[null,null,null,null,null,null,null,null,{"$f":"IF(OR(E125=Sprache!$C$19,E125=Sprache!$D$19),F125,0)+IF(OR(G125=Sprache!$C$19,G125=Sprache!$D$19),H125,0)","v":0},{"$f":"IF(OR(E125=Sprache!$C$20,E125=Sprache!$D$20),F125,0)+IF(OR(G125=Sprache!$C$20,G125=Sprache!$D$20),H125,0)","v":0},{"$f":"IF(OR(E125=Sprache!$C$21,E125=Sprache!$D$21),F125,0)+IF(OR(G125=Sprache!$C$21,G125=Sprache!$D$21),H125,0)","v":0},{"$f":"IF(OR(E125=Sprache!$C$22,E125=Sprache!$D$22),F125,0)+IF(OR(G125=Sprache!$C$22,G125=Sprache!$D$22),H125,0)","v":0},{"$f":"IF(OR(E125=Sprache!$C$23,E125=Sprache!$D$23),F125,0)+IF(OR(G125=Sprache!$C$23,G125=Sprache!$D$23),H125,0)","v":0},{"$f":"IF(OR(E125=Sprache!$C$24,E125=Sprache!$D$24),F125,0)+IF(OR(G125=Sprache!$C$24,G125=Sprache!$D$24),H125,0)","v":0},{"$f":"F125+H125","v":0},{"$f":"'Formulaire B '!$G$11*I125+'Formulaire B '!$G$11*J125+'Formulaire B '!$G$12*K125+'Formulaire B '!$G$13*L125+'Formulaire B '!$G$14*M125+'Formulaire B '!$G$15*N125","v":0},"",null,null,null,{"$f":"(F125*S125)+(H125*T125)","v":0},null,null,"","",{"$f":"IF(B125<>\"\",HYPERLINK($AC$9&AB125,Sprache!$E$25 &\" \"&B125),\"\")","v":""},null,116,{"$f":"Eingabemeldung(Sprache!$E$18,Sprache!$E$17,'Formulaire C'!E125)","v":""},{"$f":"Eingabemeldung(Sprache!$E$18,Sprache!$E$17,'Formulaire C'!G125)","v":""},false,0,{"$f":"IF(X125<Parameter!$C$4,1,0)","v":0}]
[null,null,null,null,null,null,null,null,{"$f":"IF(OR(E126=Sprache!$C$19,E126=Sprache!$D$19),F126,0)+IF(OR(G126=Sprache!$C$19,G126=Sprache!$D$19),H126,0)","v":0},{"$f":"IF(OR(E126=Sprache!$C$20,E126=Sprache!$D$20),F126,0)+IF(OR(G126=Sprache!$C$20,G126=Sprache!$D$20),H126,0)","v":0},{"$f":"IF(OR(E126=Sprache!$C$21,E126=Sprache!$D$21),F126,0)+IF(OR(G126=Sprache!$C$21,G126=Sprache!$D$21),H126,0)","v":0},{"$f":"IF(OR(E126=Sprache!$C$22,E126=Sprache!$D$22),F126,0)+IF(OR(G126=Sprache!$C$22,G126=Sprache!$D$22),H126,0)","v":0},{"$f":"IF(OR(E126=Sprache!$C$23,E126=Sprache!$D$23),F126,0)+IF(OR(G126=Sprache!$C$23,G126=Sprache!$D$23),H126,0)","v":0},{"$f":"IF(OR(E126=Sprache!$C$24,E126=Sprache!$D$24),F126,0)+IF(OR(G126=Sprache!$C$24,G126=Sprache!$D$24),H126,0)","v":0},0,{"$f":"'Formulaire B '!$G$11*I126+'Formulaire B '!$G$11*J126+'Formulaire B '!$G$12*K126+'Formulaire B '!$G$13*L126+'Formulaire B '!$G$14*M126+'Formulaire B '!$G$15*N126","v":0},"",null,null,null,0,null,null,"","",{"$f":"IF(B126<>\"\",HYPERLINK($AC$9&AB126,Sprache!$E$25 &\" \"&B126),\"\")","v":""},null,117,{"$f":"Eingabemeldung(Sprache!$E$18,Sprache!$E$17,'Formulaire C'!E126)","v":""},{"$f":"Eingabemeldung(Sprache!$E$18,Sprache!$E$17,'Formulaire C'!G126)","v":""},false,0,{"$f":"IF(X126<Parameter!$C$4,1,0)","v":0}]
[null,null,null,null,null,null,null,null,{"$f":"IF(OR(E127=Sprache!$C$19,E127=Sprache!$D$19),F127,0)+IF(OR(G127=Sprache!$C$19,G127=Sprache!$D$19),H127,0)","v":0},{"$f":"IF(OR(E127=Sprache!$C$20,E127=Sprache!$D$20),F127,0)+IF(OR(G127=Sprache!$C$20,G127=Sprache!$D$20),H127,0)","v":0},{"$f":"IF(OR(E127=Sprache!$C$21,E127=Sprache!$D$21),F127,0)+IF(OR(G127=Sprache!$C$21,G127=Sprache!$D$21),H127,0)","v":0},{"$f":"IF(OR(E127=Sprache!$C$22,E127=Sprache!$D$22),F127,0)+IF(OR(G127=Sprache!$C$22,G127=Sprache!$D$22),H127,0)","v":0},{"$f":"IF(OR(E127=Sprache!$C$23,E127=Sprache!$D$23),F127,0)+IF(OR(G127=Sprache!$C$23,G127=Sprache!$D$23),H127,0)","v":0},{"$f":"IF(OR(E127=Sprache!$C$24,E127=Sprache!$D$24),F127,0)+IF(OR(G127=Sprache!$C$24,G127=Sprache!$D$24),H127,0)","v":0},0,{"$f":"'Formulaire B '!$G$11*I127+'Formulaire B '!$G$11*J127+'Formulaire B '!$G$12*K127+'Formulaire B '!$G$13*L127+'Formulaire B '!$G$14*M127+'Formulaire B '!$G$15*N127","v":0},"",null,null,null,0,null,null,"","",{"$f":"IF(B127<>\"\",HYPERLINK($AC$9&AB127,Sprache!$E$25 &\" \"&B127),\"\")","v":""},null,118,{"$f":"Eingabemeldung(Sprache!$E$18,Sprache!$E$17,'Formulaire C'!E127)","v":""},{"$f":"Eingabemeldung(Sprache!$E$18,Sprache!$E$17,'Formulaire C'!G127)","v":""},false,0,{"$f":"IF(X127<Parameter!$C$4,1,0)","v":0}]
[null,null,null,null,null,null,null,null,{"$f":"IF(OR(E128=Sprache!$C$19,E128=Sprache!$D$19),F128,0)+IF(OR(G128=Sprache!$C$19,G128=Sprache!$D$19),H128,0)","v":0},{"$f":"IF(OR(E128=Sprache!$C$20,E128=Sprache!$D$20),F128,0)+IF(OR(G128=Sprache!$C$20,G128=Sprache!$D$20),H128,0)","v":0},{"$f":"IF(OR(E128=Sprache!$C$21,E128=Sprache!$D$21),F128,0)+IF(OR(G128=Sprache!$C$21,G128=Sprache!$D$21),H128,0)","v":0},{"$f":"IF(OR(E128=Sprache!$C$22,E128=Sprache!$D$22),F128,0)+IF(OR(G128=Sprache!$C$22,G128=Sprache!$D$22),H128,0)","v":0},{"$f":"IF(OR(E128=Sprache!$C$23,E128=Sprache!$D$23),F128,0)+IF(OR(G128=Sprache!$C$23,G128=Sprache!$D$23),H128,0)","v":0},{"$f":"IF(OR(E128=Sprache!$C$24,E128=Sprache!$D$24),F128,0)+IF(OR(G128=Sprache!$C$24,G128=Sprache!$D$24),H128,0)","v":0},0,{"$f":"'Formulaire B '!$G$11*I128+'Formulaire B '!$G$11*J128+'Formulaire B '!$G$12*K128+'Formulaire B '!$G$13*L128+'Formulaire B '!$G$14*M128+'Formulaire B '!$G$15*N128","v":0},"",null,null,null,0,null,null,"","",{"$f":"IF(B128<>\"\",HYPERLINK($AC$9&AB128,Sprache!$E$25 &\" \"&B128),\"\")","v":""},null,119,{"$f":"Eingabemeldung(Sprache!$E$18,Sprache!$E$17,'Formulaire C'!E128)","v":""},{"$f":"Eingabemeldung(Sprache!$E$18,Sprache!$E$17,'Formulaire C'!G128)","v":""},false,0,{"$f":"IF(X128<Parameter!$C$4,1,0)","v":0}]
[null,null,null,null,null,null,null,null,{"$f":"IF(OR(E129=Sprache!$C$19,E129=Sprache!$D$19),F129,0)+IF(OR(G129=Sprache!$C$19,G129=Sprache!$D$19),H129,0)","v":0},{"$f":"IF(OR(E129=Sprache!$C$20,E129=Sprache!$D$20),F129,0)+IF(OR(G129=Sprache!$C$20,G129=Sprache!$D$20),H129,0)","v":0},{"$f":"IF(OR(E129=Sprache!$C$21,E129=Sprache!$D$21),F129,0)+IF(OR(G129=Sprache!$C$21,G129=Sprache!$D$21),H129,0)","v":0},{"$f":"IF(OR(E129=Sprache!$C$22,E129=Sprache!$D$22),F129,0)+IF(OR(G129=Sprache!$C$22,G129=Sprache!$D$22),H129,0)","v":0},{"$f":"IF(OR(E129=Sprache!$C$23,E129=Sprache!$D$23),F129,0)+IF(OR(G129=Sprache!$C$23,G129=Sprache!$D$23),H129,0)","v":0},{"$f":"IF(OR(E129=Sprache!$C$24,E129=Sprache!$D$24),F129,0)+IF(OR(G129=Sprache!$C$24,G129=Sprache!$D$24),H129,0)","v":0},0,{"$f":"'Formulaire B '!$G$11*I129+'Formulaire B '!$G$11*J129+'Formulaire B '!$G$12*K129+'Formulaire B '!$G$13*L129+'Formulaire B '!$G$14*M129+'Formulaire B '!$G$15*N129","v":0},"",null,null,null,0,null,null,"","",{"$f":"IF(B129<>\"\",HYPERLINK($AC$9&AB129,Sprache!$E$25 &\" \"&B129),\"\")","v":""},null,120,{"$f":"Eingabemeldung(Sprache!$E$18,Sprache!$E$17,'Formulaire C'!E129)","v":""},{"$f":"Eingabemeldung(Sprache!$E$18,Sprache!$E$17,'Formulaire C'!G129)","v":""},false,0,{"$f":"IF(X129<Parameter!$C$4,1,0)","v":0}]
[null,null,null,null,null,null,null,null,{"$f":"IF(OR(E130=Sprache!$C$19,E130=Sprache!$D$19),F130,0)+IF(OR(G130=Sprache!$C$19,G130=Sprache!$D$19),H130,0)","v":0},{"$f":"IF(OR(E130=Sprache!$C$20,E130=Sprache!$D$20),F130,0)+IF(OR(G130=Sprache!$C$20,G130=Sprache!$D$20),H130,0)","v":0},{"$f":"IF(OR(E130=Sprache!$C$21,E130=Sprache!$D$21),F130,0)+IF(OR(G130=Sprache!$C$21,G130=Sprache!$D$21),H130,0)","v":0},{"$f":"IF(OR(E130=Sprache!$C$22,E130=Sprache!$D$22),F130,0)+IF(OR(G130=Sprache!$C$22,G130=Sprache!$D$22),H130,0)","v":0},{"$f":"IF(OR(E130=Sprache!$C$23,E130=Sprache!$D$23),F130,0)+IF(OR(G130=Sprache!$C$23,G130=Sprache!$D$23),H130,0)","v":0},{"$f":"IF(OR(E130=Sprache!$C$24,E130=Sprache!$D$24),F130,0)+IF(OR(G130=Sprache!$C$24,G130=Sprache!$D$24),H130,0)","v":0},0,{"$f":"'Formulaire B '!$G$11*I130+'Formulaire B '!$G$11*J130+'Formulaire B '!$G$12*K130+'Formulaire B '!$G$13*L130+'Formulaire B '!$G$14*M130+'Formulaire B '!$G$15*N130","v":0},"",null,null,null,0,null,null,"","",{"$f":"IF(B130<>\"\",HYPERLINK($AC$9&AB130,Sprache!$E$25 &\" \"&B130),\"\")","v":""},null,121,{"$f":"Eingabemeldung(Sprache!$E$18,Sprache!$E$17,'Formulaire C'!E130)","v":""},{"$f":"Eingabemeldung(Sprache!$E$18,Sprache!$E$17,'Formulaire C'!G130)","v":""},false,0,{"$f":"IF(X130<Parameter!$C$4,1,0)","v":0}]
[null,null,null,null,null,null,null,null,{"$f":"IF(OR(E131=Sprache!$C$19,E131=Sprache!$D$19),F131,0)+IF(OR(G131=Sprache!$C$19,G131=Sprache!$D$19),H131,0)","v":0},{"$f":"IF(OR(E131=Sprache!$C$20,E131=Sprache!$D$20),F131,0)+IF(OR(G131=Sprache!$C$20,G131=Sprache!$D$20),H131,0)","v":0},{"$f":"IF(OR(E131=Sprache!$C$21,E131=Sprache!$D$21),F131,0)+IF(OR(G131=Sprache!$C$21,G131=Sprache!$D$21),H131,0)","v":0},{"$f":"IF(OR(E131=Sprache!$C$22,E131=Sprache!$D$22),F131,0)+IF(OR(G131=Sprache!$C$22,G131=Sprache!$D$22),H131,0)","v":0},{"$f":"IF(OR(E131=Sprache!$C$23,E131=Sprache!$D$23),F131,0)+IF(OR(G131=Sprache!$C$23,G131=Sprache!$D$23),H131,0)","v":0},{"$f":"IF(OR(E131=Sprache!$C$24,E131=Sprache!$D$24),F131,0)+IF(OR(G131=Sprache!$C$24,G131=Sprache!$D$24),H131,0)","v":0},0,{"$f":"'Formulaire B '!$G$11*I131+'Formulaire B '!$G$11*J131+'Formulaire B '!$G$12*K131+'Formulaire B '!$G$13*L131+'Formulaire B '!$G$14*M131+'Formulaire B '!$G$15*N131","v":0},"",null,null,null,0,null,null,"","",{"$f":"IF(B131<>\"\",HYPERLINK($AC$9&AB131,Sprache!$E$25 &\" \"&B131),\"\")","v":""},null,122,{"$f":"Eingabemeldung(Sprache!$E$18,Sprache!$E$17,'Formulaire C'!E131)","v":""},{"$f":"Eingabemeldung(Sprache!$E$18,Sprache!$E$17,'Formulaire C'!G131)","v":""},false,0,{"$f":"IF(X131<Parameter!$C$4,1,0)","v":0}]
[null,null,null,null,null,null,null,null,{"$f":"IF(OR(E132=Sprache!$C$19,E132=Sprache!$D$19),F132,0)+IF(OR(G132=Sprache!$C$19,G132=Sprache!$D$19),H132,0)","v":0},{"$f":"IF(OR(E132=Sprache!$C$20,E132=Sprache!$D$20),F132,0)+IF(OR(G132=Sprache!$C$20,G132=Sprache!$D$20),H132,0)","v":0},{"$f":"IF(OR(E132=Sprache!$C$21,E132=Sprache!$D$21),F132,0)+IF(OR(G132=Sprache!$C$21,G132=Sprache!$D$21),H132,0)","v":0},{"$f":"IF(OR(E132=Sprache!$C$22,E132=Sprache!$D$22),F132,0)+IF(OR(G132=Sprache!$C$22,G132=Sprache!$D$22),H132,0)","v":0},{"$f":"IF(OR(E132=Sprache!$C$23,E132=Sprache!$D$23),F132,0)+IF(OR(G132=Sprache!$C$23,G132=Sprache!$D$23),H132,0)","v":0},{"$f":"IF(OR(E132=Sprache!$C$24,E132=Sprache!$D$24),F132,0)+IF(OR(G132=Sprache!$C$24,G132=Sprache!$D$24),H132,0)","v":0},0,{"$f":"'Formulaire B '!$G$11*I132+'Formulaire B '!$G$11*J132+'Formulaire B '!$G$12*K132+'Formulaire B '!$G$13*L132+'Formulaire B '!$G$14*M132+'Formulaire B '!$G$15*N132","v":0},"",null,null,null,0,null,null,"","",{"$f":"IF(B132<>\"\",HYPERLINK($AC$9&AB132,Sprache!$E$25 &\" \"&B132),\"\")","v":""},null,123,{"$f":"Eingabemeldung(Sprache!$E$18,Sprache!$E$17,'Formulaire C'!E132)","v":""},{"$f":"Eingabemeldung(Sprache!$E$18,Sprache!$E$17,'Formulaire C'!G132)","v":""},false,0,{"$f":"IF(X132<Parameter!$C$4,1,0)","v":0}]
[null,null,null,null,null,null,null,null,{"$f":"IF(OR(E133=Sprache!$C$19,E133=Sprache!$D$19),F133,0)+IF(OR(G133=Sprache!$C$19,G133=Sprache!$D$19),H133,0)","v":0},{"$f":"IF(OR(E133=Sprache!$C$20,E133=Sprache!$D$20),F133,0)+IF(OR(G133=Sprache!$C$20,G133=Sprache!$D$20),H133,0)","v":0},{"$f":"IF(OR(E133=Sprache!$C$21,E133=Sprache!$D$21),F133,0)+IF(OR(G133=Sprache!$C$21,G133=Sprache!$D$21),H133,0)","v":0},{"$f":"IF(OR(E133=Sprache!$C$22,E133=Sprache!$D$22),F133,0)+IF(OR(G133=Sprache!$C$22,G133=Sprache!$D$22),H133,0)","v":0},{"$f":"IF(OR(E133=Sprache!$C$23,E133=Sprache!$D$23),F133,0)+IF(OR(G133=Sprache!$C$23,G133=Sprache!$D$23),H133,0)","v":0},{"$f":"IF(OR(E133=Sprache!$C$24,E133=Sprache!$D$24),F133,0)+IF(OR(G133=Sprache!$C$24,G133=Sprache!$D$24),H133,0)","v":0},0,{"$f":"'Formulaire B '!$G$11*I133+'Formulaire B '!$G$11*J133+'Formulaire B '!$G$12*K133+'Formulaire B '!$G$13*L133+'Formulaire B '!$G$14*M133+'Formulaire B '!$G$15*N133","v":0},"",null,null,null,0,null,null,"","",{"$f":"IF(B133<>\"\",HYPERLINK($AC$9&AB133,Sprache!$E$25 &\" \"&B133),\"\")","v":""},null,124,{"$f":"Eingabemeldung(Sprache!$E$18,Sprache!$E$17,'Formulaire C'!E133)","v":""},{"$f":"Eingabemeldung(Sprache!$E$18,Sprache!$E$17,'Formulaire C'!G133)","v":""},false,0,{"$f":"IF(X133<Parameter!$C$4,1,0)","v":0}]
[null,null,null,null,null,null,null,null,{"$f":"IF(OR(E134=Sprache!$C$19,E134=Sprache!$D$19),F134,0)+IF(OR(G134=Sprache!$C$19,G134=Sprache!$D$19),H134,0)","v":0},{"$f":"IF(OR(E134=Sprache!$C$20,E134=Sprache!$D$20),F134,0)+IF(OR(G134=Sprache!$C$20,G134=Sprache!$D$20),H134,0)","v":0},{"$f":"IF(OR(E134=Sprache!$C$21,E134=Sprache!$D$21),F134,0)+IF(OR(G134=Sprache!$C$21,G134=Sprache!$D$21),H134,0)","v":0},{"$f":"IF(OR(E134=Sprache!$C$22,E134=Sprache!$D$22),F134,0)+IF(OR(G134=Sprache!$C$22,G134=Sprache!$D$22),H134,0)","v":0},{"$f":"IF(OR(E134=Sprache!$C$23,E134=Sprache!$D$23),F134,0)+IF(OR(G134=Sprache!$C$23,G134=Sprache!$D$23),H134,0)","v":0},{"$f":"IF(OR(E134=Sprache!$C$24,E134=Sprache!$D$24),F134,0)+IF(OR(G134=Sprache!$C$24,G134=Sprache!$D$24),H134,0)","v":0},0,{"$f":"'Formulaire B '!$G$11*I134+'Formulaire B '!$G$11*J134+'Formulaire B '!$G$12*K134+'Formulaire B '!$G$13*L134+'Formulaire B '!$G$14*M134+'Formulaire B '!$G$15*N134","v":0},"",null,null,null,0,null,null,"","",{"$f":"IF(B134<>\"\",HYPERLINK($AC$9&AB134,Sprache!$E$25 &\" \"&B134),\"\")","v":""},null,125,{"$f":"Eingabemeldung(Sprache!$E$18,Sprache!$E$17,'Formulaire C'!E134)","v":""},{"$f":"Eingabemeldung(Sprache!$E$18,Sprache!$E$17,'Formulaire C'!G134)","v":""},false,0,{"$f":"IF(X134<Parameter!$C$4,1,0)","v":0}]
[null,null,null,null,null,null,null,null,{"$f":"IF(OR(E135=Sprache!$C$19,E135=Sprache!$D$19),F135,0)+IF(OR(G135=Sprache!$C$19,G135=Sprache!$D$19),H135,0)","v":0},{"$f":"IF(OR(E135=Sprache!$C$20,E135=Sprache!$D$20),F135,0)+IF(OR(G135=Sprache!$C$20,G135=Sprache!$D$20),H135,0)","v":0},{"$f":"IF(OR(E135=Sprache!$C$21,E135=Sprache!$D$21),F135,0)+IF(OR(G135=Sprache!$C$21,G135=Sprache!$D$21),H135,0)","v":0},{"$f":"IF(OR(E135=Sprache!$C$22,E135=Sprache!$D$22),F135,0)+IF(OR(G135=Sprache!$C$22,G135=Sprache!$D$22),H135,0)","v":0},{"$f":"IF(OR(E135=Sprache!$C$23,E135=Sprache!$D$23),F135,0)+IF(OR(G135=Sprache!$C$23,G135=Sprache!$D$23),H135,0)","v":0},{"$f":"IF(OR(E135=Sprache!$C$24,E135=Sprache!$D$24),F135,0)+IF(OR(G135=Sprache!$C$24,G135=Sprache!$D$24),H135,0)","v":0},0,{"$f":"'Formulaire B '!$G$11*I135+'Formulaire B '!$G$11*J135+'Formulaire B '!$G$12*K135+'Formulaire B '!$G$13*L135+'Formulaire B '!$G$14*M135+'Formulaire B '!$G$15*N135","v":0},"",null,null,null,0,null,null,"","",{"$f":"IF(B135<>\"\",HYPERLINK($AC$9&AB135,Sprache!$E$25 &\" \"&B135),\"\")","v":""},null,126,{"$f":"Eingabemeldung(Sprache!$E$18,Sprache!$E$17,'Formulaire C'!E135)","v":""},{"$f":"Eingabemeldung(Sprache!$E$18,Sprache!$E$17,'Formulaire C'!G135)","v":""},false,0,{"$f":"IF(X135<Parameter!$C$4,1,0)","v":0}]
[null,null,null,null,null,null,null,null,{"$f":"IF(OR(E136=Sprache!$C$19,E136=Sprache!$D$19),F136,0)+IF(OR(G136=Sprache!$C$19,G136=Sprache!$D$19),H136,0)","v":0},{"$f":"IF(OR(E136=Sprache!$C$20,E136=Sprache!$D$20),F136,0)+IF(OR(G136=Sprache!$C$20,G136=Sprache!$D$20),H136,0)","v":0},{"$f":"IF(OR(E136=Sprache!$C$21,E136=Sprache!$D$21),F136,0)+IF(OR(G136=Sprache!$C$21,G136=Sprache!$D$21),H136,0)","v":0},{"$f":"IF(OR(E136=Sprache!$C$22,E136=Sprache!$D$22),F136,0)+IF(OR(G136=Sprache!$C$22,G136=Sprache!$D$22),H136,0)","v":0},{"$f":"IF(OR(E136=Sprache!$C$23,E136=Sprache!$D$23),F136,0)+IF(OR(G136=Sprache!$C$23,G136=Sprache!$D$23),H136,0)","v":0},{"$f":"IF(OR(E136=Sprache!$C$24,E136=Sprache!$D$24),F136,0)+IF(OR(G136=Sprache!$C$24,G136=Sprache!$D$24),H136,0)","v":0},0,{"$f":"'Formulaire B '!$G$11*I136+'Formulaire B '!$G$11*J136+'Formulaire B '!$G$12*K136+'Formulaire B '!$G$13*L136+'Formulaire B '!$G$14*M136+'Formulaire B '!$G$15*N136","v":0},"",null,null,null,0,null,null,"","",{"$f":"IF(B136<>\"\",HYPERLINK($AC$9&AB136,Sprache!$E$25 &\" \"&B136),\"\")","v":""},null,127,{"$f":"Eingabemeldung(Sprache!$E$18,Sprache!$E$17,'Formulaire C'!E136)","v":""},{"$f":"Eingabemeldung(Sprache!$E$18,Sprache!$E$17,'Formulaire C'!G136)","v":""},false,0,{"$f":"IF(X136<Parameter!$C$4,1,0)","v":0}]
[null,null,null,null,null,null,null,null,{"$f":"IF(OR(E137=Sprache!$C$19,E137=Sprache!$D$19),F137,0)+IF(OR(G137=Sprache!$C$19,G137=Sprache!$D$19),H137,0)","v":0},{"$f":"IF(OR(E137=Sprache!$C$20,E137=Sprache!$D$20),F137,0)+IF(OR(G137=Sprache!$C$20,G137=Sprache!$D$20),H137,0)","v":0},{"$f":"IF(OR(E137=Sprache!$C$21,E137=Sprache!$D$21),F137,0)+IF(OR(G137=Sprache!$C$21,G137=Sprache!$D$21),H137,0)","v":0},{"$f":"IF(OR(E137=Sprache!$C$22,E137=Sprache!$D$22),F137,0)+IF(OR(G137=Sprache!$C$22,G137=Sprache!$D$22),H137,0)","v":0},{"$f":"IF(OR(E137=Sprache!$C$23,E137=Sprache!$D$23),F137,0)+IF(OR(G137=Sprache!$C$23,G137=Sprache!$D$23),H137,0)","v":0},{"$f":"IF(OR(E137=Sprache!$C$24,E137=Sprache!$D$24),F137,0)+IF(OR(G137=Sprache!$C$24,G137=Sprache!$D$24),H137,0)","v":0},0,{"$f":"'Formulaire B '!$G$11*I137+'Formulaire B '!$G$11*J137+'Formulaire B '!$G$12*K137+'Formulaire B '!$G$13*L137+'Formulaire B '!$G$14*M137+'Formulaire B '!$G$15*N137","v":0},"",null,null,null,0,null,null,"","",{"$f":"IF(B137<>\"\",HYPERLINK($AC$9&AB137,Sprache!$E$25 &\" \"&B137),\"\")","v":""},null,128,{"$f":"Eingabemeldung(Sprache!$E$18,Sprache!$E$17,'Formulaire C'!E137)","v":""},{"$f":"Eingabemeldung(Sprache!$E$18,Sprache!$E$17,'Formulaire C'!G137)","v":""},false,0,{"$f":"IF(X137<Parameter!$C$4,1,0)","v":0}]
[null,null,null,null,null,null,null,null,{"$f":"IF(OR(E138=Sprache!$C$19,E138=Sprache!$D$19),F138,0)+IF(OR(G138=Sprache!$C$19,G138=Sprache!$D$19),H138,0)","v":0},{"$f":"IF(OR(E138=Sprache!$C$20,E138=Sprache!$D$20),F138,0)+IF(OR(G138=Sprache!$C$20,G138=Sprache!$D$20),H138,0)","v":0},{"$f":"IF(OR(E138=Sprache!$C$21,E138=Sprache!$D$21),F138,0)+IF(OR(G138=Sprache!$C$21,G138=Sprache!$D$21),H138,0)","v":0},{"$f":"IF(OR(E138=Sprache!$C$22,E138=Sprache!$D$22),F138,0)+IF(OR(G138=Sprache!$C$22,G138=Sprache!$D$22),H138,0)","v":0},{"$f":"IF(OR(E138=Sprache!$C$23,E138=Sprache!$D$23),F138,0)+IF(OR(G138=Sprache!$C$23,G138=Sprache!$D$23),H138,0)","v":0},{"$f":"IF(OR(E138=Sprache!$C$24,E138=Sprache!$D$24),F138,0)+IF(OR(G138=Sprache!$C$24,G138=Sprache!$D$24),H138,0)","v":0},0,{"$f":"'Formulaire B '!$G$11*I138+'Formulaire B '!$G$11*J138+'Formulaire B '!$G$12*K138+'Formulaire B '!$G$13*L138+'Formulaire B '!$G$14*M138+'Formulaire B '!$G$15*N138","v":0},"",null,null,null,0,null,null,"","",{"$f":"IF(B138<>\"\",HYPERLINK($AC$9&AB138,Sprache!$E$25 &\" \"&B138),\"\")","v":""},null,129,{"$f":"Eingabemeldung(Sprache!$E$18,Sprache!$E$17,'Formulaire C'!E138)","v":""},{"$f":"Eingabemeldung(Sprache!$E$18,Sprache!$E$17,'Formulaire C'!G138)","v":""},false,0,{"$f":"IF(X138<Parameter!$C$4,1,0)","v":0}]
[null,null,null,null,null,null,null,null,{"$f":"IF(OR(E139=Sprache!$C$19,E139=Sprache!$D$19),F139,0)+IF(OR(G139=Sprache!$C$19,G139=Sprache!$D$19),H139,0)","v":0},{"$f":"IF(OR(E139=Sprache!$C$20,E139=Sprache!$D$20),F139,0)+IF(OR(G139=Sprache!$C$20,G139=Sprache!$D$20),H139,0)","v":0},{"$f":"IF(OR(E139=Sprache!$C$21,E139=Sprache!$D$21),F139,0)+IF(OR(G139=Sprache!$C$21,G139=Sprache!$D$21),H139,0)","v":0},{"$f":"IF(OR(E139=Sprache!$C$22,E139=Sprache!$D$22),F139,0)+IF(OR(G139=Sprache!$C$22,G139=Sprache!$D$22),H139,0)","v":0},{"$f":"IF(OR(E139=Sprache!$C$23,E139=Sprache!$D$23),F139,0)+IF(OR(G139=Sprache!$C$23,G139=Sprache!$D$23),H139,0)","v":0},{"$f":"IF(OR(E139=Sprache!$C$24,E139=Sprache!$D$24),F139,0)+IF(OR(G139=Sprache!$C$24,G139=Sprache!$D$24),H139,0)","v":0},0,{"$f":"'Formulaire B '!$G$11*I139+'Formulaire B '!$G$11*J139+'Formulaire B '!$G$12*K139+'Formulaire B '!$G$13*L139+'Formulaire B '!$G$14*M139+'Formulaire B '!$G$15*N139","v":0},"",null,null,null,0,null,null,"","",{"$f":"IF(B139<>\"\",HYPERLINK($AC$9&AB139,Sprache!$E$25 &\" \"&B139),\"\")","v":""},null,130,{"$f":"Eingabemeldung(Sprache!$E$18,Sprache!$E$17,'Formulaire C'!E139)","v":""},{"$f":"Eingabemeldung(Sprache!$E$18,Sprache!$E$17,'Formulaire C'!G139)","v":""},false,0,{"$f":"IF(X139<Parameter!$C$4,1,0)","v":0}]
[null,null,null,null,null,null,null,null,{"$f":"IF(OR(E140=Sprache!$C$19,E140=Sprache!$D$19),F140,0)+IF(OR(G140=Sprache!$C$19,G140=Sprache!$D$19),H140,0)","v":0},{"$f":"IF(OR(E140=Sprache!$C$20,E140=Sprache!$D$20),F140,0)+IF(OR(G140=Sprache!$C$20,G140=Sprache!$D$20),H140,0)","v":0},{"$f":"IF(OR(E140=Sprache!$C$21,E140=Sprache!$D$21),F140,0)+IF(OR(G140=Sprache!$C$21,G140=Sprache!$D$21),H140,0)","v":0},{"$f":"IF(OR(E140=Sprache!$C$22,E140=Sprache!$D$22),F140,0)+IF(OR(G140=Sprache!$C$22,G140=Sprache!$D$22),H140,0)","v":0},{"$f":"IF(OR(E140=Sprache!$C$23,E140=Sprache!$D$23),F140,0)+IF(OR(G140=Sprache!$C$23,G140=Sprache!$D$23),H140,0)","v":0},{"$f":"IF(OR(E140=Sprache!$C$24,E140=Sprache!$D$24),F140,0)+IF(OR(G140=Sprache!$C$24,G140=Sprache!$D$24),H140,0)","v":0},0,{"$f":"'Formulaire B '!$G$11*I140+'Formulaire B '!$G$11*J140+'Formulaire B '!$G$12*K140+'Formulaire B '!$G$13*L140+'Formulaire B '!$G$14*M140+'Formulaire B '!$G$15*N140","v":0},"",null,null,null,0,null,null,"","",{"$f":"IF(B140<>\"\",HYPERLINK($AC$9&AB140,Sprache!$E$25 &\" \"&B140),\"\")","v":""},null,131,{"$f":"Eingabemeldung(Sprache!$E$18,Sprache!$E$17,'Formulaire C'!E140)","v":""},{"$f":"Eingabemeldung(Sprache!$E$18,Sprache!$E$17,'Formulaire C'!G140)","v":""},false,0,{"$f":"IF(X140<Parameter!$C$4,1,0)","v":0}]
[null,null,null,null,null,null,null,null,{"$f":"IF(OR(E141=Sprache!$C$19,E141=Sprache!$D$19),F141,0)+IF(OR(G141=Sprache!$C$19,G141=Sprache!$D$19),H141,0)","v":0},{"$f":"IF(OR(E141=Sprache!$C$20,E141=Sprache!$D$20),F141,0)+IF(OR(G141=Sprache!$C$20,G141=Sprache!$D$20),H141,0)","v":0},{"$f":"IF(OR(E141=Sprache!$C$21,E141=Sprache!$D$21),F141,0)+IF(OR(G141=Sprache!$C$21,G141=Sprache!$D$21),H141,0)","v":0},{"$f":"IF(OR(E141=Sprache!$C$22,E141=Sprache!$D$22),F141,0)+IF(OR(G141=Sprache!$C$22,G141=Sprache!$D$22),H141,0)","v":0},{"$f":"IF(OR(E141=Sprache!$C$23,E141=Sprache!$D$23),F141,0)+IF(OR(G141=Sprache!$C$23,G141=Sprache!$D$23),H141,0)","v":0},{"$f":"IF(OR(E141=Sprache!$C$24,E141=Sprache!$D$24),F141,0)+IF(OR(G141=Sprache!$C$24,G141=Sprache!$D$24),H141,0)","v":0},0,{"$f":"'Formulaire B '!$G$11*I141+'Formulaire B '!$G$11*J141+'Formulaire B '!$G$12*K141+'Formulaire B '!$G$13*L141+'Formulaire B '!$G$14*M141+'Formulaire B '!$G$15*N141","v":0},"",null,null,null,0,null,null,"","",{"$f":"IF(B141<>\"\",HYPERLINK($AC$9&AB141,Sprache!$E$25 &\" \"&B141),\"\")","v":""},null,132,{"$f":"Eingabemeldung(Sprache!$E$18,Sprache!$E$17,'Formulaire C'!E141)","v":""},{"$f":"Eingabemeldung(Sprache!$E$18,Sprache!$E$17,'Formulaire C'!G141)","v":""},false,0,{"$f":"IF(X141<Parameter!$C$4,1,0)","v":0}]
[null,null,null,null,null,null,null,null,{"$f":"IF(OR(E142=Sprache!$C$19,E142=Sprache!$D$19),F142,0)+IF(OR(G142=Sprache!$C$19,G142=Sprache!$D$19),H142,0)","v":0},{"$f":"IF(OR(E142=Sprache!$C$20,E142=Sprache!$D$20),F142,0)+IF(OR(G142=Sprache!$C$20,G142=Sprache!$D$20),H142,0)","v":0},{"$f":"IF(OR(E142=Sprache!$C$21,E142=Sprache!$D$21),F142,0)+IF(OR(G142=Sprache!$C$21,G142=Sprache!$D$21),H142,0)","v":0},{"$f":"IF(OR(E142=Sprache!$C$22,E142=Sprache!$D$22),F142,0)+IF(OR(G142=Sprache!$C$22,G142=Sprache!$D$22),H142,0)","v":0},{"$f":"IF(OR(E142=Sprache!$C$23,E142=Sprache!$D$23),F142,0)+IF(OR(G142=Sprache!$C$23,G142=Sprache!$D$23),H142,0)","v":0},{"$f":"IF(OR(E142=Sprache!$C$24,E142=Sprache!$D$24),F142,0)+IF(OR(G142=Sprache!$C$24,G142=Sprache!$D$24),H142,0)","v":0},0,{"$f":"'Formulaire B '!$G$11*I142+'Formulaire B '!$G$11*J142+'Formulaire B '!$G$12*K142+'Formulaire B '!$G$13*L142+'Formulaire B '!$G$14*M142+'Formulaire B '!$G$15*N142","v":0},"",null,null,null,0,null,null,"","",{"$f":"IF(B142<>\"\",HYPERLINK($AC$9&AB142,Sprache!$E$25 &\" \"&B142),\"\")","v":""},null,133,{"$f":"Eingabemeldung(Sprache!$E$18,Sprache!$E$17,'Formulaire C'!E142)","v":""},{"$f":"Eingabemeldung(Sprache!$E$18,Sprache!$E$17,'Formulaire C'!G142)","v":""},false,0,{"$f":"IF(X142<Parameter!$C$4,1,0)","v":0}]
[null,null,null,null,null,null,null,null,{"$f":"IF(OR(E143=Sprache!$C$19,E143=Sprache!$D$19),F143,0)+IF(OR(G143=Sprache!$C$19,G143=Sprache!$D$19),H143,0)","v":0},{"$f":"IF(OR(E143=Sprache!$C$20,E143=Sprache!$D$20),F143,0)+IF(OR(G143=Sprache!$C$20,G143=Sprache!$D$20),H143,0)","v":0},{"$f":"IF(OR(E143=Sprache!$C$21,E143=Sprache!$D$21),F143,0)+IF(OR(G143=Sprache!$C$21,G143=Sprache!$D$21),H143,0)","v":0},{"$f":"IF(OR(E143=Sprache!$C$22,E143=Sprache!$D$22),F143,0)+IF(OR(G143=Sprache!$C$22,G143=Sprache!$D$22),H143,0)","v":0},{"$f":"IF(OR(E143=Sprache!$C$23,E143=Sprache!$D$23),F143,0)+IF(OR(G143=Sprache!$C$23,G143=Sprache!$D$23),H143,0)","v":0},{"$f":"IF(OR(E143=Sprache!$C$24,E143=Sprache!$D$24),F143,0)+IF(OR(G143=Sprache!$C$24,G143=Sprache!$D$24),H143,0)","v":0},0,{"$f":"'Formulaire B '!$G$11*I143+'Formulaire B '!$G$11*J143+'Formulaire B '!$G$12*K143+'Formulaire B '!$G$13*L143+'Formulaire B '!$G$14*M143+'Formulaire B '!$G$15*N143","v":0},"",null,null,null,0,null,null,"","",{"$f":"IF(B143<>\"\",HYPERLINK($AC$9&AB143,Sprache!$E$25 &\" \"&B143),\"\")","v":""},null,134,{"$f":"Eingabemeldung(Sprache!$E$18,Sprache!$E$17,'Formulaire C'!E143)","v":""},{"$f":"Eingabemeldung(Sprache!$E$18,Sprache!$E$17,'Formulaire C'!G143)","v":""},false,0,{"$f":"IF(X143<Parameter!$C$4,1,0)","v":0}]
[null,null,null,null,null,null,null,null,{"$f":"IF(OR(E144=Sprache!$C$19,E144=Sprache!$D$19),F144,0)+IF(OR(G144=Sprache!$C$19,G144=Sprache!$D$19),H144,0)","v":0},{"$f":"IF(OR(E144=Sprache!$C$20,E144=Sprache!$D$20),F144,0)+IF(OR(G144=Sprache!$C$20,G144=Sprache!$D$20),H144,0)","v":0},{"$f":"IF(OR(E144=Sprache!$C$21,E144=Sprache!$D$21),F144,0)+IF(OR(G144=Sprache!$C$21,G144=Sprache!$D$21),H144,0)","v":0},{"$f":"IF(OR(E144=Sprache!$C$22,E144=Sprache!$D$22),F144,0)+IF(OR(G144=Sprache!$C$22,G144=Sprache!$D$22),H144,0)","v":0},{"$f":"IF(OR(E144=Sprache!$C$23,E144=Sprache!$D$23),F144,0)+IF(OR(G144=Sprache!$C$23,G144=Sprache!$D$23),H144,0)","v":0},{"$f":"IF(OR(E144=Sprache!$C$24,E144=Sprache!$D$24),F144,0)+IF(OR(G144=Sprache!$C$24,G144=Sprache!$D$24),H144,0)","v":0},0,{"$f":"'Formulaire B '!$G$11*I144+'Formulaire B '!$G$11*J144+'Formulaire B '!$G$12*K144+'Formulaire B '!$G$13*L144+'Formulaire B '!$G$14*M144+'Formulaire B '!$G$15*N144","v":0},"",null,null,null,0,null,null,"","",{"$f":"IF(B144<>\"\",HYPERLINK($AC$9&AB144,Sprache!$E$25 &\" \"&B144),\"\")","v":""},null,135,{"$f":"Eingabemeldung(Sprache!$E$18,Sprache!$E$17,'Formulaire C'!E144)","v":""},{"$f":"Eingabemeldung(Sprache!$E$18,Sprache!$E$17,'Formulaire C'!G144)","v":""},false,0,{"$f":"IF(X144<Parameter!$C$4,1,0)","v":0}]
[null,null,null,null,null,null,null,null,{"$f":"IF(OR(E145=Sprache!$C$19,E145=Sprache!$D$19),F145,0)+IF(OR(G145=Sprache!$C$19,G145=Sprache!$D$19),H145,0)","v":0},{"$f":"IF(OR(E145=Sprache!$C$20,E145=Sprache!$D$20),F145,0)+IF(OR(G145=Sprache!$C$20,G145=Sprache!$D$20),H145,0)","v":0},{"$f":"IF(OR(E145=Sprache!$C$21,E145=Sprache!$D$21),F145,0)+IF(OR(G145=Sprache!$C$21,G145=Sprache!$D$21),H145,0)","v":0},{"$f":"IF(OR(E145=Sprache!$C$22,E145=Sprache!$D$22),F145,0)+IF(OR(G145=Sprache!$C$22,G145=Sprache!$D$22),H145,0)","v":0},{"$f":"IF(OR(E145=Sprache!$C$23,E145=Sprache!$D$23),F145,0)+IF(OR(G145=Sprache!$C$23,G145=Sprache!$D$23),H145,0)","v":0},{"$f":"IF(OR(E145=Sprache!$C$24,E145=Sprache!$D$24),F145,0)+IF(OR(G145=Sprache!$C$24,G145=Sprache!$D$24),H145,0)","v":0},0,{"$f":"'Formulaire B '!$G$11*I145+'Formulaire B '!$G$11*J145+'Formulaire B '!$G$12*K145+'Formulaire B '!$G$13*L145+'Formulaire B '!$G$14*M145+'Formulaire B '!$G$15*N145","v":0},"",null,null,null,0,null,null,"","",{"$f":"IF(B145<>\"\",HYPERLINK($AC$9&AB145,Sprache!$E$25 &\" \"&B145),\"\")","v":""},null,136,{"$f":"Eingabemeldung(Sprache!$E$18,Sprache!$E$17,'Formulaire C'!E145)","v":""},{"$f":"Eingabemeldung(Sprache!$E$18,Sprache!$E$17,'Formulaire C'!G145)","v":""},false,0,{"$f":"IF(X145<Parameter!$C$4,1,0)","v":0}]
[null,null,null,null,null,null,null,null,{"$f":"IF(OR(E146=Sprache!$C$19,E146=Sprache!$D$19),F146,0)+IF(OR(G146=Sprache!$C$19,G146=Sprache!$D$19),H146,0)","v":0},{"$f":"IF(OR(E146=Sprache!$C$20,E146=Sprache!$D$20),F146,0)+IF(OR(G146=Sprache!$C$20,G146=Sprache!$D$20),H146,0)","v":0},{"$f":"IF(OR(E146=Sprache!$C$21,E146=Sprache!$D$21),F146,0)+IF(OR(G146=Sprache!$C$21,G146=Sprache!$D$21),H146,0)","v":0},{"$f":"IF(OR(E146=Sprache!$C$22,E146=Sprache!$D$22),F146,0)+IF(OR(G146=Sprache!$C$22,G146=Sprache!$D$22),H146,0)","v":0},{"$f":"IF(OR(E146=Sprache!$C$23,E146=Sprache!$D$23),F146,0)+IF(OR(G146=Sprache!$C$23,G146=Sprache!$D$23),H146,0)","v":0},{"$f":"IF(OR(E146=Sprache!$C$24,E146=Sprache!$D$24),F146,0)+IF(OR(G146=Sprache!$C$24,G146=Sprache!$D$24),H146,0)","v":0},0,{"$f":"'Formulaire B '!$G$11*I146+'Formulaire B '!$G$11*J146+'Formulaire B '!$G$12*K146+'Formulaire B '!$G$13*L146+'Formulaire B '!$G$14*M146+'Formulaire B '!$G$15*N146","v":0},"",null,null,null,0,null,null,"","",{"$f":"IF(B146<>\"\",HYPERLINK($AC$9&AB146,Sprache!$E$25 &\" \"&B146),\"\")","v":""},null,137,{"$f":"Eingabemeldung(Sprache!$E$18,Sprache!$E$17,'Formulaire C'!E146)","v":""},{"$f":"Eingabemeldung(Sprache!$E$18,Sprache!$E$17,'Formulaire C'!G146)","v":""},false,0,{"$f":"IF(X146<Parameter!$C$4,1,0)","v":0}]
[null,null,null,null,null,null,null,null,{"$f":"IF(OR(E147=Sprache!$C$19,E147=Sprache!$D$19),F147,0)+IF(OR(G147=Sprache!$C$19,G147=Sprache!$D$19),H147,0)","v":0},{"$f":"IF(OR(E147=Sprache!$C$20,E147=Sprache!$D$20),F147,0)+IF(OR(G147=Sprache!$C$20,G147=Sprache!$D$20),H147,0)","v":0},{"$f":"IF(OR(E147=Sprache!$C$21,E147=Sprache!$D$21),F147,0)+IF(OR(G147=Sprache!$C$21,G147=Sprache!$D$21),H147,0)","v":0},{"$f":"IF(OR(E147=Sprache!$C$22,E147=Sprache!$D$22),F147,0)+IF(OR(G147=Sprache!$C$22,G147=Sprache!$D$22),H147,0)","v":0},{"$f":"IF(OR(E147=Sprache!$C$23,E147=Sprache!$D$23),F147,0)+IF(OR(G147=Sprache!$C$23,G147=Sprache!$D$23),H147,0)","v":0},{"$f":"IF(OR(E147=Sprache!$C$24,E147=Sprache!$D$24),F147,0)+IF(OR(G147=Sprache!$C$24,G147=Sprache!$D$24),H147,0)","v":0},0,{"$f":"'Formulaire B '!$G$11*I147+'Formulaire B '!$G$11*J147+'Formulaire B '!$G$12*K147+'Formulaire B '!$G$13*L147+'Formulaire B '!$G$14*M147+'Formulaire B '!$G$15*N147","v":0},"",null,null,null,0,null,null,"","",{"$f":"IF(B147<>\"\",HYPERLINK($AC$9&AB147,Sprache!$E$25 &\" \"&B147),\"\")","v":""},null,138,{"$f":"Eingabemeldung(Sprache!$E$18,Sprache!$E$17,'Formulaire C'!E147)","v":""},{"$f":"Eingabemeldung(Sprache!$E$18,Sprache!$E$17,'Formulaire C'!G147)","v":""},false,0,{"$f":"IF(X147<Parameter!$C$4,1,0)","v":0}]
[null,null,null,null,null,null,null,null,{"$f":"IF(OR(E148=Sprache!$C$19,E148=Sprache!$D$19),F148,0)+IF(OR(G148=Sprache!$C$19,G148=Sprache!$D$19),H148,0)","v":0},{"$f":"IF(OR(E148=Sprache!$C$20,E148=Sprache!$D$20),F148,0)+IF(OR(G148=Sprache!$C$20,G148=Sprache!$D$20),H148,0)","v":0},{"$f":"IF(OR(E148=Sprache!$C$21,E148=Sprache!$D$21),F148,0)+IF(OR(G148=Sprache!$C$21,G148=Sprache!$D$21),H148,0)","v":0},{"$f":"IF(OR(E148=Sprache!$C$22,E148=Sprache!$D$22),F148,0)+IF(OR(G148=Sprache!$C$22,G148=Sprache!$D$22),H148,0)","v":0},{"$f":"IF(OR(E148=Sprache!$C$23,E148=Sprache!$D$23),F148,0)+IF(OR(G148=Sprache!$C$23,G148=Sprache!$D$23),H148,0)","v":0},{"$f":"IF(OR(E148=Sprache!$C$24,E148=Sprache!$D$24),F148,0)+IF(OR(G148=Sprache!$C$24,G148=Sprache!$D$24),H148,0)","v":0},0,{"$f":"'Formulaire B '!$G$11*I148+'Formulaire B '!$G$11*J148+'Formulaire B '!$G$12*K148+'Formulaire B '!$G$13*L148+'Formulaire B '!$G$14*M148+'Formulaire B '!$G$15*N148","v":0},"",null,null,null,0,null,null,"","",{"$f":"IF(B148<>\"\",HYPERLINK($AC$9&AB148,Sprache!$E$25 &\" \"&B148),\"\")","v":""},null,139,{"$f":"Eingabemeldung(Sprache!$E$18,Sprache!$E$17,'Formulaire C'!E148)","v":""},{"$f":"Eingabemeldung(Sprache!$E$18,Sprache!$E$17,'Formulaire C'!G148)","v":""},false,0,{"$f":"IF(X148<Parameter!$C$4,1,0)","v":0}]
[null,null,null,null,null,null,null,null,{"$f":"IF(OR(E149=Sprache!$C$19,E149=Sprache!$D$19),F149,0)+IF(OR(G149=Sprache!$C$19,G149=Sprache!$D$19),H149,0)","v":0},{"$f":"IF(OR(E149=Sprache!$C$20,E149=Sprache!$D$20),F149,0)+IF(OR(G149=Sprache!$C$20,G149=Sprache!$D$20),H149,0)","v":0},{"$f":"IF(OR(E149=Sprache!$C$21,E149=Sprache!$D$21),F149,0)+IF(OR(G149=Sprache!$C$21,G149=Sprache!$D$21),H149,0)","v":0},{"$f":"IF(OR(E149=Sprache!$C$22,E149=Sprache!$D$22),F149,0)+IF(OR(G149=Sprache!$C$22,G149=Sprache!$D$22),H149,0)","v":0},{"$f":"IF(OR(E149=Sprache!$C$23,E149=Sprache!$D$23),F149,0)+IF(OR(G149=Sprache!$C$23,G149=Sprache!$D$23),H149,0)","v":0},{"$f":"IF(OR(E149=Sprache!$C$24,E149=Sprache!$D$24),F149,0)+IF(OR(G149=Sprache!$C$24,G149=Sprache!$D$24),H149,0)","v":0},0,{"$f":"'Formulaire B '!$G$11*I149+'Formulaire B '!$G$11*J149+'Formulaire B '!$G$12*K149+'Formulaire B '!$G$13*L149+'Formulaire B '!$G$14*M149+'Formulaire B '!$G$15*N149","v":0},"",null,null,null,0,null,null,"","",{"$f":"IF(B149<>\"\",HYPERLINK($AC$9&AB149,Sprache!$E$25 &\" \"&B149),\"\")","v":""},null,140,{"$f":"Eingabemeldung(Sprache!$E$18,Sprache!$E$17,'Formulaire C'!E149)","v":""},{"$f":"Eingabemeldung(Sprache!$E$18,Sprache!$E$17,'Formulaire C'!G149)","v":""},false,0,{"$f":"IF(X149<Parameter!$C$4,1,0)","v":0}]
[null,null,null,null,null,null,null,null,{"$f":"IF(OR(E150=Sprache!$C$19,E150=Sprache!$D$19),F150,0)+IF(OR(G150=Sprache!$C$19,G150=Sprache!$D$19),H150,0)","v":0},{"$f":"IF(OR(E150=Sprache!$C$20,E150=Sprache!$D$20),F150,0)+IF(OR(G150=Sprache!$C$20,G150=Sprache!$D$20),H150,0)","v":0},{"$f":"IF(OR(E150=Sprache!$C$21,E150=Sprache!$D$21),F150,0)+IF(OR(G150=Sprache!$C$21,G150=Sprache!$D$21),H150,0)","v":0},{"$f":"IF(OR(E150=Sprache!$C$22,E150=Sprache!$D$22),F150,0)+IF(OR(G150=Sprache!$C$22,G150=Sprache!$D$22),H150,0)","v":0},{"$f":"IF(OR(E150=Sprache!$C$23,E150=Sprache!$D$23),F150,0)+IF(OR(G150=Sprache!$C$23,G150=Sprache!$D$23),H150,0)","v":0},{"$f":"IF(OR(E150=Sprache!$C$24,E150=Sprache!$D$24),F150,0)+IF(OR(G150=Sprache!$C$24,G150=Sprache!$D$24),H150,0)","v":0},0,{"$f":"'Formulaire B '!$G$11*I150+'Formulaire B '!$G$11*J150+'Formulaire B '!$G$12*K150+'Formulaire B '!$G$13*L150+'Formulaire B '!$G$14*M150+'Formulaire B '!$G$15*N150","v":0},"",null,null,null,0,null,null,"","",{"$f":"IF(B150<>\"\",HYPERLINK($AC$9&AB150,Sprache!$E$25 &\" \"&B150),\"\")","v":""},null,141,{"$f":"Eingabemeldung(Sprache!$E$18,Sprache!$E$17,'Formulaire C'!E150)","v":""},{"$f":"Eingabemeldung(Sprache!$E$18,Sprache!$E$17,'Formulaire C'!G150)","v":""},false,0,{"$f":"IF(X150<Parameter!$C$4,1,0)","v":0}]
[null,null,null,null,null,null,null,null,{"$f":"IF(OR(E151=Sprache!$C$19,E151=Sprache!$D$19),F151,0)+IF(OR(G151=Sprache!$C$19,G151=Sprache!$D$19),H151,0)","v":0},{"$f":"IF(OR(E151=Sprache!$C$20,E151=Sprache!$D$20),F151,0)+IF(OR(G151=Sprache!$C$20,G151=Sprache!$D$20),H151,0)","v":0},{"$f":"IF(OR(E151=Sprache!$C$21,E151=Sprache!$D$21),F151,0)+IF(OR(G151=Sprache!$C$21,G151=Sprache!$D$21),H151,0)","v":0},{"$f":"IF(OR(E151=Sprache!$C$22,E151=Sprache!$D$22),F151,0)+IF(OR(G151=Sprache!$C$22,G151=Sprache!$D$22),H151,0)","v":0},{"$f":"IF(OR(E151=Sprache!$C$23,E151=Sprache!$D$23),F151,0)+IF(OR(G151=Sprache!$C$23,G151=Sprache!$D$23),H151,0)","v":0},{"$f":"IF(OR(E151=Sprache!$C$24,E151=Sprache!$D$24),F151,0)+IF(OR(G151=Sprache!$C$24,G151=Sprache!$D$24),H151,0)","v":0},0,{"$f":"'Formulaire B '!$G$11*I151+'Formulaire B '!$G$11*J151+'Formulaire B '!$G$12*K151+'Formulaire B '!$G$13*L151+'Formulaire B '!$G$14*M151+'Formulaire B '!$G$15*N151","v":0},"",null,null,null,0,null,null,"","",{"$f":"IF(B151<>\"\",HYPERLINK($AC$9&AB151,Sprache!$E$25 &\" \"&B151),\"\")","v":""},null,142,{"$f":"Eingabemeldung(Sprache!$E$18,Sprache!$E$17,'Formulaire C'!E151)","v":""},{"$f":"Eingabemeldung(Sprache!$E$18,Sprache!$E$17,'Formulaire C'!G151)","v":""},false,0,{"$f":"IF(X151<Parameter!$C$4,1,0)","v":0}]
[null,null,null,null,null,null,null,null,{"$f":"IF(OR(E152=Sprache!$C$19,E152=Sprache!$D$19),F152,0)+IF(OR(G152=Sprache!$C$19,G152=Sprache!$D$19),H152,0)","v":0},{"$f":"IF(OR(E152=Sprache!$C$20,E152=Sprache!$D$20),F152,0)+IF(OR(G152=Sprache!$C$20,G152=Sprache!$D$20),H152,0)","v":0},{"$f":"IF(OR(E152=Sprache!$C$21,E152=Sprache!$D$21),F152,0)+IF(OR(G152=Sprache!$C$21,G152=Sprache!$D$21),H152,0)","v":0},{"$f":"IF(OR(E152=Sprache!$C$22,E152=Sprache!$D$22),F152,0)+IF(OR(G152=Sprache!$C$22,G152=Sprache!$D$22),H152,0)","v":0},{"$f":"IF(OR(E152=Sprache!$C$23,E152=Sprache!$D$23),F152,0)+IF(OR(G152=Sprache!$C$23,G152=Sprache!$D$23),H152,0)","v":0},{"$f":"IF(OR(E152=Sprache!$C$24,E152=Sprache!$D$24),F152,0)+IF(OR(G152=Sprache!$C$24,G152=Sprache!$D$24),H152,0)","v":0},0,{"$f":"'Formulaire B '!$G$11*I152+'Formulaire B '!$G$11*J152+'Formulaire B '!$G$12*K152+'Formulaire B '!$G$13*L152+'Formulaire B '!$G$14*M152+'Formulaire B '!$G$15*N152","v":0},{"$f":"IFERROR(P152/($H$7-$P$228),\"\")","v":""},null,null,null,0,null,null,{"$f":"IF(U152=0, \"\",V152*W152/U152)","v":""},{"$f":"IF(AG152,\"X\",\"\")","v":""},{"$f":"IF(B152<>\"\",HYPERLINK($AC$9&AB152,Sprache!$E$25 &\" \"&B152),\"\")","v":""},null,143,{"$f":"Eingabemeldung(Sprache!$E$18,Sprache!$E$17,'Formulaire C'!E152)","v":""},{"$f":"Eingabemeldung(Sprache!$E$18,Sprache!$E$17,'Formulaire C'!G152)","v":""},{"$f":"ISNUMBER(R152)","v":false},{"$f":"IF(Y152=\"X\",1,0)","v":0},{"$f":"IF(X152<Parameter!$C$4,1,0)","v":0}]
[null,null,null,null,null,null,null,null,{"$f":"IF(OR(E153=Sprache!$C$19,E153=Sprache!$D$19),F153,0)+IF(OR(G153=Sprache!$C$19,G153=Sprache!$D$19),H153,0)","v":0},{"$f":"IF(OR(E153=Sprache!$C$20,E153=Sprache!$D$20),F153,0)+IF(OR(G153=Sprache!$C$20,G153=Sprache!$D$20),H153,0)","v":0},{"$f":"IF(OR(E153=Sprache!$C$21,E153=Sprache!$D$21),F153,0)+IF(OR(G153=Sprache!$C$21,G153=Sprache!$D$21),H153,0)","v":0},{"$f":"IF(OR(E153=Sprache!$C$22,E153=Sprache!$D$22),F153,0)+IF(OR(G153=Sprache!$C$22,G153=Sprache!$D$22),H153,0)","v":0},{"$f":"IF(OR(E153=Sprache!$C$23,E153=Sprache!$D$23),F153,0)+IF(OR(G153=Sprache!$C$23,G153=Sprache!$D$23),H153,0)","v":0},{"$f":"IF(OR(E153=Sprache!$C$24,E153=Sprache!$D$24),F153,0)+IF(OR(G153=Sprache!$C$24,G153=Sprache!$D$24),H153,0)","v":0},0,{"$f":"'Formulaire B '!$G$11*I153+'Formulaire B '!$G$11*J153+'Formulaire B '!$G$12*K153+'Formulaire B '!$G$13*L153+'Formulaire B '!$G$14*M153+'Formulaire B '!$G$15*N153","v":0},"",null,null,null,0,null,null,"","",{"$f":"IF(B153<>\"\",HYPERLINK($AC$9&AB153,Sprache!$E$25 &\" \"&B153),\"\")","v":""},null,{"$f":"AB152+1","v":144},{"$f":"Eingabemeldung(Sprache!$E$18,Sprache!$E$17,'Formulaire C'!E153)","v":""},{"$f":"Eingabemeldung(Sprache!$E$18,Sprache!$E$17,'Formulaire C'!G153)","v":""},false,0,{"$f":"IF(X153<Parameter!$C$4,1,0)","v":0}]
[null,null,null,null,null,null,null,null,{"$f":"IF(OR(E154=Sprache!$C$19,E154=Sprache!$D$19),F154,0)+IF(OR(G154=Sprache!$C$19,G154=Sprache!$D$19),H154,0)","v":0},{"$f":"IF(OR(E154=Sprache!$C$20,E154=Sprache!$D$20),F154,0)+IF(OR(G154=Sprache!$C$20,G154=Sprache!$D$20),H154,0)","v":0},{"$f":"IF(OR(E154=Sprache!$C$21,E154=Sprache!$D$21),F154,0)+IF(OR(G154=Sprache!$C$21,G154=Sprache!$D$21),H154,0)","v":0},{"$f":"IF(OR(E154=Sprache!$C$22,E154=Sprache!$D$22),F154,0)+IF(OR(G154=Sprache!$C$22,G154=Sprache!$D$22),H154,0)","v":0},{"$f":"IF(OR(E154=Sprache!$C$23,E154=Sprache!$D$23),F154,0)+IF(OR(G154=Sprache!$C$23,G154=Sprache!$D$23),H154,0)","v":0},{"$f":"IF(OR(E154=Sprache!$C$24,E154=Sprache!$D$24),F154,0)+IF(OR(G154=Sprache!$C$24,G154=Sprache!$D$24),H154,0)","v":0},0,{"$f":"'Formulaire B '!$G$11*I154+'Formulaire B '!$G$11*J154+'Formulaire B '!$G$12*K154+'Formulaire B '!$G$13*L154+'Formulaire B '!$G$14*M154+'Formulaire B '!$G$15*N154","v":0},"",null,null,null,0,null,null,"","",{"$f":"IF(B154<>\"\",HYPERLINK($AC$9&AB154,Sprache!$E$25 &\" \"&B154),\"\")","v":""},null,145,{"$f":"Eingabemeldung(Sprache!$E$18,Sprache!$E$17,'Formulaire C'!E154)","v":""},{"$f":"Eingabemeldung(Sprache!$E$18,Sprache!$E$17,'Formulaire C'!G154)","v":""},false,0,{"$f":"IF(X154<Parameter!$C$4,1,0)","v":0}]
[null,null,null,null,null,null,null,null,{"$f":"IF(OR(E155=Sprache!$C$19,E155=Sprache!$D$19),F155,0)+IF(OR(G155=Sprache!$C$19,G155=Sprache!$D$19),H155,0)","v":0},{"$f":"IF(OR(E155=Sprache!$C$20,E155=Sprache!$D$20),F155,0)+IF(OR(G155=Sprache!$C$20,G155=Sprache!$D$20),H155,0)","v":0},{"$f":"IF(OR(E155=Sprache!$C$21,E155=Sprache!$D$21),F155,0)+IF(OR(G155=Sprache!$C$21,G155=Sprache!$D$21),H155,0)","v":0},{"$f":"IF(OR(E155=Sprache!$C$22,E155=Sprache!$D$22),F155,0)+IF(OR(G155=Sprache!$C$22,G155=Sprache!$D$22),H155,0)","v":0},{"$f":"IF(OR(E155=Sprache!$C$23,E155=Sprache!$D$23),F155,0)+IF(OR(G155=Sprache!$C$23,G155=Sprache!$D$23),H155,0)","v":0},{"$f":"IF(OR(E155=Sprache!$C$24,E155=Sprache!$D$24),F155,0)+IF(OR(G155=Sprache!$C$24,G155=Sprache!$D$24),H155,0)","v":0},0,{"$f":"'Formulaire B '!$G$11*I155+'Formulaire B '!$G$11*J155+'Formulaire B '!$G$12*K155+'Formulaire B '!$G$13*L155+'Formulaire B '!$G$14*M155+'Formulaire B '!$G$15*N155","v":0},"",null,null,null,0,null,null,"","",{"$f":"IF(B155<>\"\",HYPERLINK($AC$9&AB155,Sprache!$E$25 &\" \"&B155),\"\")","v":""},null,146,{"$f":"Eingabemeldung(Sprache!$E$18,Sprache!$E$17,'Formulaire C'!E155)","v":""},{"$f":"Eingabemeldung(Sprache!$E$18,Sprache!$E$17,'Formulaire C'!G155)","v":""},false,0,{"$f":"IF(X155<Parameter!$C$4,1,0)","v":0}]
[null,null,null,null,null,null,null,null,{"$f":"IF(OR(E156=Sprache!$C$19,E156=Sprache!$D$19),F156,0)+IF(OR(G156=Sprache!$C$19,G156=Sprache!$D$19),H156,0)","v":0},{"$f":"IF(OR(E156=Sprache!$C$20,E156=Sprache!$D$20),F156,0)+IF(OR(G156=Sprache!$C$20,G156=Sprache!$D$20),H156,0)","v":0},{"$f":"IF(OR(E156=Sprache!$C$21,E156=Sprache!$D$21),F156,0)+IF(OR(G156=Sprache!$C$21,G156=Sprache!$D$21),H156,0)","v":0},{"$f":"IF(OR(E156=Sprache!$C$22,E156=Sprache!$D$22),F156,0)+IF(OR(G156=Sprache!$C$22,G156=Sprache!$D$22),H156,0)","v":0},{"$f":"IF(OR(E156=Sprache!$C$23,E156=Sprache!$D$23),F156,0)+IF(OR(G156=Sprache!$C$23,G156=Sprache!$D$23),H156,0)","v":0},{"$f":"IF(OR(E156=Sprache!$C$24,E156=Sprache!$D$24),F156,0)+IF(OR(G156=Sprache!$C$24,G156=Sprache!$D$24),H156,0)","v":0},0,{"$f":"'Formulaire B '!$G$11*I156+'Formulaire B '!$G$11*J156+'Formulaire B '!$G$12*K156+'Formulaire B '!$G$13*L156+'Formulaire B '!$G$14*M156+'Formulaire B '!$G$15*N156","v":0},"",null,null,null,0,null,null,"","",{"$f":"IF(B156<>\"\",HYPERLINK($AC$9&AB156,Sprache!$E$25 &\" \"&B156),\"\")","v":""},null,147,{"$f":"Eingabemeldung(Sprache!$E$18,Sprache!$E$17,'Formulaire C'!E156)","v":""},{"$f":"Eingabemeldung(Sprache!$E$18,Sprache!$E$17,'Formulaire C'!G156)","v":""},false,0,{"$f":"IF(X156<Parameter!$C$4,1,0)","v":0}]
[null,null,null,null,null,null,null,null,{"$f":"IF(OR(E157=Sprache!$C$19,E157=Sprache!$D$19),F157,0)+IF(OR(G157=Sprache!$C$19,G157=Sprache!$D$19),H157,0)","v":0},{"$f":"IF(OR(E157=Sprache!$C$20,E157=Sprache!$D$20),F157,0)+IF(OR(G157=Sprache!$C$20,G157=Sprache!$D$20),H157,0)","v":0},{"$f":"IF(OR(E157=Sprache!$C$21,E157=Sprache!$D$21),F157,0)+IF(OR(G157=Sprache!$C$21,G157=Sprache!$D$21),H157,0)","v":0},{"$f":"IF(OR(E157=Sprache!$C$22,E157=Sprache!$D$22),F157,0)+IF(OR(G157=Sprache!$C$22,G157=Sprache!$D$22),H157,0)","v":0},{"$f":"IF(OR(E157=Sprache!$C$23,E157=Sprache!$D$23),F157,0)+IF(OR(G157=Sprache!$C$23,G157=Sprache!$D$23),H157,0)","v":0},{"$f":"IF(OR(E157=Sprache!$C$24,E157=Sprache!$D$24),F157,0)+IF(OR(G157=Sprache!$C$24,G157=Sprache!$D$24),H157,0)","v":0},{"$f":"F157+H157","v":0},{"$f":"'Formulaire B '!$G$11*I157+'Formulaire B '!$G$11*J157+'Formulaire B '!$G$12*K157+'Formulaire B '!$G$13*L157+'Formulaire B '!$G$14*M157+'Formulaire B '!$G$15*N157","v":0},"",null,null,null,{"$f":"(F157*S157)+(H157*T157)","v":0},null,null,"","",{"$f":"IF(B157<>\"\",HYPERLINK($AC$9&AB157,Sprache!$E$25 &\" \"&B157),\"\")","v":""},null,148,{"$f":"Eingabemeldung(Sprache!$E$18,Sprache!$E$17,'Formulaire C'!E157)","v":""},{"$f":"Eingabemeldung(Sprache!$E$18,Sprache!$E$17,'Formulaire C'!G157)","v":""},false,0,{"$f":"IF(X157<Parameter!$C$4,1,0)","v":0}]
[null,null,null,null,null,null,null,null,{"$f":"IF(OR(E158=Sprache!$C$19,E158=Sprache!$D$19),F158,0)+IF(OR(G158=Sprache!$C$19,G158=Sprache!$D$19),H158,0)","v":0},{"$f":"IF(OR(E158=Sprache!$C$20,E158=Sprache!$D$20),F158,0)+IF(OR(G158=Sprache!$C$20,G158=Sprache!$D$20),H158,0)","v":0},{"$f":"IF(OR(E158=Sprache!$C$21,E158=Sprache!$D$21),F158,0)+IF(OR(G158=Sprache!$C$21,G158=Sprache!$D$21),H158,0)","v":0},{"$f":"IF(OR(E158=Sprache!$C$22,E158=Sprache!$D$22),F158,0)+IF(OR(G158=Sprache!$C$22,G158=Sprache!$D$22),H158,0)","v":0},{"$f":"IF(OR(E158=Sprache!$C$23,E158=Sprache!$D$23),F158,0)+IF(OR(G158=Sprache!$C$23,G158=Sprache!$D$23),H158,0)","v":0},{"$f":"IF(OR(E158=Sprache!$C$24,E158=Sprache!$D$24),F158,0)+IF(OR(G158=Sprache!$C$24,G158=Sprache!$D$24),H158,0)","v":0},0,{"$f":"'Formulaire B '!$G$11*I158+'Formulaire B '!$G$11*J158+'Formulaire B '!$G$12*K158+'Formulaire B '!$G$13*L158+'Formulaire B '!$G$14*M158+'Formulaire B '!$G$15*N158","v":0},"",null,null,null,0,null,null,"","",{"$f":"IF(B158<>\"\",HYPERLINK($AC$9&AB158,Sprache!$E$25 &\" \"&B158),\"\")","v":""},null,149,{"$f":"Eingabemeldung(Sprache!$E$18,Sprache!$E$17,'Formulaire C'!E158)","v":""},{"$f":"Eingabemeldung(Sprache!$E$18,Sprache!$E$17,'Formulaire C'!G158)","v":""},false,0,{"$f":"IF(X158<Parameter!$C$4,1,0)","v":0}]
[null,null,null,null,null,null,null,null,{"$f":"IF(OR(E159=Sprache!$C$19,E159=Sprache!$D$19),F159,0)+IF(OR(G159=Sprache!$C$19,G159=Sprache!$D$19),H159,0)","v":0},{"$f":"IF(OR(E159=Sprache!$C$20,E159=Sprache!$D$20),F159,0)+IF(OR(G159=Sprache!$C$20,G159=Sprache!$D$20),H159,0)","v":0},{"$f":"IF(OR(E159=Sprache!$C$21,E159=Sprache!$D$21),F159,0)+IF(OR(G159=Sprache!$C$21,G159=Sprache!$D$21),H159,0)","v":0},{"$f":"IF(OR(E159=Sprache!$C$22,E159=Sprache!$D$22),F159,0)+IF(OR(G159=Sprache!$C$22,G159=Sprache!$D$22),H159,0)","v":0},{"$f":"IF(OR(E159=Sprache!$C$23,E159=Sprache!$D$23),F159,0)+IF(OR(G159=Sprache!$C$23,G159=Sprache!$D$23),H159,0)","v":0},{"$f":"IF(OR(E159=Sprache!$C$24,E159=Sprache!$D$24),F159,0)+IF(OR(G159=Sprache!$C$24,G159=Sprache!$D$24),H159,0)","v":0},0,{"$f":"'Formulaire B '!$G$11*I159+'Formulaire B '!$G$11*J159+'Formulaire B '!$G$12*K159+'Formulaire B '!$G$13*L159+'Formulaire B '!$G$14*M159+'Formulaire B '!$G$15*N159","v":0},"",null,null,null,0,null,null,"","",{"$f":"IF(B159<>\"\",HYPERLINK($AC$9&AB159,Sprache!$E$25 &\" \"&B159),\"\")","v":""},null,150,{"$f":"Eingabemeldung(Sprache!$E$18,Sprache!$E$17,'Formulaire C'!E159)","v":""},{"$f":"Eingabemeldung(Sprache!$E$18,Sprache!$E$17,'Formulaire C'!G159)","v":""},false,0,{"$f":"IF(X159<Parameter!$C$4,1,0)","v":0}]
[null,null,null,null,null,null,null,null,{"$f":"IF(OR(E160=Sprache!$C$19,E160=Sprache!$D$19),F160,0)+IF(OR(G160=Sprache!$C$19,G160=Sprache!$D$19),H160,0)","v":0},{"$f":"IF(OR(E160=Sprache!$C$20,E160=Sprache!$D$20),F160,0)+IF(OR(G160=Sprache!$C$20,G160=Sprache!$D$20),H160,0)","v":0},{"$f":"IF(OR(E160=Sprache!$C$21,E160=Sprache!$D$21),F160,0)+IF(OR(G160=Sprache!$C$21,G160=Sprache!$D$21),H160,0)","v":0},{"$f":"IF(OR(E160=Sprache!$C$22,E160=Sprache!$D$22),F160,0)+IF(OR(G160=Sprache!$C$22,G160=Sprache!$D$22),H160,0)","v":0},{"$f":"IF(OR(E160=Sprache!$C$23,E160=Sprache!$D$23),F160,0)+IF(OR(G160=Sprache!$C$23,G160=Sprache!$D$23),H160,0)","v":0},{"$f":"IF(OR(E160=Sprache!$C$24,E160=Sprache!$D$24),F160,0)+IF(OR(G160=Sprache!$C$24,G160=Sprache!$D$24),H160,0)","v":0},0,{"$f":"'Formulaire B '!$G$11*I160+'Formulaire B '!$G$11*J160+'Formulaire B '!$G$12*K160+'Formulaire B '!$G$13*L160+'Formulaire B '!$G$14*M160+'Formulaire B '!$G$15*N160","v":0},"",null,null,null,0,null,null,"","",{"$f":"IF(B160<>\"\",HYPERLINK($AC$9&AB160,Sprache!$E$25 &\" \"&B160),\"\")","v":""},null,151,{"$f":"Eingabemeldung(Sprache!$E$18,Sprache!$E$17,'Formulaire C'!E160)","v":""},{"$f":"Eingabemeldung(Sprache!$E$18,Sprache!$E$17,'Formulaire C'!G160)","v":""},false,0,{"$f":"IF(X160<Parameter!$C$4,1,0)","v":0}]
[null,null,null,null,null,null,null,null,{"$f":"IF(OR(E161=Sprache!$C$19,E161=Sprache!$D$19),F161,0)+IF(OR(G161=Sprache!$C$19,G161=Sprache!$D$19),H161,0)","v":0},{"$f":"IF(OR(E161=Sprache!$C$20,E161=Sprache!$D$20),F161,0)+IF(OR(G161=Sprache!$C$20,G161=Sprache!$D$20),H161,0)","v":0},{"$f":"IF(OR(E161=Sprache!$C$21,E161=Sprache!$D$21),F161,0)+IF(OR(G161=Sprache!$C$21,G161=Sprache!$D$21),H161,0)","v":0},{"$f":"IF(OR(E161=Sprache!$C$22,E161=Sprache!$D$22),F161,0)+IF(OR(G161=Sprache!$C$22,G161=Sprache!$D$22),H161,0)","v":0},{"$f":"IF(OR(E161=Sprache!$C$23,E161=Sprache!$D$23),F161,0)+IF(OR(G161=Sprache!$C$23,G161=Sprache!$D$23),H161,0)","v":0},{"$f":"IF(OR(E161=Sprache!$C$24,E161=Sprache!$D$24),F161,0)+IF(OR(G161=Sprache!$C$24,G161=Sprache!$D$24),H161,0)","v":0},0,{"$f":"'Formulaire B '!$G$11*I161+'Formulaire B '!$G$11*J161+'Formulaire B '!$G$12*K161+'Formulaire B '!$G$13*L161+'Formulaire B '!$G$14*M161+'Formulaire B '!$G$15*N161","v":0},"",null,null,null,0,null,null,"","",{"$f":"IF(B161<>\"\",HYPERLINK($AC$9&AB161,Sprache!$E$25 &\" \"&B161),\"\")","v":""},null,152,{"$f":"Eingabemeldung(Sprache!$E$18,Sprache!$E$17,'Formulaire C'!E161)","v":""},{"$f":"Eingabemeldung(Sprache!$E$18,Sprache!$E$17,'Formulaire C'!G161)","v":""},false,0,{"$f":"IF(X161<Parameter!$C$4,1,0)","v":0}]
[null,null,null,null,null,null,null,null,{"$f":"IF(OR(E162=Sprache!$C$19,E162=Sprache!$D$19),F162,0)+IF(OR(G162=Sprache!$C$19,G162=Sprache!$D$19),H162,0)","v":0},{"$f":"IF(OR(E162=Sprache!$C$20,E162=Sprache!$D$20),F162,0)+IF(OR(G162=Sprache!$C$20,G162=Sprache!$D$20),H162,0)","v":0},{"$f":"IF(OR(E162=Sprache!$C$21,E162=Sprache!$D$21),F162,0)+IF(OR(G162=Sprache!$C$21,G162=Sprache!$D$21),H162,0)","v":0},{"$f":"IF(OR(E162=Sprache!$C$22,E162=Sprache!$D$22),F162,0)+IF(OR(G162=Sprache!$C$22,G162=Sprache!$D$22),H162,0)","v":0},{"$f":"IF(OR(E162=Sprache!$C$23,E162=Sprache!$D$23),F162,0)+IF(OR(G162=Sprache!$C$23,G162=Sprache!$D$23),H162,0)","v":0},{"$f":"IF(OR(E162=Sprache!$C$24,E162=Sprache!$D$24),F162,0)+IF(OR(G162=Sprache!$C$24,G162=Sprache!$D$24),H162,0)","v":0},0,{"$f":"'Formulaire B '!$G$11*I162+'Formulaire B '!$G$11*J162+'Formulaire B '!$G$12*K162+'Formulaire B '!$G$13*L162+'Formulaire B '!$G$14*M162+'Formulaire B '!$G$15*N162","v":0},"",null,null,null,0,null,null,"","",{"$f":"IF(B162<>\"\",HYPERLINK($AC$9&AB162,Sprache!$E$25 &\" \"&B162),\"\")","v":""},null,153,{"$f":"Eingabemeldung(Sprache!$E$18,Sprache!$E$17,'Formulaire C'!E162)","v":""},{"$f":"Eingabemeldung(Sprache!$E$18,Sprache!$E$17,'Formulaire C'!G162)","v":""},false,0,{"$f":"IF(X162<Parameter!$C$4,1,0)","v":0}]
[null,null,null,null,null,null,null,null,{"$f":"IF(OR(E163=Sprache!$C$19,E163=Sprache!$D$19),F163,0)+IF(OR(G163=Sprache!$C$19,G163=Sprache!$D$19),H163,0)","v":0},{"$f":"IF(OR(E163=Sprache!$C$20,E163=Sprache!$D$20),F163,0)+IF(OR(G163=Sprache!$C$20,G163=Sprache!$D$20),H163,0)","v":0},{"$f":"IF(OR(E163=Sprache!$C$21,E163=Sprache!$D$21),F163,0)+IF(OR(G163=Sprache!$C$21,G163=Sprache!$D$21),H163,0)","v":0},{"$f":"IF(OR(E163=Sprache!$C$22,E163=Sprache!$D$22),F163,0)+IF(OR(G163=Sprache!$C$22,G163=Sprache!$D$22),H163,0)","v":0},{"$f":"IF(OR(E163=Sprache!$C$23,E163=Sprache!$D$23),F163,0)+IF(OR(G163=Sprache!$C$23,G163=Sprache!$D$23),H163,0)","v":0},{"$f":"IF(OR(E163=Sprache!$C$24,E163=Sprache!$D$24),F163,0)+IF(OR(G163=Sprache!$C$24,G163=Sprache!$D$24),H163,0)","v":0},0,{"$f":"'Formulaire B '!$G$11*I163+'Formulaire B '!$G$11*J163+'Formulaire B '!$G$12*K163+'Formulaire B '!$G$13*L163+'Formulaire B '!$G$14*M163+'Formulaire B '!$G$15*N163","v":0},"",null,null,null,0,null,null,"","",{"$f":"IF(B163<>\"\",HYPERLINK($AC$9&AB163,Sprache!$E$25 &\" \"&B163),\"\")","v":""},null,154,{"$f":"Eingabemeldung(Sprache!$E$18,Sprache!$E$17,'Formulaire C'!E163)","v":""},{"$f":"Eingabemeldung(Sprache!$E$18,Sprache!$E$17,'Formulaire C'!G163)","v":""},false,0,{"$f":"IF(X163<Parameter!$C$4,1,0)","v":0}]
[null,null,null,null,null,null,null,null,{"$f":"IF(OR(E164=Sprache!$C$19,E164=Sprache!$D$19),F164,0)+IF(OR(G164=Sprache!$C$19,G164=Sprache!$D$19),H164,0)","v":0},{"$f":"IF(OR(E164=Sprache!$C$20,E164=Sprache!$D$20),F164,0)+IF(OR(G164=Sprache!$C$20,G164=Sprache!$D$20),H164,0)","v":0},{"$f":"IF(OR(E164=Sprache!$C$21,E164=Sprache!$D$21),F164,0)+IF(OR(G164=Sprache!$C$21,G164=Sprache!$D$21),H164,0)","v":0},{"$f":"IF(OR(E164=Sprache!$C$22,E164=Sprache!$D$22),F164,0)+IF(OR(G164=Sprache!$C$22,G164=Sprache!$D$22),H164,0)","v":0},{"$f":"IF(OR(E164=Sprache!$C$23,E164=Sprache!$D$23),F164,0)+IF(OR(G164=Sprache!$C$23,G164=Sprache!$D$23),H164,0)","v":0},{"$f":"IF(OR(E164=Sprache!$C$24,E164=Sprache!$D$24),F164,0)+IF(OR(G164=Sprache!$C$24,G164=Sprache!$D$24),H164,0)","v":0},0,{"$f":"'Formulaire B '!$G$11*I164+'Formulaire B '!$G$11*J164+'Formulaire B '!$G$12*K164+'Formulaire B '!$G$13*L164+'Formulaire B '!$G$14*M164+'Formulaire B '!$G$15*N164","v":0},"",null,null,null,0,null,null,"","",{"$f":"IF(B164<>\"\",HYPERLINK($AC$9&AB164,Sprache!$E$25 &\" \"&B164),\"\")","v":""},null,155,{"$f":"Eingabemeldung(Sprache!$E$18,Sprache!$E$17,'Formulaire C'!E164)","v":""},{"$f":"Eingabemeldung(Sprache!$E$18,Sprache!$E$17,'Formulaire C'!G164)","v":""},false,0,{"$f":"IF(X164<Parameter!$C$4,1,0)","v":0}]
[null,null,null,null,null,null,null,null,{"$f":"IF(OR(E165=Sprache!$C$19,E165=Sprache!$D$19),F165,0)+IF(OR(G165=Sprache!$C$19,G165=Sprache!$D$19),H165,0)","v":0},{"$f":"IF(OR(E165=Sprache!$C$20,E165=Sprache!$D$20),F165,0)+IF(OR(G165=Sprache!$C$20,G165=Sprache!$D$20),H165,0)","v":0},{"$f":"IF(OR(E165=Sprache!$C$21,E165=Sprache!$D$21),F165,0)+IF(OR(G165=Sprache!$C$21,G165=Sprache!$D$21),H165,0)","v":0},{"$f":"IF(OR(E165=Sprache!$C$22,E165=Sprache!$D$22),F165,0)+IF(OR(G165=Sprache!$C$22,G165=Sprache!$D$22),H165,0)","v":0},{"$f":"IF(OR(E165=Sprache!$C$23,E165=Sprache!$D$23),F165,0)+IF(OR(G165=Sprache!$C$23,G165=Sprache!$D$23),H165,0)","v":0},{"$f":"IF(OR(E165=Sprache!$C$24,E165=Sprache!$D$24),F165,0)+IF(OR(G165=Sprache!$C$24,G165=Sprache!$D$24),H165,0)","v":0},0,{"$f":"'Formulaire B '!$G$11*I165+'Formulaire B '!$G$11*J165+'Formulaire B '!$G$12*K165+'Formulaire B '!$G$13*L165+'Formulaire B '!$G$14*M165+'Formulaire B '!$G$15*N165","v":0},"",null,null,null,0,null,null,"","",{"$f":"IF(B165<>\"\",HYPERLINK($AC$9&AB165,Sprache!$E$25 &\" \"&B165),\"\")","v":""},null,156,{"$f":"Eingabemeldung(Sprache!$E$18,Sprache!$E$17,'Formulaire C'!E165)","v":""},{"$f":"Eingabemeldung(Sprache!$E$18,Sprache!$E$17,'Formulaire C'!G165)","v":""},false,0,{"$f":"IF(X165<Parameter!$C$4,1,0)","v":0}]
[null,null,null,null,null,null,null,null,{"$f":"IF(OR(E166=Sprache!$C$19,E166=Sprache!$D$19),F166,0)+IF(OR(G166=Sprache!$C$19,G166=Sprache!$D$19),H166,0)","v":0},{"$f":"IF(OR(E166=Sprache!$C$20,E166=Sprache!$D$20),F166,0)+IF(OR(G166=Sprache!$C$20,G166=Sprache!$D$20),H166,0)","v":0},{"$f":"IF(OR(E166=Sprache!$C$21,E166=Sprache!$D$21),F166,0)+IF(OR(G166=Sprache!$C$21,G166=Sprache!$D$21),H166,0)","v":0},{"$f":"IF(OR(E166=Sprache!$C$22,E166=Sprache!$D$22),F166,0)+IF(OR(G166=Sprache!$C$22,G166=Sprache!$D$22),H166,0)","v":0},{"$f":"IF(OR(E166=Sprache!$C$23,E166=Sprache!$D$23),F166,0)+IF(OR(G166=Sprache!$C$23,G166=Sprache!$D$23),H166,0)","v":0},{"$f":"IF(OR(E166=Sprache!$C$24,E166=Sprache!$D$24),F166,0)+IF(OR(G166=Sprache!$C$24,G166=Sprache!$D$24),H166,0)","v":0},0,{"$f":"'Formulaire B '!$G$11*I166+'Formulaire B '!$G$11*J166+'Formulaire B '!$G$12*K166+'Formulaire B '!$G$13*L166+'Formulaire B '!$G$14*M166+'Formulaire B '!$G$15*N166","v":0},"",null,null,null,0,null,null,"","",{"$f":"IF(B166<>\"\",HYPERLINK($AC$9&AB166,Sprache!$E$25 &\" \"&B166),\"\")","v":""},null,157,{"$f":"Eingabemeldung(Sprache!$E$18,Sprache!$E$17,'Formulaire C'!E166)","v":""},{"$f":"Eingabemeldung(Sprache!$E$18,Sprache!$E$17,'Formulaire C'!G166)","v":""},false,0,{"$f":"IF(X166<Parameter!$C$4,1,0)","v":0}]
[null,null,null,null,null,null,null,null,{"$f":"IF(OR(E167=Sprache!$C$19,E167=Sprache!$D$19),F167,0)+IF(OR(G167=Sprache!$C$19,G167=Sprache!$D$19),H167,0)","v":0},{"$f":"IF(OR(E167=Sprache!$C$20,E167=Sprache!$D$20),F167,0)+IF(OR(G167=Sprache!$C$20,G167=Sprache!$D$20),H167,0)","v":0},{"$f":"IF(OR(E167=Sprache!$C$21,E167=Sprache!$D$21),F167,0)+IF(OR(G167=Sprache!$C$21,G167=Sprache!$D$21),H167,0)","v":0},{"$f":"IF(OR(E167=Sprache!$C$22,E167=Sprache!$D$22),F167,0)+IF(OR(G167=Sprache!$C$22,G167=Sprache!$D$22),H167,0)","v":0},{"$f":"IF(OR(E167=Sprache!$C$23,E167=Sprache!$D$23),F167,0)+IF(OR(G167=Sprache!$C$23,G167=Sprache!$D$23),H167,0)","v":0},{"$f":"IF(OR(E167=Sprache!$C$24,E167=Sprache!$D$24),F167,0)+IF(OR(G167=Sprache!$C$24,G167=Sprache!$D$24),H167,0)","v":0},0,{"$f":"'Formulaire B '!$G$11*I167+'Formulaire B '!$G$11*J167+'Formulaire B '!$G$12*K167+'Formulaire B '!$G$13*L167+'Formulaire B '!$G$14*M167+'Formulaire B '!$G$15*N167","v":0},"",null,null,null,0,null,null,"","",{"$f":"IF(B167<>\"\",HYPERLINK($AC$9&AB167,Sprache!$E$25 &\" \"&B167),\"\")","v":""},null,158,{"$f":"Eingabemeldung(Sprache!$E$18,Sprache!$E$17,'Formulaire C'!E167)","v":""},{"$f":"Eingabemeldung(Sprache!$E$18,Sprache!$E$17,'Formulaire C'!G167)","v":""},false,0,{"$f":"IF(X167<Parameter!$C$4,1,0)","v":0}]
[null,null,null,null,null,null,null,null,{"$f":"IF(OR(E168=Sprache!$C$19,E168=Sprache!$D$19),F168,0)+IF(OR(G168=Sprache!$C$19,G168=Sprache!$D$19),H168,0)","v":0},{"$f":"IF(OR(E168=Sprache!$C$20,E168=Sprache!$D$20),F168,0)+IF(OR(G168=Sprache!$C$20,G168=Sprache!$D$20),H168,0)","v":0},{"$f":"IF(OR(E168=Sprache!$C$21,E168=Sprache!$D$21),F168,0)+IF(OR(G168=Sprache!$C$21,G168=Sprache!$D$21),H168,0)","v":0},{"$f":"IF(OR(E168=Sprache!$C$22,E168=Sprache!$D$22),F168,0)+IF(OR(G168=Sprache!$C$22,G168=Sprache!$D$22),H168,0)","v":0},{"$f":"IF(OR(E168=Sprache!$C$23,E168=Sprache!$D$23),F168,0)+IF(OR(G168=Sprache!$C$23,G168=Sprache!$D$23),H168,0)","v":0},{"$f":"IF(OR(E168=Sprache!$C$24,E168=Sprache!$D$24),F168,0)+IF(OR(G168=Sprache!$C$24,G168=Sprache!$D$24),H168,0)","v":0},0,{"$f":"'Formulaire B '!$G$11*I168+'Formulaire B '!$G$11*J168+'Formulaire B '!$G$12*K168+'Formulaire B '!$G$13*L168+'Formulaire B '!$G$14*M168+'Formulaire B '!$G$15*N168","v":0},"",null,null,null,0,null,null,"","",{"$f":"IF(B168<>\"\",HYPERLINK($AC$9&AB168,Sprache!$E$25 &\" \"&B168),\"\")","v":""},null,159,{"$f":"Eingabemeldung(Sprache!$E$18,Sprache!$E$17,'Formulaire C'!E168)","v":""},{"$f":"Eingabemeldung(Sprache!$E$18,Sprache!$E$17,'Formulaire C'!G168)","v":""},false,0,{"$f":"IF(X168<Parameter!$C$4,1,0)","v":0}]
[null,null,null,null,null,null,null,null,{"$f":"IF(OR(E169=Sprache!$C$19,E169=Sprache!$D$19),F169,0)+IF(OR(G169=Sprache!$C$19,G169=Sprache!$D$19),H169,0)","v":0},{"$f":"IF(OR(E169=Sprache!$C$20,E169=Sprache!$D$20),F169,0)+IF(OR(G169=Sprache!$C$20,G169=Sprache!$D$20),H169,0)","v":0},{"$f":"IF(OR(E169=Sprache!$C$21,E169=Sprache!$D$21),F169,0)+IF(OR(G169=Sprache!$C$21,G169=Sprache!$D$21),H169,0)","v":0},{"$f":"IF(OR(E169=Sprache!$C$22,E169=Sprache!$D$22),F169,0)+IF(OR(G169=Sprache!$C$22,G169=Sprache!$D$22),H169,0)","v":0},{"$f":"IF(OR(E169=Sprache!$C$23,E169=Sprache!$D$23),F169,0)+IF(OR(G169=Sprache!$C$23,G169=Sprache!$D$23),H169,0)","v":0},{"$f":"IF(OR(E169=Sprache!$C$24,E169=Sprache!$D$24),F169,0)+IF(OR(G169=Sprache!$C$24,G169=Sprache!$D$24),H169,0)","v":0},0,{"$f":"'Formulaire B '!$G$11*I169+'Formulaire B '!$G$11*J169+'Formulaire B '!$G$12*K169+'Formulaire B '!$G$13*L169+'Formulaire B '!$G$14*M169+'Formulaire B '!$G$15*N169","v":0},"",null,null,null,0,null,null,"","",{"$f":"IF(B169<>\"\",HYPERLINK($AC$9&AB169,Sprache!$E$25 &\" \"&B169),\"\")","v":""},null,160,{"$f":"Eingabemeldung(Sprache!$E$18,Sprache!$E$17,'Formulaire C'!E169)","v":""},{"$f":"Eingabemeldung(Sprache!$E$18,Sprache!$E$17,'Formulaire C'!G169)","v":""},false,0,{"$f":"IF(X169<Parameter!$C$4,1,0)","v":0}]
[null,null,null,null,null,null,null,null,{"$f":"IF(OR(E170=Sprache!$C$19,E170=Sprache!$D$19),F170,0)+IF(OR(G170=Sprache!$C$19,G170=Sprache!$D$19),H170,0)","v":0},{"$f":"IF(OR(E170=Sprache!$C$20,E170=Sprache!$D$20),F170,0)+IF(OR(G170=Sprache!$C$20,G170=Sprache!$D$20),H170,0)","v":0},{"$f":"IF(OR(E170=Sprache!$C$21,E170=Sprache!$D$21),F170,0)+IF(OR(G170=Sprache!$C$21,G170=Sprache!$D$21),H170,0)","v":0},{"$f":"IF(OR(E170=Sprache!$C$22,E170=Sprache!$D$22),F170,0)+IF(OR(G170=Sprache!$C$22,G170=Sprache!$D$22),H170,0)","v":0},{"$f":"IF(OR(E170=Sprache!$C$23,E170=Sprache!$D$23),F170,0)+IF(OR(G170=Sprache!$C$23,G170=Sprache!$D$23),H170,0)","v":0},{"$f":"IF(OR(E170=Sprache!$C$24,E170=Sprache!$D$24),F170,0)+IF(OR(G170=Sprache!$C$24,G170=Sprache!$D$24),H170,0)","v":0},0,{"$f":"'Formulaire B '!$G$11*I170+'Formulaire B '!$G$11*J170+'Formulaire B '!$G$12*K170+'Formulaire B '!$G$13*L170+'Formulaire B '!$G$14*M170+'Formulaire B '!$G$15*N170","v":0},"",null,null,null,0,null,null,"","",{"$f":"IF(B170<>\"\",HYPERLINK($AC$9&AB170,Sprache!$E$25 &\" \"&B170),\"\")","v":""},null,161,{"$f":"Eingabemeldung(Sprache!$E$18,Sprache!$E$17,'Formulaire C'!E170)","v":""},{"$f":"Eingabemeldung(Sprache!$E$18,Sprache!$E$17,'Formulaire C'!G170)","v":""},false,0,{"$f":"IF(X170<Parameter!$C$4,1,0)","v":0}]
[null,null,null,null,null,null,null,null,{"$f":"IF(OR(E171=Sprache!$C$19,E171=Sprache!$D$19),F171,0)+IF(OR(G171=Sprache!$C$19,G171=Sprache!$D$19),H171,0)","v":0},{"$f":"IF(OR(E171=Sprache!$C$20,E171=Sprache!$D$20),F171,0)+IF(OR(G171=Sprache!$C$20,G171=Sprache!$D$20),H171,0)","v":0},{"$f":"IF(OR(E171=Sprache!$C$21,E171=Sprache!$D$21),F171,0)+IF(OR(G171=Sprache!$C$21,G171=Sprache!$D$21),H171,0)","v":0},{"$f":"IF(OR(E171=Sprache!$C$22,E171=Sprache!$D$22),F171,0)+IF(OR(G171=Sprache!$C$22,G171=Sprache!$D$22),H171,0)","v":0},{"$f":"IF(OR(E171=Sprache!$C$23,E171=Sprache!$D$23),F171,0)+IF(OR(G171=Sprache!$C$23,G171=Sprache!$D$23),H171,0)","v":0},{"$f":"IF(OR(E171=Sprache!$C$24,E171=Sprache!$D$24),F171,0)+IF(OR(G171=Sprache!$C$24,G171=Sprache!$D$24),H171,0)","v":0},0,{"$f":"'Formulaire B '!$G$11*I171+'Formulaire B '!$G$11*J171+'Formulaire B '!$G$12*K171+'Formulaire B '!$G$13*L171+'Formulaire B '!$G$14*M171+'Formulaire B '!$G$15*N171","v":0},"",null,null,null,0,null,null,"","",{"$f":"IF(B171<>\"\",HYPERLINK($AC$9&AB171,Sprache!$E$25 &\" \"&B171),\"\")","v":""},null,162,{"$f":"Eingabemeldung(Sprache!$E$18,Sprache!$E$17,'Formulaire C'!E171)","v":""},{"$f":"Eingabemeldung(Sprache!$E$18,Sprache!$E$17,'Formulaire C'!G171)","v":""},false,0,{"$f":"IF(X171<Parameter!$C$4,1,0)","v":0}]
[null,null,null,null,null,null,null,null,{"$f":"IF(OR(E172=Sprache!$C$19,E172=Sprache!$D$19),F172,0)+IF(OR(G172=Sprache!$C$19,G172=Sprache!$D$19),H172,0)","v":0},{"$f":"IF(OR(E172=Sprache!$C$20,E172=Sprache!$D$20),F172,0)+IF(OR(G172=Sprache!$C$20,G172=Sprache!$D$20),H172,0)","v":0},{"$f":"IF(OR(E172=Sprache!$C$21,E172=Sprache!$D$21),F172,0)+IF(OR(G172=Sprache!$C$21,G172=Sprache!$D$21),H172,0)","v":0},{"$f":"IF(OR(E172=Sprache!$C$22,E172=Sprache!$D$22),F172,0)+IF(OR(G172=Sprache!$C$22,G172=Sprache!$D$22),H172,0)","v":0},{"$f":"IF(OR(E172=Sprache!$C$23,E172=Sprache!$D$23),F172,0)+IF(OR(G172=Sprache!$C$23,G172=Sprache!$D$23),H172,0)","v":0},{"$f":"IF(OR(E172=Sprache!$C$24,E172=Sprache!$D$24),F172,0)+IF(OR(G172=Sprache!$C$24,G172=Sprache!$D$24),H172,0)","v":0},0,{"$f":"'Formulaire B '!$G$11*I172+'Formulaire B '!$G$11*J172+'Formulaire B '!$G$12*K172+'Formulaire B '!$G$13*L172+'Formulaire B '!$G$14*M172+'Formulaire B '!$G$15*N172","v":0},"",null,null,null,0,null,null,"","",{"$f":"IF(B172<>\"\",HYPERLINK($AC$9&AB172,Sprache!$E$25 &\" \"&B172),\"\")","v":""},null,163,{"$f":"Eingabemeldung(Sprache!$E$18,Sprache!$E$17,'Formulaire C'!E172)","v":""},{"$f":"Eingabemeldung(Sprache!$E$18,Sprache!$E$17,'Formulaire C'!G172)","v":""},false,0,{"$f":"IF(X172<Parameter!$C$4,1,0)","v":0}]
[null,null,null,null,null,null,null,null,{"$f":"IF(OR(E173=Sprache!$C$19,E173=Sprache!$D$19),F173,0)+IF(OR(G173=Sprache!$C$19,G173=Sprache!$D$19),H173,0)","v":0},{"$f":"IF(OR(E173=Sprache!$C$20,E173=Sprache!$D$20),F173,0)+IF(OR(G173=Sprache!$C$20,G173=Sprache!$D$20),H173,0)","v":0},{"$f":"IF(OR(E173=Sprache!$C$21,E173=Sprache!$D$21),F173,0)+IF(OR(G173=Sprache!$C$21,G173=Sprache!$D$21),H173,0)","v":0},{"$f":"IF(OR(E173=Sprache!$C$22,E173=Sprache!$D$22),F173,0)+IF(OR(G173=Sprache!$C$22,G173=Sprache!$D$22),H173,0)","v":0},{"$f":"IF(OR(E173=Sprache!$C$23,E173=Sprache!$D$23),F173,0)+IF(OR(G173=Sprache!$C$23,G173=Sprache!$D$23),H173,0)","v":0},{"$f":"IF(OR(E173=Sprache!$C$24,E173=Sprache!$D$24),F173,0)+IF(OR(G173=Sprache!$C$24,G173=Sprache!$D$24),H173,0)","v":0},0,{"$f":"'Formulaire B '!$G$11*I173+'Formulaire B '!$G$11*J173+'Formulaire B '!$G$12*K173+'Formulaire B '!$G$13*L173+'Formulaire B '!$G$14*M173+'Formulaire B '!$G$15*N173","v":0},"",null,null,null,0,null,null,"","",{"$f":"IF(B173<>\"\",HYPERLINK($AC$9&AB173,Sprache!$E$25 &\" \"&B173),\"\")","v":""},null,164,{"$f":"Eingabemeldung(Sprache!$E$18,Sprache!$E$17,'Formulaire C'!E173)","v":""},{"$f":"Eingabemeldung(Sprache!$E$18,Sprache!$E$17,'Formulaire C'!G173)","v":""},false,0,{"$f":"IF(X173<Parameter!$C$4,1,0)","v":0}]
[null,null,null,null,null,null,null,null,{"$f":"IF(OR(E174=Sprache!$C$19,E174=Sprache!$D$19),F174,0)+IF(OR(G174=Sprache!$C$19,G174=Sprache!$D$19),H174,0)","v":0},{"$f":"IF(OR(E174=Sprache!$C$20,E174=Sprache!$D$20),F174,0)+IF(OR(G174=Sprache!$C$20,G174=Sprache!$D$20),H174,0)","v":0},{"$f":"IF(OR(E174=Sprache!$C$21,E174=Sprache!$D$21),F174,0)+IF(OR(G174=Sprache!$C$21,G174=Sprache!$D$21),H174,0)","v":0},{"$f":"IF(OR(E174=Sprache!$C$22,E174=Sprache!$D$22),F174,0)+IF(OR(G174=Sprache!$C$22,G174=Sprache!$D$22),H174,0)","v":0},{"$f":"IF(OR(E174=Sprache!$C$23,E174=Sprache!$D$23),F174,0)+IF(OR(G174=Sprache!$C$23,G174=Sprache!$D$23),H174,0)","v":0},{"$f":"IF(OR(E174=Sprache!$C$24,E174=Sprache!$D$24),F174,0)+IF(OR(G174=Sprache!$C$24,G174=Sprache!$D$24),H174,0)","v":0},0,{"$f":"'Formulaire B '!$G$11*I174+'Formulaire B '!$G$11*J174+'Formulaire B '!$G$12*K174+'Formulaire B '!$G$13*L174+'Formulaire B '!$G$14*M174+'Formulaire B '!$G$15*N174","v":0},"",null,null,null,0,null,null,"","",{"$f":"IF(B174<>\"\",HYPERLINK($AC$9&AB174,Sprache!$E$25 &\" \"&B174),\"\")","v":""},null,165,{"$f":"Eingabemeldung(Sprache!$E$18,Sprache!$E$17,'Formulaire C'!E174)","v":""},{"$f":"Eingabemeldung(Sprache!$E$18,Sprache!$E$17,'Formulaire C'!G174)","v":""},false,0,{"$f":"IF(X174<Parameter!$C$4,1,0)","v":0}]
[null,null,null,null,null,null,null,null,{"$f":"IF(OR(E175=Sprache!$C$19,E175=Sprache!$D$19),F175,0)+IF(OR(G175=Sprache!$C$19,G175=Sprache!$D$19),H175,0)","v":0},{"$f":"IF(OR(E175=Sprache!$C$20,E175=Sprache!$D$20),F175,0)+IF(OR(G175=Sprache!$C$20,G175=Sprache!$D$20),H175,0)","v":0},{"$f":"IF(OR(E175=Sprache!$C$21,E175=Sprache!$D$21),F175,0)+IF(OR(G175=Sprache!$C$21,G175=Sprache!$D$21),H175,0)","v":0},{"$f":"IF(OR(E175=Sprache!$C$22,E175=Sprache!$D$22),F175,0)+IF(OR(G175=Sprache!$C$22,G175=Sprache!$D$22),H175,0)","v":0},{"$f":"IF(OR(E175=Sprache!$C$23,E175=Sprache!$D$23),F175,0)+IF(OR(G175=Sprache!$C$23,G175=Sprache!$D$23),H175,0)","v":0},{"$f":"IF(OR(E175=Sprache!$C$24,E175=Sprache!$D$24),F175,0)+IF(OR(G175=Sprache!$C$24,G175=Sprache!$D$24),H175,0)","v":0},0,{"$f":"'Formulaire B '!$G$11*I175+'Formulaire B '!$G$11*J175+'Formulaire B '!$G$12*K175+'Formulaire B '!$G$13*L175+'Formulaire B '!$G$14*M175+'Formulaire B '!$G$15*N175","v":0},"",null,null,null,0,null,null,"","",{"$f":"IF(B175<>\"\",HYPERLINK($AC$9&AB175,Sprache!$E$25 &\" \"&B175),\"\")","v":""},null,166,{"$f":"Eingabemeldung(Sprache!$E$18,Sprache!$E$17,'Formulaire C'!E175)","v":""},{"$f":"Eingabemeldung(Sprache!$E$18,Sprache!$E$17,'Formulaire C'!G175)","v":""},false,0,{"$f":"IF(X175<Parameter!$C$4,1,0)","v":0}]
[null,null,null,null,null,null,null,null,{"$f":"IF(OR(E176=Sprache!$C$19,E176=Sprache!$D$19),F176,0)+IF(OR(G176=Sprache!$C$19,G176=Sprache!$D$19),H176,0)","v":0},{"$f":"IF(OR(E176=Sprache!$C$20,E176=Sprache!$D$20),F176,0)+IF(OR(G176=Sprache!$C$20,G176=Sprache!$D$20),H176,0)","v":0},{"$f":"IF(OR(E176=Sprache!$C$21,E176=Sprache!$D$21),F176,0)+IF(OR(G176=Sprache!$C$21,G176=Sprache!$D$21),H176,0)","v":0},{"$f":"IF(OR(E176=Sprache!$C$22,E176=Sprache!$D$22),F176,0)+IF(OR(G176=Sprache!$C$22,G176=Sprache!$D$22),H176,0)","v":0},{"$f":"IF(OR(E176=Sprache!$C$23,E176=Sprache!$D$23),F176,0)+IF(OR(G176=Sprache!$C$23,G176=Sprache!$D$23),H176,0)","v":0},{"$f":"IF(OR(E176=Sprache!$C$24,E176=Sprache!$D$24),F176,0)+IF(OR(G176=Sprache!$C$24,G176=Sprache!$D$24),H176,0)","v":0},0,{"$f":"'Formulaire B '!$G$11*I176+'Formulaire B '!$G$11*J176+'Formulaire B '!$G$12*K176+'Formulaire B '!$G$13*L176+'Formulaire B '!$G$14*M176+'Formulaire B '!$G$15*N176","v":0},"",null,null,null,0,null,null,"","",{"$f":"IF(B176<>\"\",HYPERLINK($AC$9&AB176,Sprache!$E$25 &\" \"&B176),\"\")","v":""},null,167,{"$f":"Eingabemeldung(Sprache!$E$18,Sprache!$E$17,'Formulaire C'!E176)","v":""},{"$f":"Eingabemeldung(Sprache!$E$18,Sprache!$E$17,'Formulaire C'!G176)","v":""},false,0,{"$f":"IF(X176<Parameter!$C$4,1,0)","v":0}]
[null,null,null,null,null,null,null,null,{"$f":"IF(OR(E177=Sprache!$C$19,E177=Sprache!$D$19),F177,0)+IF(OR(G177=Sprache!$C$19,G177=Sprache!$D$19),H177,0)","v":0},{"$f":"IF(OR(E177=Sprache!$C$20,E177=Sprache!$D$20),F177,0)+IF(OR(G177=Sprache!$C$20,G177=Sprache!$D$20),H177,0)","v":0},{"$f":"IF(OR(E177=Sprache!$C$21,E177=Sprache!$D$21),F177,0)+IF(OR(G177=Sprache!$C$21,G177=Sprache!$D$21),H177,0)","v":0},{"$f":"IF(OR(E177=Sprache!$C$22,E177=Sprache!$D$22),F177,0)+IF(OR(G177=Sprache!$C$22,G177=Sprache!$D$22),H177,0)","v":0},{"$f":"IF(OR(E177=Sprache!$C$23,E177=Sprache!$D$23),F177,0)+IF(OR(G177=Sprache!$C$23,G177=Sprache!$D$23),H177,0)","v":0},{"$f":"IF(OR(E177=Sprache!$C$24,E177=Sprache!$D$24),F177,0)+IF(OR(G177=Sprache!$C$24,G177=Sprache!$D$24),H177,0)","v":0},0,{"$f":"'Formulaire B '!$G$11*I177+'Formulaire B '!$G$11*J177+'Formulaire B '!$G$12*K177+'Formulaire B '!$G$13*L177+'Formulaire B '!$G$14*M177+'Formulaire B '!$G$15*N177","v":0},"",null,null,null,0,null,null,"","",{"$f":"IF(B177<>\"\",HYPERLINK($AC$9&AB177,Sprache!$E$25 &\" \"&B177),\"\")","v":""},null,168,{"$f":"Eingabemeldung(Sprache!$E$18,Sprache!$E$17,'Formulaire C'!E177)","v":""},{"$f":"Eingabemeldung(Sprache!$E$18,Sprache!$E$17,'Formulaire C'!G177)","v":""},false,0,{"$f":"IF(X177<Parameter!$C$4,1,0)","v":0}]
[null,null,null,null,null,null,null,null,{"$f":"IF(OR(E178=Sprache!$C$19,E178=Sprache!$D$19),F178,0)+IF(OR(G178=Sprache!$C$19,G178=Sprache!$D$19),H178,0)","v":0},{"$f":"IF(OR(E178=Sprache!$C$20,E178=Sprache!$D$20),F178,0)+IF(OR(G178=Sprache!$C$20,G178=Sprache!$D$20),H178,0)","v":0},{"$f":"IF(OR(E178=Sprache!$C$21,E178=Sprache!$D$21),F178,0)+IF(OR(G178=Sprache!$C$21,G178=Sprache!$D$21),H178,0)","v":0},{"$f":"IF(OR(E178=Sprache!$C$22,E178=Sprache!$D$22),F178,0)+IF(OR(G178=Sprache!$C$22,G178=Sprache!$D$22),H178,0)","v":0},{"$f":"IF(OR(E178=Sprache!$C$23,E178=Sprache!$D$23),F178,0)+IF(OR(G178=Sprache!$C$23,G178=Sprache!$D$23),H178,0)","v":0},{"$f":"IF(OR(E178=Sprache!$C$24,E178=Sprache!$D$24),F178,0)+IF(OR(G178=Sprache!$C$24,G178=Sprache!$D$24),H178,0)","v":0},0,{"$f":"'Formulaire B '!$G$11*I178+'Formulaire B '!$G$11*J178+'Formulaire B '!$G$12*K178+'Formulaire B '!$G$13*L178+'Formulaire B '!$G$14*M178+'Formulaire B '!$G$15*N178","v":0},"",null,null,null,0,null,null,"","",{"$f":"IF(B178<>\"\",HYPERLINK($AC$9&AB178,Sprache!$E$25 &\" \"&B178),\"\")","v":""},null,169,{"$f":"Eingabemeldung(Sprache!$E$18,Sprache!$E$17,'Formulaire C'!E178)","v":""},{"$f":"Eingabemeldung(Sprache!$E$18,Sprache!$E$17,'Formulaire C'!G178)","v":""},false,0,{"$f":"IF(X178<Parameter!$C$4,1,0)","v":0}]
[null,null,null,null,null,null,null,null,{"$f":"IF(OR(E179=Sprache!$C$19,E179=Sprache!$D$19),F179,0)+IF(OR(G179=Sprache!$C$19,G179=Sprache!$D$19),H179,0)","v":0},{"$f":"IF(OR(E179=Sprache!$C$20,E179=Sprache!$D$20),F179,0)+IF(OR(G179=Sprache!$C$20,G179=Sprache!$D$20),H179,0)","v":0},{"$f":"IF(OR(E179=Sprache!$C$21,E179=Sprache!$D$21),F179,0)+IF(OR(G179=Sprache!$C$21,G179=Sprache!$D$21),H179,0)","v":0},{"$f":"IF(OR(E179=Sprache!$C$22,E179=Sprache!$D$22),F179,0)+IF(OR(G179=Sprache!$C$22,G179=Sprache!$D$22),H179,0)","v":0},{"$f":"IF(OR(E179=Sprache!$C$23,E179=Sprache!$D$23),F179,0)+IF(OR(G179=Sprache!$C$23,G179=Sprache!$D$23),H179,0)","v":0},{"$f":"IF(OR(E179=Sprache!$C$24,E179=Sprache!$D$24),F179,0)+IF(OR(G179=Sprache!$C$24,G179=Sprache!$D$24),H179,0)","v":0},0,{"$f":"'Formulaire B '!$G$11*I179+'Formulaire B '!$G$11*J179+'Formulaire B '!$G$12*K179+'Formulaire B '!$G$13*L179+'Formulaire B '!$G$14*M179+'Formulaire B '!$G$15*N179","v":0},"",null,null,null,0,null,null,"","",{"$f":"IF(B179<>\"\",HYPERLINK($AC$9&AB179,Sprache!$E$25 &\" \"&B179),\"\")","v":""},null,170,{"$f":"Eingabemeldung(Sprache!$E$18,Sprache!$E$17,'Formulaire C'!E179)","v":""},{"$f":"Eingabemeldung(Sprache!$E$18,Sprache!$E$17,'Formulaire C'!G179)","v":""},false,0,{"$f":"IF(X179<Parameter!$C$4,1,0)","v":0}]
[null,null,null,null,null,null,null,null,{"$f":"IF(OR(E180=Sprache!$C$19,E180=Sprache!$D$19),F180,0)+IF(OR(G180=Sprache!$C$19,G180=Sprache!$D$19),H180,0)","v":0},{"$f":"IF(OR(E180=Sprache!$C$20,E180=Sprache!$D$20),F180,0)+IF(OR(G180=Sprache!$C$20,G180=Sprache!$D$20),H180,0)","v":0},{"$f":"IF(OR(E180=Sprache!$C$21,E180=Sprache!$D$21),F180,0)+IF(OR(G180=Sprache!$C$21,G180=Sprache!$D$21),H180,0)","v":0},{"$f":"IF(OR(E180=Sprache!$C$22,E180=Sprache!$D$22),F180,0)+IF(OR(G180=Sprache!$C$22,G180=Sprache!$D$22),H180,0)","v":0},{"$f":"IF(OR(E180=Sprache!$C$23,E180=Sprache!$D$23),F180,0)+IF(OR(G180=Sprache!$C$23,G180=Sprache!$D$23),H180,0)","v":0},{"$f":"IF(OR(E180=Sprache!$C$24,E180=Sprache!$D$24),F180,0)+IF(OR(G180=Sprache!$C$24,G180=Sprache!$D$24),H180,0)","v":0},0,{"$f":"'Formulaire B '!$G$11*I180+'Formulaire B '!$G$11*J180+'Formulaire B '!$G$12*K180+'Formulaire B '!$G$13*L180+'Formulaire B '!$G$14*M180+'Formulaire B '!$G$15*N180","v":0},"",null,null,null,0,null,null,"","",{"$f":"IF(B180<>\"\",HYPERLINK($AC$9&AB180,Sprache!$E$25 &\" \"&B180),\"\")","v":""},null,171,{"$f":"Eingabemeldung(Sprache!$E$18,Sprache!$E$17,'Formulaire C'!E180)","v":""},{"$f":"Eingabemeldung(Sprache!$E$18,Sprache!$E$17,'Formulaire C'!G180)","v":""},false,0,{"$f":"IF(X180<Parameter!$C$4,1,0)","v":0}]
[null,null,null,null,null,null,null,null,{"$f":"IF(OR(E181=Sprache!$C$19,E181=Sprache!$D$19),F181,0)+IF(OR(G181=Sprache!$C$19,G181=Sprache!$D$19),H181,0)","v":0},{"$f":"IF(OR(E181=Sprache!$C$20,E181=Sprache!$D$20),F181,0)+IF(OR(G181=Sprache!$C$20,G181=Sprache!$D$20),H181,0)","v":0},{"$f":"IF(OR(E181=Sprache!$C$21,E181=Sprache!$D$21),F181,0)+IF(OR(G181=Sprache!$C$21,G181=Sprache!$D$21),H181,0)","v":0},{"$f":"IF(OR(E181=Sprache!$C$22,E181=Sprache!$D$22),F181,0)+IF(OR(G181=Sprache!$C$22,G181=Sprache!$D$22),H181,0)","v":0},{"$f":"IF(OR(E181=Sprache!$C$23,E181=Sprache!$D$23),F181,0)+IF(OR(G181=Sprache!$C$23,G181=Sprache!$D$23),H181,0)","v":0},{"$f":"IF(OR(E181=Sprache!$C$24,E181=Sprache!$D$24),F181,0)+IF(OR(G181=Sprache!$C$24,G181=Sprache!$D$24),H181,0)","v":0},0,{"$f":"'Formulaire B '!$G$11*I181+'Formulaire B '!$G$11*J181+'Formulaire B '!$G$12*K181+'Formulaire B '!$G$13*L181+'Formulaire B '!$G$14*M181+'Formulaire B '!$G$15*N181","v":0},"",null,null,null,0,null,null,"","",{"$f":"IF(B181<>\"\",HYPERLINK($AC$9&AB181,Sprache!$E$25 &\" \"&B181),\"\")","v":""},null,172,{"$f":"Eingabemeldung(Sprache!$E$18,Sprache!$E$17,'Formulaire C'!E181)","v":""},{"$f":"Eingabemeldung(Sprache!$E$18,Sprache!$E$17,'Formulaire C'!G181)","v":""},false,0,{"$f":"IF(X181<Parameter!$C$4,1,0)","v":0}]
[null,null,null,null,null,null,null,null,{"$f":"IF(OR(E182=Sprache!$C$19,E182=Sprache!$D$19),F182,0)+IF(OR(G182=Sprache!$C$19,G182=Sprache!$D$19),H182,0)","v":0},{"$f":"IF(OR(E182=Sprache!$C$20,E182=Sprache!$D$20),F182,0)+IF(OR(G182=Sprache!$C$20,G182=Sprache!$D$20),H182,0)","v":0},{"$f":"IF(OR(E182=Sprache!$C$21,E182=Sprache!$D$21),F182,0)+IF(OR(G182=Sprache!$C$21,G182=Sprache!$D$21),H182,0)","v":0},{"$f":"IF(OR(E182=Sprache!$C$22,E182=Sprache!$D$22),F182,0)+IF(OR(G182=Sprache!$C$22,G182=Sprache!$D$22),H182,0)","v":0},{"$f":"IF(OR(E182=Sprache!$C$23,E182=Sprache!$D$23),F182,0)+IF(OR(G182=Sprache!$C$23,G182=Sprache!$D$23),H182,0)","v":0},{"$f":"IF(OR(E182=Sprache!$C$24,E182=Sprache!$D$24),F182,0)+IF(OR(G182=Sprache!$C$24,G182=Sprache!$D$24),H182,0)","v":0},0,{"$f":"'Formulaire B '!$G$11*I182+'Formulaire B '!$G$11*J182+'Formulaire B '!$G$12*K182+'Formulaire B '!$G$13*L182+'Formulaire B '!$G$14*M182+'Formulaire B '!$G$15*N182","v":0},"",null,null,null,0,null,null,"","",{"$f":"IF(B182<>\"\",HYPERLINK($AC$9&AB182,Sprache!$E$25 &\" \"&B182),\"\")","v":""},null,173,{"$f":"Eingabemeldung(Sprache!$E$18,Sprache!$E$17,'Formulaire C'!E182)","v":""},{"$f":"Eingabemeldung(Sprache!$E$18,Sprache!$E$17,'Formulaire C'!G182)","v":""},false,0,{"$f":"IF(X182<Parameter!$C$4,1,0)","v":0}]
[null,null,null,null,null,null,null,null,{"$f":"IF(OR(E183=Sprache!$C$19,E183=Sprache!$D$19),F183,0)+IF(OR(G183=Sprache!$C$19,G183=Sprache!$D$19),H183,0)","v":0},{"$f":"IF(OR(E183=Sprache!$C$20,E183=Sprache!$D$20),F183,0)+IF(OR(G183=Sprache!$C$20,G183=Sprache!$D$20),H183,0)","v":0},{"$f":"IF(OR(E183=Sprache!$C$21,E183=Sprache!$D$21),F183,0)+IF(OR(G183=Sprache!$C$21,G183=Sprache!$D$21),H183,0)","v":0},{"$f":"IF(OR(E183=Sprache!$C$22,E183=Sprache!$D$22),F183,0)+IF(OR(G183=Sprache!$C$22,G183=Sprache!$D$22),H183,0)","v":0},{"$f":"IF(OR(E183=Sprache!$C$23,E183=Sprache!$D$23),F183,0)+IF(OR(G183=Sprache!$C$23,G183=Sprache!$D$23),H183,0)","v":0},{"$f":"IF(OR(E183=Sprache!$C$24,E183=Sprache!$D$24),F183,0)+IF(OR(G183=Sprache!$C$24,G183=Sprache!$D$24),H183,0)","v":0},0,{"$f":"'Formulaire B '!$G$11*I183+'Formulaire B '!$G$11*J183+'Formulaire B '!$G$12*K183+'Formulaire B '!$G$13*L183+'Formulaire B '!$G$14*M183+'Formulaire B '!$G$15*N183","v":0},"",null,null,null,0,null,null,"","",{"$f":"IF(B183<>\"\",HYPERLINK($AC$9&AB183,Sprache!$E$25 &\" \"&B183),\"\")","v":""},null,174,{"$f":"Eingabemeldung(Sprache!$E$18,Sprache!$E$17,'Formulaire C'!E183)","v":""},{"$f":"Eingabemeldung(Sprache!$E$18,Sprache!$E$17,'Formulaire C'!G183)","v":""},false,0,{"$f":"IF(X183<Parameter!$C$4,1,0)","v":0}]
[null,null,null,null,null,null,null,null,{"$f":"IF(OR(E184=Sprache!$C$19,E184=Sprache!$D$19),F184,0)+IF(OR(G184=Sprache!$C$19,G184=Sprache!$D$19),H184,0)","v":0},{"$f":"IF(OR(E184=Sprache!$C$20,E184=Sprache!$D$20),F184,0)+IF(OR(G184=Sprache!$C$20,G184=Sprache!$D$20),H184,0)","v":0},{"$f":"IF(OR(E184=Sprache!$C$21,E184=Sprache!$D$21),F184,0)+IF(OR(G184=Sprache!$C$21,G184=Sprache!$D$21),H184,0)","v":0},{"$f":"IF(OR(E184=Sprache!$C$22,E184=Sprache!$D$22),F184,0)+IF(OR(G184=Sprache!$C$22,G184=Sprache!$D$22),H184,0)","v":0},{"$f":"IF(OR(E184=Sprache!$C$23,E184=Sprache!$D$23),F184,0)+IF(OR(G184=Sprache!$C$23,G184=Sprache!$D$23),H184,0)","v":0},{"$f":"IF(OR(E184=Sprache!$C$24,E184=Sprache!$D$24),F184,0)+IF(OR(G184=Sprache!$C$24,G184=Sprache!$D$24),H184,0)","v":0},0,{"$f":"'Formulaire B '!$G$11*I184+'Formulaire B '!$G$11*J184+'Formulaire B '!$G$12*K184+'Formulaire B '!$G$13*L184+'Formulaire B '!$G$14*M184+'Formulaire B '!$G$15*N184","v":0},"",null,null,null,0,null,null,"","",{"$f":"IF(B184<>\"\",HYPERLINK($AC$9&AB184,Sprache!$E$25 &\" \"&B184),\"\")","v":""},null,175,{"$f":"Eingabemeldung(Sprache!$E$18,Sprache!$E$17,'Formulaire C'!E184)","v":""},{"$f":"Eingabemeldung(Sprache!$E$18,Sprache!$E$17,'Formulaire C'!G184)","v":""},false,0,{"$f":"IF(X184<Parameter!$C$4,1,0)","v":0}]
[null,null,null,null,null,null,null,null,{"$f":"IF(OR(E185=Sprache!$C$19,E185=Sprache!$D$19),F185,0)+IF(OR(G185=Sprache!$C$19,G185=Sprache!$D$19),H185,0)","v":0},{"$f":"IF(OR(E185=Sprache!$C$20,E185=Sprache!$D$20),F185,0)+IF(OR(G185=Sprache!$C$20,G185=Sprache!$D$20),H185,0)","v":0},{"$f":"IF(OR(E185=Sprache!$C$21,E185=Sprache!$D$21),F185,0)+IF(OR(G185=Sprache!$C$21,G185=Sprache!$D$21),H185,0)","v":0},{"$f":"IF(OR(E185=Sprache!$C$22,E185=Sprache!$D$22),F185,0)+IF(OR(G185=Sprache!$C$22,G185=Sprache!$D$22),H185,0)","v":0},{"$f":"IF(OR(E185=Sprache!$C$23,E185=Sprache!$D$23),F185,0)+IF(OR(G185=Sprache!$C$23,G185=Sprache!$D$23),H185,0)","v":0},{"$f":"IF(OR(E185=Sprache!$C$24,E185=Sprache!$D$24),F185,0)+IF(OR(G185=Sprache!$C$24,G185=Sprache!$D$24),H185,0)","v":0},0,{"$f":"'Formulaire B '!$G$11*I185+'Formulaire B '!$G$11*J185+'Formulaire B '!$G$12*K185+'Formulaire B '!$G$13*L185+'Formulaire B '!$G$14*M185+'Formulaire B '!$G$15*N185","v":0},"",null,null,null,0,null,null,"","",{"$f":"IF(B185<>\"\",HYPERLINK($AC$9&AB185,Sprache!$E$25 &\" \"&B185),\"\")","v":""},null,176,{"$f":"Eingabemeldung(Sprache!$E$18,Sprache!$E$17,'Formulaire C'!E185)","v":""},{"$f":"Eingabemeldung(Sprache!$E$18,Sprache!$E$17,'Formulaire C'!G185)","v":""},false,0,{"$f":"IF(X185<Parameter!$C$4,1,0)","v":0}]
[null,null,null,null,null,null,null,null,{"$f":"IF(OR(E186=Sprache!$C$19,E186=Sprache!$D$19),F186,0)+IF(OR(G186=Sprache!$C$19,G186=Sprache!$D$19),H186,0)","v":0},{"$f":"IF(OR(E186=Sprache!$C$20,E186=Sprache!$D$20),F186,0)+IF(OR(G186=Sprache!$C$20,G186=Sprache!$D$20),H186,0)","v":0},{"$f":"IF(OR(E186=Sprache!$C$21,E186=Sprache!$D$21),F186,0)+IF(OR(G186=Sprache!$C$21,G186=Sprache!$D$21),H186,0)","v":0},{"$f":"IF(OR(E186=Sprache!$C$22,E186=Sprache!$D$22),F186,0)+IF(OR(G186=Sprache!$C$22,G186=Sprache!$D$22),H186,0)","v":0},{"$f":"IF(OR(E186=Sprache!$C$23,E186=Sprache!$D$23),F186,0)+IF(OR(G186=Sprache!$C$23,G186=Sprache!$D$23),H186,0)","v":0},{"$f":"IF(OR(E186=Sprache!$C$24,E186=Sprache!$D$24),F186,0)+IF(OR(G186=Sprache!$C$24,G186=Sprache!$D$24),H186,0)","v":0},0,{"$f":"'Formulaire B '!$G$11*I186+'Formulaire B '!$G$11*J186+'Formulaire B '!$G$12*K186+'Formulaire B '!$G$13*L186+'Formulaire B '!$G$14*M186+'Formulaire B '!$G$15*N186","v":0},"",null,null,null,0,null,null,"","",{"$f":"IF(B186<>\"\",HYPERLINK($AC$9&AB186,Sprache!$E$25 &\" \"&B186),\"\")","v":""},null,177,{"$f":"Eingabemeldung(Sprache!$E$18,Sprache!$E$17,'Formulaire C'!E186)","v":""},{"$f":"Eingabemeldung(Sprache!$E$18,Sprache!$E$17,'Formulaire C'!G186)","v":""},false,0,{"$f":"IF(X186<Parameter!$C$4,1,0)","v":0}]
[null,null,null,null,null,null,null,null,{"$f":"IF(OR(E187=Sprache!$C$19,E187=Sprache!$D$19),F187,0)+IF(OR(G187=Sprache!$C$19,G187=Sprache!$D$19),H187,0)","v":0},{"$f":"IF(OR(E187=Sprache!$C$20,E187=Sprache!$D$20),F187,0)+IF(OR(G187=Sprache!$C$20,G187=Sprache!$D$20),H187,0)","v":0},{"$f":"IF(OR(E187=Sprache!$C$21,E187=Sprache!$D$21),F187,0)+IF(OR(G187=Sprache!$C$21,G187=Sprache!$D$21),H187,0)","v":0},{"$f":"IF(OR(E187=Sprache!$C$22,E187=Sprache!$D$22),F187,0)+IF(OR(G187=Sprache!$C$22,G187=Sprache!$D$22),H187,0)","v":0},{"$f":"IF(OR(E187=Sprache!$C$23,E187=Sprache!$D$23),F187,0)+IF(OR(G187=Sprache!$C$23,G187=Sprache!$D$23),H187,0)","v":0},{"$f":"IF(OR(E187=Sprache!$C$24,E187=Sprache!$D$24),F187,0)+IF(OR(G187=Sprache!$C$24,G187=Sprache!$D$24),H187,0)","v":0},0,{"$f":"'Formulaire B '!$G$11*I187+'Formulaire B '!$G$11*J187+'Formulaire B '!$G$12*K187+'Formulaire B '!$G$13*L187+'Formulaire B '!$G$14*M187+'Formulaire B '!$G$15*N187","v":0},"",null,null,null,0,null,null,"","",{"$f":"IF(B187<>\"\",HYPERLINK($AC$9&AB187,Sprache!$E$25 &\" \"&B187),\"\")","v":""},null,178,{"$f":"Eingabemeldung(Sprache!$E$18,Sprache!$E$17,'Formulaire C'!E187)","v":""},{"$f":"Eingabemeldung(Sprache!$E$18,Sprache!$E$17,'Formulaire C'!G187)","v":""},false,0,{"$f":"IF(X187<Parameter!$C$4,1,0)","v":0}]
[null,null,null,null,null,null,null,null,{"$f":"IF(OR(E188=Sprache!$C$19,E188=Sprache!$D$19),F188,0)+IF(OR(G188=Sprache!$C$19,G188=Sprache!$D$19),H188,0)","v":0},{"$f":"IF(OR(E188=Sprache!$C$20,E188=Sprache!$D$20),F188,0)+IF(OR(G188=Sprache!$C$20,G188=Sprache!$D$20),H188,0)","v":0},{"$f":"IF(OR(E188=Sprache!$C$21,E188=Sprache!$D$21),F188,0)+IF(OR(G188=Sprache!$C$21,G188=Sprache!$D$21),H188,0)","v":0},{"$f":"IF(OR(E188=Sprache!$C$22,E188=Sprache!$D$22),F188,0)+IF(OR(G188=Sprache!$C$22,G188=Sprache!$D$22),H188,0)","v":0},{"$f":"IF(OR(E188=Sprache!$C$23,E188=Sprache!$D$23),F188,0)+IF(OR(G188=Sprache!$C$23,G188=Sprache!$D$23),H188,0)","v":0},{"$f":"IF(OR(E188=Sprache!$C$24,E188=Sprache!$D$24),F188,0)+IF(OR(G188=Sprache!$C$24,G188=Sprache!$D$24),H188,0)","v":0},0,{"$f":"'Formulaire B '!$G$11*I188+'Formulaire B '!$G$11*J188+'Formulaire B '!$G$12*K188+'Formulaire B '!$G$13*L188+'Formulaire B '!$G$14*M188+'Formulaire B '!$G$15*N188","v":0},"",null,null,null,0,null,null,"","",{"$f":"IF(B188<>\"\",HYPERLINK($AC$9&AB188,Sprache!$E$25 &\" \"&B188),\"\")","v":""},null,179,{"$f":"Eingabemeldung(Sprache!$E$18,Sprache!$E$17,'Formulaire C'!E188)","v":""},{"$f":"Eingabemeldung(Sprache!$E$18,Sprache!$E$17,'Formulaire C'!G188)","v":""},false,0,{"$f":"IF(X188<Parameter!$C$4,1,0)","v":0}]
[null,null,null,null,null,null,null,null,{"$f":"IF(OR(E189=Sprache!$C$19,E189=Sprache!$D$19),F189,0)+IF(OR(G189=Sprache!$C$19,G189=Sprache!$D$19),H189,0)","v":0},{"$f":"IF(OR(E189=Sprache!$C$20,E189=Sprache!$D$20),F189,0)+IF(OR(G189=Sprache!$C$20,G189=Sprache!$D$20),H189,0)","v":0},{"$f":"IF(OR(E189=Sprache!$C$21,E189=Sprache!$D$21),F189,0)+IF(OR(G189=Sprache!$C$21,G189=Sprache!$D$21),H189,0)","v":0},{"$f":"IF(OR(E189=Sprache!$C$22,E189=Sprache!$D$22),F189,0)+IF(OR(G189=Sprache!$C$22,G189=Sprache!$D$22),H189,0)","v":0},{"$f":"IF(OR(E189=Sprache!$C$23,E189=Sprache!$D$23),F189,0)+IF(OR(G189=Sprache!$C$23,G189=Sprache!$D$23),H189,0)","v":0},{"$f":"IF(OR(E189=Sprache!$C$24,E189=Sprache!$D$24),F189,0)+IF(OR(G189=Sprache!$C$24,G189=Sprache!$D$24),H189,0)","v":0},{"$f":"F189+H189","v":0},{"$f":"'Formulaire B '!$G$11*I189+'Formulaire B '!$G$11*J189+'Formulaire B '!$G$12*K189+'Formulaire B '!$G$13*L189+'Formulaire B '!$G$14*M189+'Formulaire B '!$G$15*N189","v":0},"",null,null,null,{"$f":"(F189*S189)+(H189*T189)","v":0},null,null,"","",{"$f":"IF(B189<>\"\",HYPERLINK($AC$9&AB189,Sprache!$E$25 &\" \"&B189),\"\")","v":""},null,180,{"$f":"Eingabemeldung(Sprache!$E$18,Sprache!$E$17,'Formulaire C'!E189)","v":""},{"$f":"Eingabemeldung(Sprache!$E$18,Sprache!$E$17,'Formulaire C'!G189)","v":""},false,0,{"$f":"IF(X189<Parameter!$C$4,1,0)","v":0}]
[null,null,null,null,null,null,null,null,{"$f":"IF(OR(E190=Sprache!$C$19,E190=Sprache!$D$19),F190,0)+IF(OR(G190=Sprache!$C$19,G190=Sprache!$D$19),H190,0)","v":0},{"$f":"IF(OR(E190=Sprache!$C$20,E190=Sprache!$D$20),F190,0)+IF(OR(G190=Sprache!$C$20,G190=Sprache!$D$20),H190,0)","v":0},{"$f":"IF(OR(E190=Sprache!$C$21,E190=Sprache!$D$21),F190,0)+IF(OR(G190=Sprache!$C$21,G190=Sprache!$D$21),H190,0)","v":0},{"$f":"IF(OR(E190=Sprache!$C$22,E190=Sprache!$D$22),F190,0)+IF(OR(G190=Sprache!$C$22,G190=Sprache!$D$22),H190,0)","v":0},{"$f":"IF(OR(E190=Sprache!$C$23,E190=Sprache!$D$23),F190,0)+IF(OR(G190=Sprache!$C$23,G190=Sprache!$D$23),H190,0)","v":0},{"$f":"IF(OR(E190=Sprache!$C$24,E190=Sprache!$D$24),F190,0)+IF(OR(G190=Sprache!$C$24,G190=Sprache!$D$24),H190,0)","v":0},0,{"$f":"'Formulaire B '!$G$11*I190+'Formulaire B '!$G$11*J190+'Formulaire B '!$G$12*K190+'Formulaire B '!$G$13*L190+'Formulaire B '!$G$14*M190+'Formulaire B '!$G$15*N190","v":0},"",null,null,null,0,null,null,"","",{"$f":"IF(B190<>\"\",HYPERLINK($AC$9&AB190,Sprache!$E$25 &\" \"&B190),\"\")","v":""},null,181,{"$f":"Eingabemeldung(Sprache!$E$18,Sprache!$E$17,'Formulaire C'!E190)","v":""},{"$f":"Eingabemeldung(Sprache!$E$18,Sprache!$E$17,'Formulaire C'!G190)","v":""},false,0,{"$f":"IF(X190<Parameter!$C$4,1,0)","v":0}]
[null,null,null,null,null,null,null,null,{"$f":"IF(OR(E191=Sprache!$C$19,E191=Sprache!$D$19),F191,0)+IF(OR(G191=Sprache!$C$19,G191=Sprache!$D$19),H191,0)","v":0},{"$f":"IF(OR(E191=Sprache!$C$20,E191=Sprache!$D$20),F191,0)+IF(OR(G191=Sprache!$C$20,G191=Sprache!$D$20),H191,0)","v":0},{"$f":"IF(OR(E191=Sprache!$C$21,E191=Sprache!$D$21),F191,0)+IF(OR(G191=Sprache!$C$21,G191=Sprache!$D$21),H191,0)","v":0},{"$f":"IF(OR(E191=Sprache!$C$22,E191=Sprache!$D$22),F191,0)+IF(OR(G191=Sprache!$C$22,G191=Sprache!$D$22),H191,0)","v":0},{"$f":"IF(OR(E191=Sprache!$C$23,E191=Sprache!$D$23),F191,0)+IF(OR(G191=Sprache!$C$23,G191=Sprache!$D$23),H191,0)","v":0},{"$f":"IF(OR(E191=Sprache!$C$24,E191=Sprache!$D$24),F191,0)+IF(OR(G191=Sprache!$C$24,G191=Sprache!$D$24),H191,0)","v":0},0,{"$f":"'Formulaire B '!$G$11*I191+'Formulaire B '!$G$11*J191+'Formulaire B '!$G$12*K191+'Formulaire B '!$G$13*L191+'Formulaire B '!$G$14*M191+'Formulaire B '!$G$15*N191","v":0},"",null,null,null,0,null,null,"","",{"$f":"IF(B191<>\"\",HYPERLINK($AC$9&AB191,Sprache!$E$25 &\" \"&B191),\"\")","v":""},null,182,{"$f":"Eingabemeldung(Sprache!$E$18,Sprache!$E$17,'Formulaire C'!E191)","v":""},{"$f":"Eingabemeldung(Sprache!$E$18,Sprache!$E$17,'Formulaire C'!G191)","v":""},false,0,{"$f":"IF(X191<Parameter!$C$4,1,0)","v":0}]
[null,null,null,null,null,null,null,null,{"$f":"IF(OR(E192=Sprache!$C$19,E192=Sprache!$D$19),F192,0)+IF(OR(G192=Sprache!$C$19,G192=Sprache!$D$19),H192,0)","v":0},{"$f":"IF(OR(E192=Sprache!$C$20,E192=Sprache!$D$20),F192,0)+IF(OR(G192=Sprache!$C$20,G192=Sprache!$D$20),H192,0)","v":0},{"$f":"IF(OR(E192=Sprache!$C$21,E192=Sprache!$D$21),F192,0)+IF(OR(G192=Sprache!$C$21,G192=Sprache!$D$21),H192,0)","v":0},{"$f":"IF(OR(E192=Sprache!$C$22,E192=Sprache!$D$22),F192,0)+IF(OR(G192=Sprache!$C$22,G192=Sprache!$D$22),H192,0)","v":0},{"$f":"IF(OR(E192=Sprache!$C$23,E192=Sprache!$D$23),F192,0)+IF(OR(G192=Sprache!$C$23,G192=Sprache!$D$23),H192,0)","v":0},{"$f":"IF(OR(E192=Sprache!$C$24,E192=Sprache!$D$24),F192,0)+IF(OR(G192=Sprache!$C$24,G192=Sprache!$D$24),H192,0)","v":0},0,{"$f":"'Formulaire B '!$G$11*I192+'Formulaire B '!$G$11*J192+'Formulaire B '!$G$12*K192+'Formulaire B '!$G$13*L192+'Formulaire B '!$G$14*M192+'Formulaire B '!$G$15*N192","v":0},"",null,null,null,0,null,null,"","",{"$f":"IF(B192<>\"\",HYPERLINK($AC$9&AB192,Sprache!$E$25 &\" \"&B192),\"\")","v":""},null,183,{"$f":"Eingabemeldung(Sprache!$E$18,Sprache!$E$17,'Formulaire C'!E192)","v":""},{"$f":"Eingabemeldung(Sprache!$E$18,Sprache!$E$17,'Formulaire C'!G192)","v":""},false,0,{"$f":"IF(X192<Parameter!$C$4,1,0)","v":0}]
[null,null,null,null,null,null,null,null,{"$f":"IF(OR(E193=Sprache!$C$19,E193=Sprache!$D$19),F193,0)+IF(OR(G193=Sprache!$C$19,G193=Sprache!$D$19),H193,0)","v":0},{"$f":"IF(OR(E193=Sprache!$C$20,E193=Sprache!$D$20),F193,0)+IF(OR(G193=Sprache!$C$20,G193=Sprache!$D$20),H193,0)","v":0},{"$f":"IF(OR(E193=Sprache!$C$21,E193=Sprache!$D$21),F193,0)+IF(OR(G193=Sprache!$C$21,G193=Sprache!$D$21),H193,0)","v":0},{"$f":"IF(OR(E193=Sprache!$C$22,E193=Sprache!$D$22),F193,0)+IF(OR(G193=Sprache!$C$22,G193=Sprache!$D$22),H193,0)","v":0},{"$f":"IF(OR(E193=Sprache!$C$23,E193=Sprache!$D$23),F193,0)+IF(OR(G193=Sprache!$C$23,G193=Sprache!$D$23),H193,0)","v":0},{"$f":"IF(OR(E193=Sprache!$C$24,E193=Sprache!$D$24),F193,0)+IF(OR(G193=Sprache!$C$24,G193=Sprache!$D$24),H193,0)","v":0},0,{"$f":"'Formulaire B '!$G$11*I193+'Formulaire B '!$G$11*J193+'Formulaire B '!$G$12*K193+'Formulaire B '!$G$13*L193+'Formulaire B '!$G$14*M193+'Formulaire B '!$G$15*N193","v":0},"",null,null,null,0,null,null,"","",{"$f":"IF(B193<>\"\",HYPERLINK($AC$9&AB193,Sprache!$E$25 &\" \"&B193),\"\")","v":""},null,184,{"$f":"Eingabemeldung(Sprache!$E$18,Sprache!$E$17,'Formulaire C'!E193)","v":""},{"$f":"Eingabemeldung(Sprache!$E$18,Sprache!$E$17,'Formulaire C'!G193)","v":""},false,0,{"$f":"IF(X193<Parameter!$C$4,1,0)","v":0}]
[null,null,null,null,null,null,null,null,{"$f":"IF(OR(E194=Sprache!$C$19,E194=Sprache!$D$19),F194,0)+IF(OR(G194=Sprache!$C$19,G194=Sprache!$D$19),H194,0)","v":0},{"$f":"IF(OR(E194=Sprache!$C$20,E194=Sprache!$D$20),F194,0)+IF(OR(G194=Sprache!$C$20,G194=Sprache!$D$20),H194,0)","v":0},{"$f":"IF(OR(E194=Sprache!$C$21,E194=Sprache!$D$21),F194,0)+IF(OR(G194=Sprache!$C$21,G194=Sprache!$D$21),H194,0)","v":0},{"$f":"IF(OR(E194=Sprache!$C$22,E194=Sprache!$D$22),F194,0)+IF(OR(G194=Sprache!$C$22,G194=Sprache!$D$22),H194,0)","v":0},{"$f":"IF(OR(E194=Sprache!$C$23,E194=Sprache!$D$23),F194,0)+IF(OR(G194=Sprache!$C$23,G194=Sprache!$D$23),H194,0)","v":0},{"$f":"IF(OR(E194=Sprache!$C$24,E194=Sprache!$D$24),F194,0)+IF(OR(G194=Sprache!$C$24,G194=Sprache!$D$24),H194,0)","v":0},0,{"$f":"'Formulaire B '!$G$11*I194+'Formulaire B '!$G$11*J194+'Formulaire B '!$G$12*K194+'Formulaire B '!$G$13*L194+'Formulaire B '!$G$14*M194+'Formulaire B '!$G$15*N194","v":0},"",null,null,null,0,null,null,"","",{"$f":"IF(B194<>\"\",HYPERLINK($AC$9&AB194,Sprache!$E$25 &\" \"&B194),\"\")","v":""},null,185,{"$f":"Eingabemeldung(Sprache!$E$18,Sprache!$E$17,'Formulaire C'!E194)","v":""},{"$f":"Eingabemeldung(Sprache!$E$18,Sprache!$E$17,'Formulaire C'!G194)","v":""},false,0,{"$f":"IF(X194<Parameter!$C$4,1,0)","v":0}]
[null,null,null,null,null,null,null,null,{"$f":"IF(OR(E195=Sprache!$C$19,E195=Sprache!$D$19),F195,0)+IF(OR(G195=Sprache!$C$19,G195=Sprache!$D$19),H195,0)","v":0},{"$f":"IF(OR(E195=Sprache!$C$20,E195=Sprache!$D$20),F195,0)+IF(OR(G195=Sprache!$C$20,G195=Sprache!$D$20),H195,0)","v":0},{"$f":"IF(OR(E195=Sprache!$C$21,E195=Sprache!$D$21),F195,0)+IF(OR(G195=Sprache!$C$21,G195=Sprache!$D$21),H195,0)","v":0},{"$f":"IF(OR(E195=Sprache!$C$22,E195=Sprache!$D$22),F195,0)+IF(OR(G195=Sprache!$C$22,G195=Sprache!$D$22),H195,0)","v":0},{"$f":"IF(OR(E195=Sprache!$C$23,E195=Sprache!$D$23),F195,0)+IF(OR(G195=Sprache!$C$23,G195=Sprache!$D$23),H195,0)","v":0},{"$f":"IF(OR(E195=Sprache!$C$24,E195=Sprache!$D$24),F195,0)+IF(OR(G195=Sprache!$C$24,G195=Sprache!$D$24),H195,0)","v":0},0,{"$f":"'Formulaire B '!$G$11*I195+'Formulaire B '!$G$11*J195+'Formulaire B '!$G$12*K195+'Formulaire B '!$G$13*L195+'Formulaire B '!$G$14*M195+'Formulaire B '!$G$15*N195","v":0},"",null,null,null,0,null,null,"","",{"$f":"IF(B195<>\"\",HYPERLINK($AC$9&AB195,Sprache!$E$25 &\" \"&B195),\"\")","v":""},null,186,{"$f":"Eingabemeldung(Sprache!$E$18,Sprache!$E$17,'Formulaire C'!E195)","v":""},{"$f":"Eingabemeldung(Sprache!$E$18,Sprache!$E$17,'Formulaire C'!G195)","v":""},false,0,{"$f":"IF(X195<Parameter!$C$4,1,0)","v":0}]
[null,null,null,null,null,null,null,null,{"$f":"IF(OR(E196=Sprache!$C$19,E196=Sprache!$D$19),F196,0)+IF(OR(G196=Sprache!$C$19,G196=Sprache!$D$19),H196,0)","v":0},{"$f":"IF(OR(E196=Sprache!$C$20,E196=Sprache!$D$20),F196,0)+IF(OR(G196=Sprache!$C$20,G196=Sprache!$D$20),H196,0)","v":0},{"$f":"IF(OR(E196=Sprache!$C$21,E196=Sprache!$D$21),F196,0)+IF(OR(G196=Sprache!$C$21,G196=Sprache!$D$21),H196,0)","v":0},{"$f":"IF(OR(E196=Sprache!$C$22,E196=Sprache!$D$22),F196,0)+IF(OR(G196=Sprache!$C$22,G196=Sprache!$D$22),H196,0)","v":0},{"$f":"IF(OR(E196=Sprache!$C$23,E196=Sprache!$D$23),F196,0)+IF(OR(G196=Sprache!$C$23,G196=Sprache!$D$23),H196,0)","v":0},{"$f":"IF(OR(E196=Sprache!$C$24,E196=Sprache!$D$24),F196,0)+IF(OR(G196=Sprache!$C$24,G196=Sprache!$D$24),H196,0)","v":0},0,{"$f":"'Formulaire B '!$G$11*I196+'Formulaire B '!$G$11*J196+'Formulaire B '!$G$12*K196+'Formulaire B '!$G$13*L196+'Formulaire B '!$G$14*M196+'Formulaire B '!$G$15*N196","v":0},"",null,null,null,0,null,null,"","",{"$f":"IF(B196<>\"\",HYPERLINK($AC$9&AB196,Sprache!$E$25 &\" \"&B196),\"\")","v":""},null,187,{"$f":"Eingabemeldung(Sprache!$E$18,Sprache!$E$17,'Formulaire C'!E196)","v":""},{"$f":"Eingabemeldung(Sprache!$E$18,Sprache!$E$17,'Formulaire C'!G196)","v":""},false,0,{"$f":"IF(X196<Parameter!$C$4,1,0)","v":0}]
[null,null,null,null,null,null,null,null,{"$f":"IF(OR(E197=Sprache!$C$19,E197=Sprache!$D$19),F197,0)+IF(OR(G197=Sprache!$C$19,G197=Sprache!$D$19),H197,0)","v":0},{"$f":"IF(OR(E197=Sprache!$C$20,E197=Sprache!$D$20),F197,0)+IF(OR(G197=Sprache!$C$20,G197=Sprache!$D$20),H197,0)","v":0},{"$f":"IF(OR(E197=Sprache!$C$21,E197=Sprache!$D$21),F197,0)+IF(OR(G197=Sprache!$C$21,G197=Sprache!$D$21),H197,0)","v":0},{"$f":"IF(OR(E197=Sprache!$C$22,E197=Sprache!$D$22),F197,0)+IF(OR(G197=Sprache!$C$22,G197=Sprache!$D$22),H197,0)","v":0},{"$f":"IF(OR(E197=Sprache!$C$23,E197=Sprache!$D$23),F197,0)+IF(OR(G197=Sprache!$C$23,G197=Sprache!$D$23),H197,0)","v":0},{"$f":"IF(OR(E197=Sprache!$C$24,E197=Sprache!$D$24),F197,0)+IF(OR(G197=Sprache!$C$24,G197=Sprache!$D$24),H197,0)","v":0},0,{"$f":"'Formulaire B '!$G$11*I197+'Formulaire B '!$G$11*J197+'Formulaire B '!$G$12*K197+'Formulaire B '!$G$13*L197+'Formulaire B '!$G$14*M197+'Formulaire B '!$G$15*N197","v":0},"",null,null,null,0,null,null,"","",{"$f":"IF(B197<>\"\",HYPERLINK($AC$9&AB197,Sprache!$E$25 &\" \"&B197),\"\")","v":""},null,188,{"$f":"Eingabemeldung(Sprache!$E$18,Sprache!$E$17,'Formulaire C'!E197)","v":""},{"$f":"Eingabemeldung(Sprache!$E$18,Sprache!$E$17,'Formulaire C'!G197)","v":""},false,0,{"$f":"IF(X197<Parameter!$C$4,1,0)","v":0}]
[null,null,null,null,null,null,null,null,{"$f":"IF(OR(E198=Sprache!$C$19,E198=Sprache!$D$19),F198,0)+IF(OR(G198=Sprache!$C$19,G198=Sprache!$D$19),H198,0)","v":0},{"$f":"IF(OR(E198=Sprache!$C$20,E198=Sprache!$D$20),F198,0)+IF(OR(G198=Sprache!$C$20,G198=Sprache!$D$20),H198,0)","v":0},{"$f":"IF(OR(E198=Sprache!$C$21,E198=Sprache!$D$21),F198,0)+IF(OR(G198=Sprache!$C$21,G198=Sprache!$D$21),H198,0)","v":0},{"$f":"IF(OR(E198=Sprache!$C$22,E198=Sprache!$D$22),F198,0)+IF(OR(G198=Sprache!$C$22,G198=Sprache!$D$22),H198,0)","v":0},{"$f":"IF(OR(E198=Sprache!$C$23,E198=Sprache!$D$23),F198,0)+IF(OR(G198=Sprache!$C$23,G198=Sprache!$D$23),H198,0)","v":0},{"$f":"IF(OR(E198=Sprache!$C$24,E198=Sprache!$D$24),F198,0)+IF(OR(G198=Sprache!$C$24,G198=Sprache!$D$24),H198,0)","v":0},0,{"$f":"'Formulaire B '!$G$11*I198+'Formulaire B '!$G$11*J198+'Formulaire B '!$G$12*K198+'Formulaire B '!$G$13*L198+'Formulaire B '!$G$14*M198+'Formulaire B '!$G$15*N198","v":0},"",null,null,null,0,null,null,"","",{"$f":"IF(B198<>\"\",HYPERLINK($AC$9&AB198,Sprache!$E$25 &\" \"&B198),\"\")","v":""},null,189,{"$f":"Eingabemeldung(Sprache!$E$18,Sprache!$E$17,'Formulaire C'!E198)","v":""},{"$f":"Eingabemeldung(Sprache!$E$18,Sprache!$E$17,'Formulaire C'!G198)","v":""},false,0,{"$f":"IF(X198<Parameter!$C$4,1,0)","v":0}]
[null,null,null,null,null,null,null,null,{"$f":"IF(OR(E199=Sprache!$C$19,E199=Sprache!$D$19),F199,0)+IF(OR(G199=Sprache!$C$19,G199=Sprache!$D$19),H199,0)","v":0},{"$f":"IF(OR(E199=Sprache!$C$20,E199=Sprache!$D$20),F199,0)+IF(OR(G199=Sprache!$C$20,G199=Sprache!$D$20),H199,0)","v":0},{"$f":"IF(OR(E199=Sprache!$C$21,E199=Sprache!$D$21),F199,0)+IF(OR(G199=Sprache!$C$21,G199=Sprache!$D$21),H199,0)","v":0},{"$f":"IF(OR(E199=Sprache!$C$22,E199=Sprache!$D$22),F199,0)+IF(OR(G199=Sprache!$C$22,G199=Sprache!$D$22),H199,0)","v":0},{"$f":"IF(OR(E199=Sprache!$C$23,E199=Sprache!$D$23),F199,0)+IF(OR(G199=Sprache!$C$23,G199=Sprache!$D$23),H199,0)","v":0},{"$f":"IF(OR(E199=Sprache!$C$24,E199=Sprache!$D$24),F199,0)+IF(OR(G199=Sprache!$C$24,G199=Sprache!$D$24),H199,0)","v":0},0,{"$f":"'Formulaire B '!$G$11*I199+'Formulaire B '!$G$11*J199+'Formulaire B '!$G$12*K199+'Formulaire B '!$G$13*L199+'Formulaire B '!$G$14*M199+'Formulaire B '!$G$15*N199","v":0},"",null,null,null,0,null,null,"","",{"$f":"IF(B199<>\"\",HYPERLINK($AC$9&AB199,Sprache!$E$25 &\" \"&B199),\"\")","v":""},null,190,{"$f":"Eingabemeldung(Sprache!$E$18,Sprache!$E$17,'Formulaire C'!E199)","v":""},{"$f":"Eingabemeldung(Sprache!$E$18,Sprache!$E$17,'Formulaire C'!G199)","v":""},false,0,{"$f":"IF(X199<Parameter!$C$4,1,0)","v":0}]
[null,null,null,null,null,null,null,null,{"$f":"IF(OR(E200=Sprache!$C$19,E200=Sprache!$D$19),F200,0)+IF(OR(G200=Sprache!$C$19,G200=Sprache!$D$19),H200,0)","v":0},{"$f":"IF(OR(E200=Sprache!$C$20,E200=Sprache!$D$20),F200,0)+IF(OR(G200=Sprache!$C$20,G200=Sprache!$D$20),H200,0)","v":0},{"$f":"IF(OR(E200=Sprache!$C$21,E200=Sprache!$D$21),F200,0)+IF(OR(G200=Sprache!$C$21,G200=Sprache!$D$21),H200,0)","v":0},{"$f":"IF(OR(E200=Sprache!$C$22,E200=Sprache!$D$22),F200,0)+IF(OR(G200=Sprache!$C$22,G200=Sprache!$D$22),H200,0)","v":0},{"$f":"IF(OR(E200=Sprache!$C$23,E200=Sprache!$D$23),F200,0)+IF(OR(G200=Sprache!$C$23,G200=Sprache!$D$23),H200,0)","v":0},{"$f":"IF(OR(E200=Sprache!$C$24,E200=Sprache!$D$24),F200,0)+IF(OR(G200=Sprache!$C$24,G200=Sprache!$D$24),H200,0)","v":0},0,{"$f":"'Formulaire B '!$G$11*I200+'Formulaire B '!$G$11*J200+'Formulaire B '!$G$12*K200+'Formulaire B '!$G$13*L200+'Formulaire B '!$G$14*M200+'Formulaire B '!$G$15*N200","v":0},"",null,null,null,0,null,null,"","",{"$f":"IF(B200<>\"\",HYPERLINK($AC$9&AB200,Sprache!$E$25 &\" \"&B200),\"\")","v":""},null,191,{"$f":"Eingabemeldung(Sprache!$E$18,Sprache!$E$17,'Formulaire C'!E200)","v":""},{"$f":"Eingabemeldung(Sprache!$E$18,Sprache!$E$17,'Formulaire C'!G200)","v":""},false,0,{"$f":"IF(X200<Parameter!$C$4,1,0)","v":0}]
[null,null,null,null,null,null,null,null,{"$f":"IF(OR(E201=Sprache!$C$19,E201=Sprache!$D$19),F201,0)+IF(OR(G201=Sprache!$C$19,G201=Sprache!$D$19),H201,0)","v":0},{"$f":"IF(OR(E201=Sprache!$C$20,E201=Sprache!$D$20),F201,0)+IF(OR(G201=Sprache!$C$20,G201=Sprache!$D$20),H201,0)","v":0},{"$f":"IF(OR(E201=Sprache!$C$21,E201=Sprache!$D$21),F201,0)+IF(OR(G201=Sprache!$C$21,G201=Sprache!$D$21),H201,0)","v":0},{"$f":"IF(OR(E201=Sprache!$C$22,E201=Sprache!$D$22),F201,0)+IF(OR(G201=Sprache!$C$22,G201=Sprache!$D$22),H201,0)","v":0},{"$f":"IF(OR(E201=Sprache!$C$23,E201=Sprache!$D$23),F201,0)+IF(OR(G201=Sprache!$C$23,G201=Sprache!$D$23),H201,0)","v":0},{"$f":"IF(OR(E201=Sprache!$C$24,E201=Sprache!$D$24),F201,0)+IF(OR(G201=Sprache!$C$24,G201=Sprache!$D$24),H201,0)","v":0},0,{"$f":"'Formulaire B '!$G$11*I201+'Formulaire B '!$G$11*J201+'Formulaire B '!$G$12*K201+'Formulaire B '!$G$13*L201+'Formulaire B '!$G$14*M201+'Formulaire B '!$G$15*N201","v":0},"",null,null,null,0,null,null,"","",{"$f":"IF(B201<>\"\",HYPERLINK($AC$9&AB201,Sprache!$E$25 &\" \"&B201),\"\")","v":""},null,192,{"$f":"Eingabemeldung(Sprache!$E$18,Sprache!$E$17,'Formulaire C'!E201)","v":""},{"$f":"Eingabemeldung(Sprache!$E$18,Sprache!$E$17,'Formulaire C'!G201)","v":""},false,0,{"$f":"IF(X201<Parameter!$C$4,1,0)","v":0}]
[null,null,null,null,null,null,null,null,{"$f":"IF(OR(E202=Sprache!$C$19,E202=Sprache!$D$19),F202,0)+IF(OR(G202=Sprache!$C$19,G202=Sprache!$D$19),H202,0)","v":0},{"$f":"IF(OR(E202=Sprache!$C$20,E202=Sprache!$D$20),F202,0)+IF(OR(G202=Sprache!$C$20,G202=Sprache!$D$20),H202,0)","v":0},{"$f":"IF(OR(E202=Sprache!$C$21,E202=Sprache!$D$21),F202,0)+IF(OR(G202=Sprache!$C$21,G202=Sprache!$D$21),H202,0)","v":0},{"$f":"IF(OR(E202=Sprache!$C$22,E202=Sprache!$D$22),F202,0)+IF(OR(G202=Sprache!$C$22,G202=Sprache!$D$22),H202,0)","v":0},{"$f":"IF(OR(E202=Sprache!$C$23,E202=Sprache!$D$23),F202,0)+IF(OR(G202=Sprache!$C$23,G202=Sprache!$D$23),H202,0)","v":0},{"$f":"IF(OR(E202=Sprache!$C$24,E202=Sprache!$D$24),F202,0)+IF(OR(G202=Sprache!$C$24,G202=Sprache!$D$24),H202,0)","v":0},0,{"$f":"'Formulaire B '!$G$11*I202+'Formulaire B '!$G$11*J202+'Formulaire B '!$G$12*K202+'Formulaire B '!$G$13*L202+'Formulaire B '!$G$14*M202+'Formulaire B '!$G$15*N202","v":0},"",null,null,null,0,null,null,"","",{"$f":"IF(B202<>\"\",HYPERLINK($AC$9&AB202,Sprache!$E$25 &\" \"&B202),\"\")","v":""},null,193,{"$f":"Eingabemeldung(Sprache!$E$18,Sprache!$E$17,'Formulaire C'!E202)","v":""},{"$f":"Eingabemeldung(Sprache!$E$18,Sprache!$E$17,'Formulaire C'!G202)","v":""},false,0,{"$f":"IF(X202<Parameter!$C$4,1,0)","v":0}]
[null,null,null,null,null,null,null,null,{"$f":"IF(OR(E203=Sprache!$C$19,E203=Sprache!$D$19),F203,0)+IF(OR(G203=Sprache!$C$19,G203=Sprache!$D$19),H203,0)","v":0},{"$f":"IF(OR(E203=Sprache!$C$20,E203=Sprache!$D$20),F203,0)+IF(OR(G203=Sprache!$C$20,G203=Sprache!$D$20),H203,0)","v":0},{"$f":"IF(OR(E203=Sprache!$C$21,E203=Sprache!$D$21),F203,0)+IF(OR(G203=Sprache!$C$21,G203=Sprache!$D$21),H203,0)","v":0},{"$f":"IF(OR(E203=Sprache!$C$22,E203=Sprache!$D$22),F203,0)+IF(OR(G203=Sprache!$C$22,G203=Sprache!$D$22),H203,0)","v":0},{"$f":"IF(OR(E203=Sprache!$C$23,E203=Sprache!$D$23),F203,0)+IF(OR(G203=Sprache!$C$23,G203=Sprache!$D$23),H203,0)","v":0},{"$f":"IF(OR(E203=Sprache!$C$24,E203=Sprache!$D$24),F203,0)+IF(OR(G203=Sprache!$C$24,G203=Sprache!$D$24),H203,0)","v":0},0,{"$f":"'Formulaire B '!$G$11*I203+'Formulaire B '!$G$11*J203+'Formulaire B '!$G$12*K203+'Formulaire B '!$G$13*L203+'Formulaire B '!$G$14*M203+'Formulaire B '!$G$15*N203","v":0},"",null,null,null,0,null,null,"","",{"$f":"IF(B203<>\"\",HYPERLINK($AC$9&AB203,Sprache!$E$25 &\" \"&B203),\"\")","v":""},null,194,{"$f":"Eingabemeldung(Sprache!$E$18,Sprache!$E$17,'Formulaire C'!E203)","v":""},{"$f":"Eingabemeldung(Sprache!$E$18,Sprache!$E$17,'Formulaire C'!G203)","v":""},false,0,{"$f":"IF(X203<Parameter!$C$4,1,0)","v":0}]
[null,null,null,null,null,null,null,null,{"$f":"IF(OR(E204=Sprache!$C$19,E204=Sprache!$D$19),F204,0)+IF(OR(G204=Sprache!$C$19,G204=Sprache!$D$19),H204,0)","v":0},{"$f":"IF(OR(E204=Sprache!$C$20,E204=Sprache!$D$20),F204,0)+IF(OR(G204=Sprache!$C$20,G204=Sprache!$D$20),H204,0)","v":0},{"$f":"IF(OR(E204=Sprache!$C$21,E204=Sprache!$D$21),F204,0)+IF(OR(G204=Sprache!$C$21,G204=Sprache!$D$21),H204,0)","v":0},{"$f":"IF(OR(E204=Sprache!$C$22,E204=Sprache!$D$22),F204,0)+IF(OR(G204=Sprache!$C$22,G204=Sprache!$D$22),H204,0)","v":0},{"$f":"IF(OR(E204=Sprache!$C$23,E204=Sprache!$D$23),F204,0)+IF(OR(G204=Sprache!$C$23,G204=Sprache!$D$23),H204,0)","v":0},{"$f":"IF(OR(E204=Sprache!$C$24,E204=Sprache!$D$24),F204,0)+IF(OR(G204=Sprache!$C$24,G204=Sprache!$D$24),H204,0)","v":0},0,{"$f":"'Formulaire B '!$G$11*I204+'Formulaire B '!$G$11*J204+'Formulaire B '!$G$12*K204+'Formulaire B '!$G$13*L204+'Formulaire B '!$G$14*M204+'Formulaire B '!$G$15*N204","v":0},"",null,null,null,0,null,null,"","",{"$f":"IF(B204<>\"\",HYPERLINK($AC$9&AB204,Sprache!$E$25 &\" \"&B204),\"\")","v":""},null,195,{"$f":"Eingabemeldung(Sprache!$E$18,Sprache!$E$17,'Formulaire C'!E204)","v":""},{"$f":"Eingabemeldung(Sprache!$E$18,Sprache!$E$17,'Formulaire C'!G204)","v":""},false,0,{"$f":"IF(X204<Parameter!$C$4,1,0)","v":0}]
[null,null,null,null,null,null,null,null,{"$f":"IF(OR(E205=Sprache!$C$19,E205=Sprache!$D$19),F205,0)+IF(OR(G205=Sprache!$C$19,G205=Sprache!$D$19),H205,0)","v":0},{"$f":"IF(OR(E205=Sprache!$C$20,E205=Sprache!$D$20),F205,0)+IF(OR(G205=Sprache!$C$20,G205=Sprache!$D$20),H205,0)","v":0},{"$f":"IF(OR(E205=Sprache!$C$21,E205=Sprache!$D$21),F205,0)+IF(OR(G205=Sprache!$C$21,G205=Sprache!$D$21),H205,0)","v":0},{"$f":"IF(OR(E205=Sprache!$C$22,E205=Sprache!$D$22),F205,0)+IF(OR(G205=Sprache!$C$22,G205=Sprache!$D$22),H205,0)","v":0},{"$f":"IF(OR(E205=Sprache!$C$23,E205=Sprache!$D$23),F205,0)+IF(OR(G205=Sprache!$C$23,G205=Sprache!$D$23),H205,0)","v":0},{"$f":"IF(OR(E205=Sprache!$C$24,E205=Sprache!$D$24),F205,0)+IF(OR(G205=Sprache!$C$24,G205=Sprache!$D$24),H205,0)","v":0},0,{"$f":"'Formulaire B '!$G$11*I205+'Formulaire B '!$G$11*J205+'Formulaire B '!$G$12*K205+'Formulaire B '!$G$13*L205+'Formulaire B '!$G$14*M205+'Formulaire B '!$G$15*N205","v":0},"",null,null,null,0,null,null,"","",{"$f":"IF(B205<>\"\",HYPERLINK($AC$9&AB205,Sprache!$E$25 &\" \"&B205),\"\")","v":""},null,196,{"$f":"Eingabemeldung(Sprache!$E$18,Sprache!$E$17,'Formulaire C'!E205)","v":""},{"$f":"Eingabemeldung(Sprache!$E$18,Sprache!$E$17,'Formulaire C'!G205)","v":""},false,0,{"$f":"IF(X205<Parameter!$C$4,1,0)","v":0}]
[null,null,null,null,null,null,null,null,{"$f":"IF(OR(E206=Sprache!$C$19,E206=Sprache!$D$19),F206,0)+IF(OR(G206=Sprache!$C$19,G206=Sprache!$D$19),H206,0)","v":0},{"$f":"IF(OR(E206=Sprache!$C$20,E206=Sprache!$D$20),F206,0)+IF(OR(G206=Sprache!$C$20,G206=Sprache!$D$20),H206,0)","v":0},{"$f":"IF(OR(E206=Sprache!$C$21,E206=Sprache!$D$21),F206,0)+IF(OR(G206=Sprache!$C$21,G206=Sprache!$D$21),H206,0)","v":0},{"$f":"IF(OR(E206=Sprache!$C$22,E206=Sprache!$D$22),F206,0)+IF(OR(G206=Sprache!$C$22,G206=Sprache!$D$22),H206,0)","v":0},{"$f":"IF(OR(E206=Sprache!$C$23,E206=Sprache!$D$23),F206,0)+IF(OR(G206=Sprache!$C$23,G206=Sprache!$D$23),H206,0)","v":0},{"$f":"IF(OR(E206=Sprache!$C$24,E206=Sprache!$D$24),F206,0)+IF(OR(G206=Sprache!$C$24,G206=Sprache!$D$24),H206,0)","v":0},0,{"$f":"'Formulaire B '!$G$11*I206+'Formulaire B '!$G$11*J206+'Formulaire B '!$G$12*K206+'Formulaire B '!$G$13*L206+'Formulaire B '!$G$14*M206+'Formulaire B '!$G$15*N206","v":0},"",null,null,null,0,null,null,"","",{"$f":"IF(B206<>\"\",HYPERLINK($AC$9&AB206,Sprache!$E$25 &\" \"&B206),\"\")","v":""},null,197,{"$f":"Eingabemeldung(Sprache!$E$18,Sprache!$E$17,'Formulaire C'!E206)","v":""},{"$f":"Eingabemeldung(Sprache!$E$18,Sprache!$E$17,'Formulaire C'!G206)","v":""},false,0,{"$f":"IF(X206<Parameter!$C$4,1,0)","v":0}]
[null,null,null,null,null,null,null,null,{"$f":"IF(OR(E207=Sprache!$C$19,E207=Sprache!$D$19),F207,0)+IF(OR(G207=Sprache!$C$19,G207=Sprache!$D$19),H207,0)","v":0},{"$f":"IF(OR(E207=Sprache!$C$20,E207=Sprache!$D$20),F207,0)+IF(OR(G207=Sprache!$C$20,G207=Sprache!$D$20),H207,0)","v":0},{"$f":"IF(OR(E207=Sprache!$C$21,E207=Sprache!$D$21),F207,0)+IF(OR(G207=Sprache!$C$21,G207=Sprache!$D$21),H207,0)","v":0},{"$f":"IF(OR(E207=Sprache!$C$22,E207=Sprache!$D$22),F207,0)+IF(OR(G207=Sprache!$C$22,G207=Sprache!$D$22),H207,0)","v":0},{"$f":"IF(OR(E207=Sprache!$C$23,E207=Sprache!$D$23),F207,0)+IF(OR(G207=Sprache!$C$23,G207=Sprache!$D$23),H207,0)","v":0},{"$f":"IF(OR(E207=Sprache!$C$24,E207=Sprache!$D$24),F207,0)+IF(OR(G207=Sprache!$C$24,G207=Sprache!$D$24),H207,0)","v":0},0,{"$f":"'Formulaire B '!$G$11*I207+'Formulaire B '!$G$11*J207+'Formulaire B '!$G$12*K207+'Formulaire B '!$G$13*L207+'Formulaire B '!$G$14*M207+'Formulaire B '!$G$15*N207","v":0},"",null,null,null,0,null,null,"","",{"$f":"IF(B207<>\"\",HYPERLINK($AC$9&AB207,Sprache!$E$25 &\" \"&B207),\"\")","v":""},null,198,{"$f":"Eingabemeldung(Sprache!$E$18,Sprache!$E$17,'Formulaire C'!E207)","v":""},{"$f":"Eingabemeldung(Sprache!$E$18,Sprache!$E$17,'Formulaire C'!G207)","v":""},false,0,{"$f":"IF(X207<Parameter!$C$4,1,0)","v":0}]
[null,null,null,null,null,null,null,null,{"$f":"IF(OR(E208=Sprache!$C$19,E208=Sprache!$D$19),F208,0)+IF(OR(G208=Sprache!$C$19,G208=Sprache!$D$19),H208,0)","v":0},{"$f":"IF(OR(E208=Sprache!$C$20,E208=Sprache!$D$20),F208,0)+IF(OR(G208=Sprache!$C$20,G208=Sprache!$D$20),H208,0)","v":0},{"$f":"IF(OR(E208=Sprache!$C$21,E208=Sprache!$D$21),F208,0)+IF(OR(G208=Sprache!$C$21,G208=Sprache!$D$21),H208,0)","v":0},{"$f":"IF(OR(E208=Sprache!$C$22,E208=Sprache!$D$22),F208,0)+IF(OR(G208=Sprache!$C$22,G208=Sprache!$D$22),H208,0)","v":0},{"$f":"IF(OR(E208=Sprache!$C$23,E208=Sprache!$D$23),F208,0)+IF(OR(G208=Sprache!$C$23,G208=Sprache!$D$23),H208,0)","v":0},{"$f":"IF(OR(E208=Sprache!$C$24,E208=Sprache!$D$24),F208,0)+IF(OR(G208=Sprache!$C$24,G208=Sprache!$D$24),H208,0)","v":0},0,{"$f":"'Formulaire B '!$G$11*I208+'Formulaire B '!$G$11*J208+'Formulaire B '!$G$12*K208+'Formulaire B '!$G$13*L208+'Formulaire B '!$G$14*M208+'Formulaire B '!$G$15*N208","v":0},"",null,null,null,0,null,null,"","",{"$f":"IF(B208<>\"\",HYPERLINK($AC$9&AB208,Sprache!$E$25 &\" \"&B208),\"\")","v":""},null,199,{"$f":"Eingabemeldung(Sprache!$E$18,Sprache!$E$17,'Formulaire C'!E208)","v":""},{"$f":"Eingabemeldung(Sprache!$E$18,Sprache!$E$17,'Formulaire C'!G208)","v":""},false,0,{"$f":"IF(X208<Parameter!$C$4,1,0)","v":0}]
[null,null,null,null,null,null,null,null,{"$f":"IF(OR(E209=Sprache!$C$19,E209=Sprache!$D$19),F209,0)+IF(OR(G209=Sprache!$C$19,G209=Sprache!$D$19),H209,0)","v":0},{"$f":"IF(OR(E209=Sprache!$C$20,E209=Sprache!$D$20),F209,0)+IF(OR(G209=Sprache!$C$20,G209=Sprache!$D$20),H209,0)","v":0},{"$f":"IF(OR(E209=Sprache!$C$21,E209=Sprache!$D$21),F209,0)+IF(OR(G209=Sprache!$C$21,G209=Sprache!$D$21),H209,0)","v":0},{"$f":"IF(OR(E209=Sprache!$C$22,E209=Sprache!$D$22),F209,0)+IF(OR(G209=Sprache!$C$22,G209=Sprache!$D$22),H209,0)","v":0},{"$f":"IF(OR(E209=Sprache!$C$23,E209=Sprache!$D$23),F209,0)+IF(OR(G209=Sprache!$C$23,G209=Sprache!$D$23),H209,0)","v":0},{"$f":"IF(OR(E209=Sprache!$C$24,E209=Sprache!$D$24),F209,0)+IF(OR(G209=Sprache!$C$24,G209=Sprache!$D$24),H209,0)","v":0},0,{"$f":"'Formulaire B '!$G$11*I209+'Formulaire B '!$G$11*J209+'Formulaire B '!$G$12*K209+'Formulaire B '!$G$13*L209+'Formulaire B '!$G$14*M209+'Formulaire B '!$G$15*N209","v":0},"",null,null,null,0,null,null,"","",{"$f":"IF(B209<>\"\",HYPERLINK($AC$9&AB209,Sprache!$E$25 &\" \"&B209),\"\")","v":""},null,200,{"$f":"Eingabemeldung(Sprache!$E$18,Sprache!$E$17,'Formulaire C'!E209)","v":""},{"$f":"Eingabemeldung(Sprache!$E$18,Sprache!$E$17,'Formulaire C'!G209)","v":""},false,0,{"$f":"IF(X209<Parameter!$C$4,1,0)","v":0}]
[null,null,null,null,null,null,null,null,{"$f":"IF(OR(E210=Sprache!$C$19,E210=Sprache!$D$19),F210,0)+IF(OR(G210=Sprache!$C$19,G210=Sprache!$D$19),H210,0)","v":0},{"$f":"IF(OR(E210=Sprache!$C$20,E210=Sprache!$D$20),F210,0)+IF(OR(G210=Sprache!$C$20,G210=Sprache!$D$20),H210,0)","v":0},{"$f":"IF(OR(E210=Sprache!$C$21,E210=Sprache!$D$21),F210,0)+IF(OR(G210=Sprache!$C$21,G210=Sprache!$D$21),H210,0)","v":0},{"$f":"IF(OR(E210=Sprache!$C$22,E210=Sprache!$D$22),F210,0)+IF(OR(G210=Sprache!$C$22,G210=Sprache!$D$22),H210,0)","v":0},{"$f":"IF(OR(E210=Sprache!$C$23,E210=Sprache!$D$23),F210,0)+IF(OR(G210=Sprache!$C$23,G210=Sprache!$D$23),H210,0)","v":0},{"$f":"IF(OR(E210=Sprache!$C$24,E210=Sprache!$D$24),F210,0)+IF(OR(G210=Sprache!$C$24,G210=Sprache!$D$24),H210,0)","v":0},0,{"$f":"'Formulaire B '!$G$11*I210+'Formulaire B '!$G$11*J210+'Formulaire B '!$G$12*K210+'Formulaire B '!$G$13*L210+'Formulaire B '!$G$14*M210+'Formulaire B '!$G$15*N210","v":0},"",null,null,null,0,null,null,"","",{"$f":"IF(B210<>\"\",HYPERLINK($AC$9&AB210,Sprache!$E$25 &\" \"&B210),\"\")","v":""},null,201,{"$f":"Eingabemeldung(Sprache!$E$18,Sprache!$E$17,'Formulaire C'!E210)","v":""},{"$f":"Eingabemeldung(Sprache!$E$18,Sprache!$E$17,'Formulaire C'!G210)","v":""},false,0,{"$f":"IF(X210<Parameter!$C$4,1,0)","v":0}]
[null,null,null,null,null,null,null,null,{"$f":"IF(OR(E211=Sprache!$C$19,E211=Sprache!$D$19),F211,0)+IF(OR(G211=Sprache!$C$19,G211=Sprache!$D$19),H211,0)","v":0},{"$f":"IF(OR(E211=Sprache!$C$20,E211=Sprache!$D$20),F211,0)+IF(OR(G211=Sprache!$C$20,G211=Sprache!$D$20),H211,0)","v":0},{"$f":"IF(OR(E211=Sprache!$C$21,E211=Sprache!$D$21),F211,0)+IF(OR(G211=Sprache!$C$21,G211=Sprache!$D$21),H211,0)","v":0},{"$f":"IF(OR(E211=Sprache!$C$22,E211=Sprache!$D$22),F211,0)+IF(OR(G211=Sprache!$C$22,G211=Sprache!$D$22),H211,0)","v":0},{"$f":"IF(OR(E211=Sprache!$C$23,E211=Sprache!$D$23),F211,0)+IF(OR(G211=Sprache!$C$23,G211=Sprache!$D$23),H211,0)","v":0},{"$f":"IF(OR(E211=Sprache!$C$24,E211=Sprache!$D$24),F211,0)+IF(OR(G211=Sprache!$C$24,G211=Sprache!$D$24),H211,0)","v":0},0,{"$f":"'Formulaire B '!$G$11*I211+'Formulaire B '!$G$11*J211+'Formulaire B '!$G$12*K211+'Formulaire B '!$G$13*L211+'Formulaire B '!$G$14*M211+'Formulaire B '!$G$15*N211","v":0},"",null,null,null,0,null,null,"","",{"$f":"IF(B211<>\"\",HYPERLINK($AC$9&AB211,Sprache!$E$25 &\" \"&B211),\"\")","v":""},null,202,{"$f":"Eingabemeldung(Sprache!$E$18,Sprache!$E$17,'Formulaire C'!E211)","v":""},{"$f":"Eingabemeldung(Sprache!$E$18,Sprache!$E$17,'Formulaire C'!G211)","v":""},false,0,{"$f":"IF(X211<Parameter!$C$4,1,0)","v":0}]
[null,null,null,null,null,null,null,null,{"$f":"IF(OR(E212=Sprache!$C$19,E212=Sprache!$D$19),F212,0)+IF(OR(G212=Sprache!$C$19,G212=Sprache!$D$19),H212,0)","v":0},{"$f":"IF(OR(E212=Sprache!$C$20,E212=Sprache!$D$20),F212,0)+IF(OR(G212=Sprache!$C$20,G212=Sprache!$D$20),H212,0)","v":0},{"$f":"IF(OR(E212=Sprache!$C$21,E212=Sprache!$D$21),F212,0)+IF(OR(G212=Sprache!$C$21,G212=Sprache!$D$21),H212,0)","v":0},{"$f":"IF(OR(E212=Sprache!$C$22,E212=Sprache!$D$22),F212,0)+IF(OR(G212=Sprache!$C$22,G212=Sprache!$D$22),H212,0)","v":0},{"$f":"IF(OR(E212=Sprache!$C$23,E212=Sprache!$D$23),F212,0)+IF(OR(G212=Sprache!$C$23,G212=Sprache!$D$23),H212,0)","v":0},{"$f":"IF(OR(E212=Sprache!$C$24,E212=Sprache!$D$24),F212,0)+IF(OR(G212=Sprache!$C$24,G212=Sprache!$D$24),H212,0)","v":0},0,{"$f":"'Formulaire B '!$G$11*I212+'Formulaire B '!$G$11*J212+'Formulaire B '!$G$12*K212+'Formulaire B '!$G$13*L212+'Formulaire B '!$G$14*M212+'Formulaire B '!$G$15*N212","v":0},"",null,null,null,0,null,null,"","",{"$f":"IF(B212<>\"\",HYPERLINK($AC$9&AB212,Sprache!$E$25 &\" \"&B212),\"\")","v":""},null,203,{"$f":"Eingabemeldung(Sprache!$E$18,Sprache!$E$17,'Formulaire C'!E212)","v":""},{"$f":"Eingabemeldung(Sprache!$E$18,Sprache!$E$17,'Formulaire C'!G212)","v":""},false,0,{"$f":"IF(X212<Parameter!$C$4,1,0)","v":0}]
[null,null,null,null,null,null,null,null,{"$f":"IF(OR(E213=Sprache!$C$19,E213=Sprache!$D$19),F213,0)+IF(OR(G213=Sprache!$C$19,G213=Sprache!$D$19),H213,0)","v":0},{"$f":"IF(OR(E213=Sprache!$C$20,E213=Sprache!$D$20),F213,0)+IF(OR(G213=Sprache!$C$20,G213=Sprache!$D$20),H213,0)","v":0},{"$f":"IF(OR(E213=Sprache!$C$21,E213=Sprache!$D$21),F213,0)+IF(OR(G213=Sprache!$C$21,G213=Sprache!$D$21),H213,0)","v":0},{"$f":"IF(OR(E213=Sprache!$C$22,E213=Sprache!$D$22),F213,0)+IF(OR(G213=Sprache!$C$22,G213=Sprache!$D$22),H213,0)","v":0},{"$f":"IF(OR(E213=Sprache!$C$23,E213=Sprache!$D$23),F213,0)+IF(OR(G213=Sprache!$C$23,G213=Sprache!$D$23),H213,0)","v":0},{"$f":"IF(OR(E213=Sprache!$C$24,E213=Sprache!$D$24),F213,0)+IF(OR(G213=Sprache!$C$24,G213=Sprache!$D$24),H213,0)","v":0},0,{"$f":"'Formulaire B '!$G$11*I213+'Formulaire B '!$G$11*J213+'Formulaire B '!$G$12*K213+'Formulaire B '!$G$13*L213+'Formulaire B '!$G$14*M213+'Formulaire B '!$G$15*N213","v":0},"",null,null,null,0,null,null,"","",{"$f":"IF(B213<>\"\",HYPERLINK($AC$9&AB213,Sprache!$E$25 &\" \"&B213),\"\")","v":""},null,204,{"$f":"Eingabemeldung(Sprache!$E$18,Sprache!$E$17,'Formulaire C'!E213)","v":""},{"$f":"Eingabemeldung(Sprache!$E$18,Sprache!$E$17,'Formulaire C'!G213)","v":""},false,0,{"$f":"IF(X213<Parameter!$C$4,1,0)","v":0}]
[null,null,null,null,null,null,null,null,{"$f":"IF(OR(E214=Sprache!$C$19,E214=Sprache!$D$19),F214,0)+IF(OR(G214=Sprache!$C$19,G214=Sprache!$D$19),H214,0)","v":0},{"$f":"IF(OR(E214=Sprache!$C$20,E214=Sprache!$D$20),F214,0)+IF(OR(G214=Sprache!$C$20,G214=Sprache!$D$20),H214,0)","v":0},{"$f":"IF(OR(E214=Sprache!$C$21,E214=Sprache!$D$21),F214,0)+IF(OR(G214=Sprache!$C$21,G214=Sprache!$D$21),H214,0)","v":0},{"$f":"IF(OR(E214=Sprache!$C$22,E214=Sprache!$D$22),F214,0)+IF(OR(G214=Sprache!$C$22,G214=Sprache!$D$22),H214,0)","v":0},{"$f":"IF(OR(E214=Sprache!$C$23,E214=Sprache!$D$23),F214,0)+IF(OR(G214=Sprache!$C$23,G214=Sprache!$D$23),H214,0)","v":0},{"$f":"IF(OR(E214=Sprache!$C$24,E214=Sprache!$D$24),F214,0)+IF(OR(G214=Sprache!$C$24,G214=Sprache!$D$24),H214,0)","v":0},0,{"$f":"'Formulaire B '!$G$11*I214+'Formulaire B '!$G$11*J214+'Formulaire B '!$G$12*K214+'Formulaire B '!$G$13*L214+'Formulaire B '!$G$14*M214+'Formulaire B '!$G$15*N214","v":0},"",null,null,null,0,null,null,"","",{"$f":"IF(B214<>\"\",HYPERLINK($AC$9&AB214,Sprache!$E$25 &\" \"&B214),\"\")","v":""},null,205,{"$f":"Eingabemeldung(Sprache!$E$18,Sprache!$E$17,'Formulaire C'!E214)","v":""},{"$f":"Eingabemeldung(Sprache!$E$18,Sprache!$E$17,'Formulaire C'!G214)","v":""},false,0,{"$f":"IF(X214<Parameter!$C$4,1,0)","v":0}]
[null,null,null,null,null,null,null,null,{"$f":"IF(OR(E215=Sprache!$C$19,E215=Sprache!$D$19),F215,0)+IF(OR(G215=Sprache!$C$19,G215=Sprache!$D$19),H215,0)","v":0},{"$f":"IF(OR(E215=Sprache!$C$20,E215=Sprache!$D$20),F215,0)+IF(OR(G215=Sprache!$C$20,G215=Sprache!$D$20),H215,0)","v":0},{"$f":"IF(OR(E215=Sprache!$C$21,E215=Sprache!$D$21),F215,0)+IF(OR(G215=Sprache!$C$21,G215=Sprache!$D$21),H215,0)","v":0},{"$f":"IF(OR(E215=Sprache!$C$22,E215=Sprache!$D$22),F215,0)+IF(OR(G215=Sprache!$C$22,G215=Sprache!$D$22),H215,0)","v":0},{"$f":"IF(OR(E215=Sprache!$C$23,E215=Sprache!$D$23),F215,0)+IF(OR(G215=Sprache!$C$23,G215=Sprache!$D$23),H215,0)","v":0},{"$f":"IF(OR(E215=Sprache!$C$24,E215=Sprache!$D$24),F215,0)+IF(OR(G215=Sprache!$C$24,G215=Sprache!$D$24),H215,0)","v":0},0,{"$f":"'Formulaire B '!$G$11*I215+'Formulaire B '!$G$11*J215+'Formulaire B '!$G$12*K215+'Formulaire B '!$G$13*L215+'Formulaire B '!$G$14*M215+'Formulaire B '!$G$15*N215","v":0},"",null,null,null,0,null,null,"","",{"$f":"IF(B215<>\"\",HYPERLINK($AC$9&AB215,Sprache!$E$25 &\" \"&B215),\"\")","v":""},null,206,{"$f":"Eingabemeldung(Sprache!$E$18,Sprache!$E$17,'Formulaire C'!E215)","v":""},{"$f":"Eingabemeldung(Sprache!$E$18,Sprache!$E$17,'Formulaire C'!G215)","v":""},false,0,{"$f":"IF(X215<Parameter!$C$4,1,0)","v":0}]
[null,null,null,null,null,null,null,null,{"$f":"IF(OR(E216=Sprache!$C$19,E216=Sprache!$D$19),F216,0)+IF(OR(G216=Sprache!$C$19,G216=Sprache!$D$19),H216,0)","v":0},{"$f":"IF(OR(E216=Sprache!$C$20,E216=Sprache!$D$20),F216,0)+IF(OR(G216=Sprache!$C$20,G216=Sprache!$D$20),H216,0)","v":0},{"$f":"IF(OR(E216=Sprache!$C$21,E216=Sprache!$D$21),F216,0)+IF(OR(G216=Sprache!$C$21,G216=Sprache!$D$21),H216,0)","v":0},{"$f":"IF(OR(E216=Sprache!$C$22,E216=Sprache!$D$22),F216,0)+IF(OR(G216=Sprache!$C$22,G216=Sprache!$D$22),H216,0)","v":0},{"$f":"IF(OR(E216=Sprache!$C$23,E216=Sprache!$D$23),F216,0)+IF(OR(G216=Sprache!$C$23,G216=Sprache!$D$23),H216,0)","v":0},{"$f":"IF(OR(E216=Sprache!$C$24,E216=Sprache!$D$24),F216,0)+IF(OR(G216=Sprache!$C$24,G216=Sprache!$D$24),H216,0)","v":0},0,{"$f":"'Formulaire B '!$G$11*I216+'Formulaire B '!$G$11*J216+'Formulaire B '!$G$12*K216+'Formulaire B '!$G$13*L216+'Formulaire B '!$G$14*M216+'Formulaire B '!$G$15*N216","v":0},{"$f":"IFERROR(P216/($H$7-$P$228),\"\")","v":""},null,null,null,0,null,null,{"$f":"IF(U216=0, \"\",V216*W216/U216)","v":""},{"$f":"IF(AG216,\"X\",\"\")","v":""},{"$f":"IF(B216<>\"\",HYPERLINK($AC$9&AB216,Sprache!$E$25 &\" \"&B216),\"\")","v":""},null,207,{"$f":"Eingabemeldung(Sprache!$E$18,Sprache!$E$17,'Formulaire C'!E216)","v":""},{"$f":"Eingabemeldung(Sprache!$E$18,Sprache!$E$17,'Formulaire C'!G216)","v":""},{"$f":"ISNUMBER(R216)","v":false},{"$f":"IF(Y216=\"X\",1,0)","v":0},{"$f":"IF(X216<Parameter!$C$4,1,0)","v":0}]
[null,null,null,null,null,null,null,null,{"$f":"IF(OR(E217=Sprache!$C$19,E217=Sprache!$D$19),F217,0)+IF(OR(G217=Sprache!$C$19,G217=Sprache!$D$19),H217,0)","v":0},{"$f":"IF(OR(E217=Sprache!$C$20,E217=Sprache!$D$20),F217,0)+IF(OR(G217=Sprache!$C$20,G217=Sprache!$D$20),H217,0)","v":0},{"$f":"IF(OR(E217=Sprache!$C$21,E217=Sprache!$D$21),F217,0)+IF(OR(G217=Sprache!$C$21,G217=Sprache!$D$21),H217,0)","v":0},{"$f":"IF(OR(E217=Sprache!$C$22,E217=Sprache!$D$22),F217,0)+IF(OR(G217=Sprache!$C$22,G217=Sprache!$D$22),H217,0)","v":0},{"$f":"IF(OR(E217=Sprache!$C$23,E217=Sprache!$D$23),F217,0)+IF(OR(G217=Sprache!$C$23,G217=Sprache!$D$23),H217,0)","v":0},{"$f":"IF(OR(E217=Sprache!$C$24,E217=Sprache!$D$24),F217,0)+IF(OR(G217=Sprache!$C$24,G217=Sprache!$D$24),H217,0)","v":0},0,{"$f":"'Formulaire B '!$G$11*I217+'Formulaire B '!$G$11*J217+'Formulaire B '!$G$12*K217+'Formulaire B '!$G$13*L217+'Formulaire B '!$G$14*M217+'Formulaire B '!$G$15*N217","v":0},"",null,null,null,0,null,null,"","",{"$f":"IF(B217<>\"\",HYPERLINK($AC$9&AB217,Sprache!$E$25 &\" \"&B217),\"\")","v":""},null,{"$f":"AB216+1","v":208},{"$f":"Eingabemeldung(Sprache!$E$18,Sprache!$E$17,'Formulaire C'!E217)","v":""},{"$f":"Eingabemeldung(Sprache!$E$18,Sprache!$E$17,'Formulaire C'!G217)","v":""},false,0,{"$f":"IF(X217<Parameter!$C$4,1,0)","v":0}]
[null,null,null,null,null,null,null,null,{"$f":"IF(OR(E218=Sprache!$C$19,E218=Sprache!$D$19),F218,0)+IF(OR(G218=Sprache!$C$19,G218=Sprache!$D$19),H218,0)","v":0},{"$f":"IF(OR(E218=Sprache!$C$20,E218=Sprache!$D$20),F218,0)+IF(OR(G218=Sprache!$C$20,G218=Sprache!$D$20),H218,0)","v":0},{"$f":"IF(OR(E218=Sprache!$C$21,E218=Sprache!$D$21),F218,0)+IF(OR(G218=Sprache!$C$21,G218=Sprache!$D$21),H218,0)","v":0},{"$f":"IF(OR(E218=Sprache!$C$22,E218=Sprache!$D$22),F218,0)+IF(OR(G218=Sprache!$C$22,G218=Sprache!$D$22),H218,0)","v":0},{"$f":"IF(OR(E218=Sprache!$C$23,E218=Sprache!$D$23),F218,0)+IF(OR(G218=Sprache!$C$23,G218=Sprache!$D$23),H218,0)","v":0},{"$f":"IF(OR(E218=Sprache!$C$24,E218=Sprache!$D$24),F218,0)+IF(OR(G218=Sprache!$C$24,G218=Sprache!$D$24),H218,0)","v":0},0,{"$f":"'Formulaire B '!$G$11*I218+'Formulaire B '!$G$11*J218+'Formulaire B '!$G$12*K218+'Formulaire B '!$G$13*L218+'Formulaire B '!$G$14*M218+'Formulaire B '!$G$15*N218","v":0},"",null,null,null,0,null,null,"","",{"$f":"IF(B218<>\"\",HYPERLINK($AC$9&AB218,Sprache!$E$25 &\" \"&B218),\"\")","v":""},null,209,{"$f":"Eingabemeldung(Sprache!$E$18,Sprache!$E$17,'Formulaire C'!E218)","v":""},{"$f":"Eingabemeldung(Sprache!$E$18,Sprache!$E$17,'Formulaire C'!G218)","v":""},false,0,{"$f":"IF(X218<Parameter!$C$4,1,0)","v":0}]
[null,null,null,null,null,null,null,null,{"$f":"IF(OR(E219=Sprache!$C$19,E219=Sprache!$D$19),F219,0)+IF(OR(G219=Sprache!$C$19,G219=Sprache!$D$19),H219,0)","v":0},{"$f":"IF(OR(E219=Sprache!$C$20,E219=Sprache!$D$20),F219,0)+IF(OR(G219=Sprache!$C$20,G219=Sprache!$D$20),H219,0)","v":0},{"$f":"IF(OR(E219=Sprache!$C$21,E219=Sprache!$D$21),F219,0)+IF(OR(G219=Sprache!$C$21,G219=Sprache!$D$21),H219,0)","v":0},{"$f":"IF(OR(E219=Sprache!$C$22,E219=Sprache!$D$22),F219,0)+IF(OR(G219=Sprache!$C$22,G219=Sprache!$D$22),H219,0)","v":0},{"$f":"IF(OR(E219=Sprache!$C$23,E219=Sprache!$D$23),F219,0)+IF(OR(G219=Sprache!$C$23,G219=Sprache!$D$23),H219,0)","v":0},{"$f":"IF(OR(E219=Sprache!$C$24,E219=Sprache!$D$24),F219,0)+IF(OR(G219=Sprache!$C$24,G219=Sprache!$D$24),H219,0)","v":0},0,{"$f":"'Formulaire B '!$G$11*I219+'Formulaire B '!$G$11*J219+'Formulaire B '!$G$12*K219+'Formulaire B '!$G$13*L219+'Formulaire B '!$G$14*M219+'Formulaire B '!$G$15*N219","v":0},"",null,null,null,0,null,null,"","",{"$f":"IF(B219<>\"\",HYPERLINK($AC$9&AB219,Sprache!$E$25 &\" \"&B219),\"\")","v":""},null,210,{"$f":"Eingabemeldung(Sprache!$E$18,Sprache!$E$17,'Formulaire C'!E219)","v":""},{"$f":"Eingabemeldung(Sprache!$E$18,Sprache!$E$17,'Formulaire C'!G219)","v":""},false,0,{"$f":"IF(X219<Parameter!$C$4,1,0)","v":0}]
[null,null,null,null,null,null,null,null,{"$f":"IF(OR(E220=Sprache!$C$19,E220=Sprache!$D$19),F220,0)+IF(OR(G220=Sprache!$C$19,G220=Sprache!$D$19),H220,0)","v":0},{"$f":"IF(OR(E220=Sprache!$C$20,E220=Sprache!$D$20),F220,0)+IF(OR(G220=Sprache!$C$20,G220=Sprache!$D$20),H220,0)","v":0},{"$f":"IF(OR(E220=Sprache!$C$21,E220=Sprache!$D$21),F220,0)+IF(OR(G220=Sprache!$C$21,G220=Sprache!$D$21),H220,0)","v":0},{"$f":"IF(OR(E220=Sprache!$C$22,E220=Sprache!$D$22),F220,0)+IF(OR(G220=Sprache!$C$22,G220=Sprache!$D$22),H220,0)","v":0},{"$f":"IF(OR(E220=Sprache!$C$23,E220=Sprache!$D$23),F220,0)+IF(OR(G220=Sprache!$C$23,G220=Sprache!$D$23),H220,0)","v":0},{"$f":"IF(OR(E220=Sprache!$C$24,E220=Sprache!$D$24),F220,0)+IF(OR(G220=Sprache!$C$24,G220=Sprache!$D$24),H220,0)","v":0},0,{"$f":"'Formulaire B '!$G$11*I220+'Formulaire B '!$G$11*J220+'Formulaire B '!$G$12*K220+'Formulaire B '!$G$13*L220+'Formulaire B '!$G$14*M220+'Formulaire B '!$G$15*N220","v":0},"",null,null,null,0,null,null,"","",{"$f":"IF(B220<>\"\",HYPERLINK($AC$9&AB220,Sprache!$E$25 &\" \"&B220),\"\")","v":""},null,211,{"$f":"Eingabemeldung(Sprache!$E$18,Sprache!$E$17,'Formulaire C'!E220)","v":""},{"$f":"Eingabemeldung(Sprache!$E$18,Sprache!$E$17,'Formulaire C'!G220)","v":""},false,0,{"$f":"IF(X220<Parameter!$C$4,1,0)","v":0}]
[null,null,null,null,null,null,null,null,{"$f":"IF(OR(E221=Sprache!$C$19,E221=Sprache!$D$19),F221,0)+IF(OR(G221=Sprache!$C$19,G221=Sprache!$D$19),H221,0)","v":0},{"$f":"IF(OR(E221=Sprache!$C$20,E221=Sprache!$D$20),F221,0)+IF(OR(G221=Sprache!$C$20,G221=Sprache!$D$20),H221,0)","v":0},{"$f":"IF(OR(E221=Sprache!$C$21,E221=Sprache!$D$21),F221,0)+IF(OR(G221=Sprache!$C$21,G221=Sprache!$D$21),H221,0)","v":0},{"$f":"IF(OR(E221=Sprache!$C$22,E221=Sprache!$D$22),F221,0)+IF(OR(G221=Sprache!$C$22,G221=Sprache!$D$22),H221,0)","v":0},{"$f":"IF(OR(E221=Sprache!$C$23,E221=Sprache!$D$23),F221,0)+IF(OR(G221=Sprache!$C$23,G221=Sprache!$D$23),H221,0)","v":0},{"$f":"IF(OR(E221=Sprache!$C$24,E221=Sprache!$D$24),F221,0)+IF(OR(G221=Sprache!$C$24,G221=Sprache!$D$24),H221,0)","v":0},0,{"$f":"'Formulaire B '!$G$11*I221+'Formulaire B '!$G$11*J221+'Formulaire B '!$G$12*K221+'Formulaire B '!$G$13*L221+'Formulaire B '!$G$14*M221+'Formulaire B '!$G$15*N221","v":0},"",null,null,null,{"$f":"(F221*S221)+(H221*T221)","v":0},null,null,"","",{"$f":"IF(B221<>\"\",HYPERLINK($AC$9&AB221,Sprache!$E$25 &\" \"&B221),\"\")","v":""},null,212,{"$f":"Eingabemeldung(Sprache!$E$18,Sprache!$E$17,'Formulaire C'!E221)","v":""},{"$f":"Eingabemeldung(Sprache!$E$18,Sprache!$E$17,'Formulaire C'!G221)","v":""},false,0,{"$f":"IF(X221<Parameter!$C$4,1,0)","v":0}]
[null,null,null,null,null,null,null,null,{"$f":"IF(OR(E222=Sprache!$C$19,E222=Sprache!$D$19),F222,0)+IF(OR(G222=Sprache!$C$19,G222=Sprache!$D$19),H222,0)","v":0},{"$f":"IF(OR(E222=Sprache!$C$20,E222=Sprache!$D$20),F222,0)+IF(OR(G222=Sprache!$C$20,G222=Sprache!$D$20),H222,0)","v":0},{"$f":"IF(OR(E222=Sprache!$C$21,E222=Sprache!$D$21),F222,0)+IF(OR(G222=Sprache!$C$21,G222=Sprache!$D$21),H222,0)","v":0},{"$f":"IF(OR(E222=Sprache!$C$22,E222=Sprache!$D$22),F222,0)+IF(OR(G222=Sprache!$C$22,G222=Sprache!$D$22),H222,0)","v":0},{"$f":"IF(OR(E222=Sprache!$C$23,E222=Sprache!$D$23),F222,0)+IF(OR(G222=Sprache!$C$23,G222=Sprache!$D$23),H222,0)","v":0},{"$f":"IF(OR(E222=Sprache!$C$24,E222=Sprache!$D$24),F222,0)+IF(OR(G222=Sprache!$C$24,G222=Sprache!$D$24),H222,0)","v":0},0,{"$f":"'Formulaire B '!$G$11*I222+'Formulaire B '!$G$11*J222+'Formulaire B '!$G$12*K222+'Formulaire B '!$G$13*L222+'Formulaire B '!$G$14*M222+'Formulaire B '!$G$15*N222","v":0},"",null,null,null,0,null,null,"","",{"$f":"IF(B222<>\"\",HYPERLINK($AC$9&AB222,Sprache!$E$25 &\" \"&B222),\"\")","v":""},null,213,{"$f":"Eingabemeldung(Sprache!$E$18,Sprache!$E$17,'Formulaire C'!E222)","v":""},{"$f":"Eingabemeldung(Sprache!$E$18,Sprache!$E$17,'Formulaire C'!G222)","v":""},false,0,{"$f":"IF(X222<Parameter!$C$4,1,0)","v":0}]
[null,null,null,null,null,null,null,null,{"$f":"IF(OR(E223=Sprache!$C$19,E223=Sprache!$D$19),F223,0)+IF(OR(G223=Sprache!$C$19,G223=Sprache!$D$19),H223,0)","v":0},{"$f":"IF(OR(E223=Sprache!$C$20,E223=Sprache!$D$20),F223,0)+IF(OR(G223=Sprache!$C$20,G223=Sprache!$D$20),H223,0)","v":0},{"$f":"IF(OR(E223=Sprache!$C$21,E223=Sprache!$D$21),F223,0)+IF(OR(G223=Sprache!$C$21,G223=Sprache!$D$21),H223,0)","v":0},{"$f":"IF(OR(E223=Sprache!$C$22,E223=Sprache!$D$22),F223,0)+IF(OR(G223=Sprache!$C$22,G223=Sprache!$D$22),H223,0)","v":0},{"$f":"IF(OR(E223=Sprache!$C$23,E223=Sprache!$D$23),F223,0)+IF(OR(G223=Sprache!$C$23,G223=Sprache!$D$23),H223,0)","v":0},{"$f":"IF(OR(E223=Sprache!$C$24,E223=Sprache!$D$24),F223,0)+IF(OR(G223=Sprache!$C$24,G223=Sprache!$D$24),H223,0)","v":0},0,{"$f":"'Formulaire B '!$G$11*I223+'Formulaire B '!$G$11*J223+'Formulaire B '!$G$12*K223+'Formulaire B '!$G$13*L223+'Formulaire B '!$G$14*M223+'Formulaire B '!$G$15*N223","v":0},"",null,null,null,0,null,null,"","",{"$f":"IF(B223<>\"\",HYPERLINK($AC$9&AB223,Sprache!$E$25 &\" \"&B223),\"\")","v":""},null,214,{"$f":"Eingabemeldung(Sprache!$E$18,Sprache!$E$17,'Formulaire C'!E223)","v":""},{"$f":"Eingabemeldung(Sprache!$E$18,Sprache!$E$17,'Formulaire C'!G223)","v":""},false,0,{"$f":"IF(X223<Parameter!$C$4,1,0)","v":0}]
[null,null,null,null,null,null,null,null,{"$f":"IF(OR(E224=Sprache!$C$19,E224=Sprache!$D$19),F224,0)+IF(OR(G224=Sprache!$C$19,G224=Sprache!$D$19),H224,0)","v":0},{"$f":"IF(OR(E224=Sprache!$C$20,E224=Sprache!$D$20),F224,0)+IF(OR(G224=Sprache!$C$20,G224=Sprache!$D$20),H224,0)","v":0},{"$f":"IF(OR(E224=Sprache!$C$21,E224=Sprache!$D$21),F224,0)+IF(OR(G224=Sprache!$C$21,G224=Sprache!$D$21),H224,0)","v":0},{"$f":"IF(OR(E224=Sprache!$C$22,E224=Sprache!$D$22),F224,0)+IF(OR(G224=Sprache!$C$22,G224=Sprache!$D$22),H224,0)","v":0},{"$f":"IF(OR(E224=Sprache!$C$23,E224=Sprache!$D$23),F224,0)+IF(OR(G224=Sprache!$C$23,G224=Sprache!$D$23),H224,0)","v":0},{"$f":"IF(OR(E224=Sprache!$C$24,E224=Sprache!$D$24),F224,0)+IF(OR(G224=Sprache!$C$24,G224=Sprache!$D$24),H224,0)","v":0},0,{"$f":"'Formulaire B '!$G$11*I224+'Formulaire B '!$G$11*J224+'Formulaire B '!$G$12*K224+'Formulaire B '!$G$13*L224+'Formulaire B '!$G$14*M224+'Formulaire B '!$G$15*N224","v":0},"",null,null,null,0,null,null,"","",{"$f":"IF(B224<>\"\",HYPERLINK($AC$9&AB224,Sprache!$E$25 &\" \"&B224),\"\")","v":""},null,215,{"$f":"Eingabemeldung(Sprache!$E$18,Sprache!$E$17,'Formulaire C'!E224)","v":""},{"$f":"Eingabemeldung(Sprache!$E$18,Sprache!$E$17,'Formulaire C'!G224)","v":""},false,0,{"$f":"IF(X224<Parameter!$C$4,1,0)","v":0}]
[null,null,null,null,null,null,null,null,{"$f":"IF(OR(E225=Sprache!$C$19,E225=Sprache!$D$19),F225,0)+IF(OR(G225=Sprache!$C$19,G225=Sprache!$D$19),H225,0)","v":0},{"$f":"IF(OR(E225=Sprache!$C$20,E225=Sprache!$D$20),F225,0)+IF(OR(G225=Sprache!$C$20,G225=Sprache!$D$20),H225,0)","v":0},{"$f":"IF(OR(E225=Sprache!$C$21,E225=Sprache!$D$21),F225,0)+IF(OR(G225=Sprache!$C$21,G225=Sprache!$D$21),H225,0)","v":0},{"$f":"IF(OR(E225=Sprache!$C$22,E225=Sprache!$D$22),F225,0)+IF(OR(G225=Sprache!$C$22,G225=Sprache!$D$22),H225,0)","v":0},{"$f":"IF(OR(E225=Sprache!$C$23,E225=Sprache!$D$23),F225,0)+IF(OR(G225=Sprache!$C$23,G225=Sprache!$D$23),H225,0)","v":0},{"$f":"IF(OR(E225=Sprache!$C$24,E225=Sprache!$D$24),F225,0)+IF(OR(G225=Sprache!$C$24,G225=Sprache!$D$24),H225,0)","v":0},0,{"$f":"'Formulaire B '!$G$11*I225+'Formulaire B '!$G$11*J225+'Formulaire B '!$G$12*K225+'Formulaire B '!$G$13*L225+'Formulaire B '!$G$14*M225+'Formulaire B '!$G$15*N225","v":0},"",null,null,null,0,null,null,"","",{"$f":"IF(B225<>\"\",HYPERLINK($AC$9&AB225,Sprache!$E$25 &\" \"&B225),\"\")","v":""},null,216,{"$f":"Eingabemeldung(Sprache!$E$18,Sprache!$E$17,'Formulaire C'!E225)","v":""},{"$f":"Eingabemeldung(Sprache!$E$18,Sprache!$E$17,'Formulaire C'!G225)","v":""},false,0,{"$f":"IF(X225<Parameter!$C$4,1,0)","v":0}]
[null,null,null,null,null,null,null,null,null,null,null,null,null,null,null,null,null,null,null,null,null,null,null,null,null,null,null,217]
[null,{"$f":"Sprache!E174","v":"Somme de toutes les nouvelles MA possibles à partir de l’année initiale "},null,null,null,null,null,null,{"$f":"SUM(I23:I123,I125:I225)","v":0},{"$f":"SUM(J23:J123,J125:J225)","v":0},0,0,0,0,0,0,0,null,null,null,null,null,null,null,null,null,null,null,null,"kein Jahr für eine Massnahme in ZV?",null,null,{"$f":"SUM((1=(AF23:AF226))*(FALSE=(AE23:AE226)))","v":0}]
[null,{"$f":"Sprache!E175","v":"Somme de toutes les MA prises en compte dans la CO et prévues"},null,null,null,null,null,null,{"$f":"SUM(($AE$23:$AE$225)*($AF$23:$AF$225)*(I23:I225))","v":0},{"$f":"SUM(($AE$23:$AE$225)*($AF$23:$AF$225)*(J23:J225))","v":0},{"$f":"SUM(($AE$23:$AE$225)*($AF$23:$AF$225)*(K23:K225))","v":0},{"$f":"SUM(($AE$23:$AE$225)*($AF$23:$AF$225)*(L23:L225))","v":0},{"$f":"SUM(($AE$23:$AE$225)*($AF$23:$AF$225)*(M23:M225))","v":0},{"$f":"SUM(($AE$23:$AE$225)*($AF$23:$AF$225)*(N23:N225))","v":0},{"$f":"SUM(($AE$23:$AE$225)*($AF$23:$AF$225)*(O23:O225))","v":0},{"$f":"SUM(($AE$23:$AE$225)*($AF$23:$AF$225)*(P23:P225))","v":0},{"$f":"IFERROR(SUM(($AE$23:$AE$225)*($AF$23:$AF$225)*(Q23:Q225)),\"\")","v":""},null,null,null,null,null,null,null,null,null,null,null,null,"Eine wirtschaftlichen nicht in ZV?",null,null,{"$f":"SUM((1=(AG23:AG226))*(0=(AF23:AF226)))","v":0}]
[null,null,null,null,null,null,null,null,null,null,null,null,null,null,null,null,null,null,null,null,null,null,null,null,null,null,null,null,null,"Richtwert erreicht?",null,null,{"$f":"IFERROR(IF(ROUND(Q228*100,1)>=Parameter!C6,1,0),0)","v":0}]
[null,{"$f":"IF(AG228=1,Sprache!E177,Sprache!E176)","v":"Commentaire concernant l’annonce des mesures d’amélioration à mettre en œuvre (facultatif):"},null,null,null,null,null,null,null,null,null,null,null,null,null,null,null,null,null,null,null,null,null,null,null,null,null,null,null,"Alles ok und Richtwert erreicht?",null,null,{"$f":"AG229","v":0}]
[]
[null,{"$f":"IF(AG229=1,Sprache!E178,Sprache!E179)","v":"Expliquer pour quelles raisons le résultat de 20 % ne peut pas être atteint:"}]
[]
[]
[null,{"$f":"Sprache!E180","v":"C.2 Liste des mesures qui remontent dans le temps jusqu’à 5 ans, année de référence comprise"}]
[]
[null,{"$f":"Sprache!E181","v":"Achat annuel d’énergie en 2014 normé DJ, pondéré"},null,null,null,null,null,{"$f":"'Formulaire B '!K50","v":0},null,null,null,null,null,null,null," kWh/a"]
[null,{"$f":"Sprache!E182","v":"Achat annuel d’énergie de l’année cible normé DJ, pondéré"},null,null,null,null,null,{"$f":"'Formulaire B '!L50","v":0},null,null,null,null,null,null,{"$f":"'Formulaire B '!L50","v":0}," kWh/a"]
[null,{"$f":"Sprache!E183","v":"- Indiquez les MA mises en œuvre seulement si les nouvelles MA à mettre en œuvre ne permettent pas d’atteindre le résultat indicatif de 20 %."}]
[null,{"$f":"Sprache!E184","v":".- Si le résultat indicatif de 20 % n’est pas atteint même compte tenu des MA mises en œuvre les 5 dernières années, indiquez-en aussi la raison."}]
[null,{"$f":"Sprache!E147","v":"5) Les économies en pourcentage sont calculées par rapport à la consommation prévue de l’année cible."}]
[null,{"$f":"Sprache!E148","v":"6) Les mesures d’amélioration peuvent remonter dans le temps jusqu’à 5 ans maximum. L’année de référence est alors l’année la plus récente des cinq et l’année initiale est alors l’année qui précède l’année la plus ancienne de mise en œuvre des mesures d’amélioration."}]
[]
[null,{"$f":"B17","v":"N°"},{"$f":"C17","v":"Brève description"},null,{"$f":"E17","v":"Économie d’énergie (énergie finale) "},null,null,null,null,null,null,null,null,null,null,null,null,{"$f":"Sprache!E185","v":"Mise en œuvre "},{"$f":"S17","v":"Prix de l’énergie "},null,{"$f":"U17","v":"Écon. (coûts)"},{"$f":"V17","v":"Investiss."},null,{"$f":"Sprache!E186","v":"RSI"}]
[null,null,null,null,{"$f":"E18","v":"Non pondéré"},null,null,null,null,null,null,null,null,null,null,{"$f":"P18","v":"Pondéré"},null,null,{"$f":"S18","v":"(Énergie finale)"}]
[null,{"$f":"Sprache!E187","v":"Indications d’emploi : l’introduction de texte dans la dernière ligne de chaque catégorie entraîne l’ajout d’une nouvelle ligne."},null,null,{"$f":"E19","v":"Économie 1"},null,{"$f":"G19","v":"Économie 2"},null,"Heizöl","Erdgas","Fern-\nwärme","Holz, Bio-\nmasse","Weitere\nBrennst.","Elektr.\nEnergie",{"$f":"O19","v":"Total"},{"$f":"P19","v":"Total"},{"$f":"LEFT(Q19,LEN(Q19)-2)&\"⁵⁾\"","v":"%⁵⁾"},{"$f":"LEFT(R19,LEN(R19)-2)&\"⁶⁾\"","v":"année⁶⁾"},{"$f":"S19","v":"Écon. 1"},{"$f":"T19","v":"Écon. 2"},{"$f":"U19","v":"Total"},{"$f":"V19","v":"Total"},{"$f":"LEFT(W19,LEN(W19)-2)","v":"%E"}]
[null,null,null,null,{"$f":"E20","v":"G."},"[kWh/a]",{"$f":"G20","v":"G."},"[kWh/a]",null,null,null,null,null,null,"[kWh/a]","[kWh/a]","[-]","[a]","[Fr./kWh]","[Fr./kWh]","[Fr./a]","[Fr.]","[-]","[a]"]
[null,null,null,null,null,"c",null,"d",null,null,null,null,null,null,"c+d",null,null,null,"f","g","h=c*f+d*g","i","k","i*k/h"]
[null,{"$f":"IF(AND(AG229=0,B233=\"\"),Sprache!E188,IF(AG229=1,Sprache!E189,Sprache!E190))","v":"Champs de saisie bloqués: complétez le point C.1!"},null,null,null,null,null,null,null,null,null,null,null,null,null,null,null,null,null,null,null,null,null,null,null,null,null,null,"Eingabemeldung",null,"Jahr?"]
[null,null,null,null,null,null,null,null,{"$f":"IF(OR(E250=Sprache!$C$19,E250=Sprache!$D$19),F250,0)+IF(OR(G250=Sprache!$C$19,G250=Sprache!$D$19),H250,0)","v":0},{"$f":"IF(OR(E250=Sprache!$C$20,E250=Sprache!$D$20),F250,0)+IF(OR(G250=Sprache!$C$20,G250=Sprache!$D$20),H250,0)","v":0},{"$f":"IF(OR(E250=Sprache!$C$21,E250=Sprache!$D$21),F250,0)+IF(OR(G250=Sprache!$C$21,G250=Sprache!$D$21),H250,0)","v":0},{"$f":"IF(OR(E250=Sprache!$C$22,E250=Sprache!$D$22),F250,0)+IF(OR(G250=Sprache!$C$22,G250=Sprache!$D$22),H250,0)","v":0},{"$f":"IF(OR(E250=Sprache!$C$23,E250=Sprache!$D$23),F250,0)+IF(OR(G250=Sprache!$C$23,G250=Sprache!$D$23),H250,0)","v":0},{"$f":"IF(OR(E250=Sprache!$C$24,E250=Sprache!$D$24),F250,0)+IF(OR(G250=Sprache!$C$24,G250=Sprache!$D$24),H250,0)","v":0},{"$f":"F250+H250","v":0},{"$f":"'Formulaire B '!$G$11*I250+'Formulaire B '!$G$11*J250+'Formulaire B '!$G$12*K250+'Formulaire B '!$G$13*L250+'Formulaire B '!$G$14*M250+'Formulaire B '!$G$15*N250","v":0},{"$f":"IFERROR(P250/$H$237,\"\")","v":""},null,null,null,{"$f":"(F250*S250)+(H250*T250)","v":0},null,null,{"$f":"IF(U250=0, \"\",V250*W250/U250)","v":""},null,{"$f":"IF(B250<>\"\",HYPERLINK($AC$9&AB250,Sprache!$E$25 &\" \"&B250),\"\")","v":""},null,240,{"$f":"Eingabemeldung(Sprache!$E$18,Sprache!$E$17,'Formulaire C'!E250)","v":""},{"$f":"Eingabemeldung(Sprache!$E$18,Sprache!$E$17,'Formulaire C'!G250)","v":""},{"$f":"ISNUMBER(R250)","v":false}]
[null,null,null,null,null,null,null,null,{"$f":"IF(OR(E251=Sprache!$C$19,E251=Sprache!$D$19),F251,0)+IF(OR(G251=Sprache!$C$19,G251=Sprache!$D$19),H251,0)","v":0},{"$f":"IF(OR(E251=Sprache!$C$20,E251=Sprache!$D$20),F251,0)+IF(OR(G251=Sprache!$C$20,G251=Sprache!$D$20),H251,0)","v":0},{"$f":"IF(OR(E251=Sprache!$C$21,E251=Sprache!$D$21),F251,0)+IF(OR(G251=Sprache!$C$21,G251=Sprache!$D$21),H251,0)","v":0},{"$f":"IF(OR(E251=Sprache!$C$22,E251=Sprache!$D$22),F251,0)+IF(OR(G251=Sprache!$C$22,G251=Sprache!$D$22),H251,0)","v":0},{"$f":"IF(OR(E251=Sprache!$C$23,E251=Sprache!$D$23),F251,0)+IF(OR(G251=Sprache!$C$23,G251=Sprache!$D$23),H251,0)","v":0},{"$f":"IF(OR(E251=Sprache!$C$24,E251=Sprache!$D$24),F251,0)+IF(OR(G251=Sprache!$C$24,G251=Sprache!$D$24),H251,0)","v":0},0,{"$f":"'Formulaire B '!$G$11*I251+'Formulaire B '!$G$11*J251+'Formulaire B '!$G$12*K251+'Formulaire B '!$G$13*L251+'Formulaire B '!$G$14*M251+'Formulaire B '!$G$15*N251","v":0},{"$f":"IFERROR(P251/$H$237,\"\")","v":""},null,null,null,0,null,null,{"$f":"IF(U251=0, \"\",V251*W251/U251)","v":""},null,{"$f":"IF(B251<>\"\",HYPERLINK($AC$9&AB251,Sprache!$E$25 &\" \"&B251),\"\")","v":""},null,241,{"$f":"Eingabemeldung(Sprache!$E$18,Sprache!$E$17,'Formulaire C'!E251)","v":""},{"$f":"Eingabemeldung(Sprache!$E$18,Sprache!$E$17,'Formulaire C'!G251)","v":""},false]
[null,null,null,null,null,null,null,null,{"$f":"IF(OR(E252=Sprache!$C$19,E252=Sprache!$D$19),F252,0)+IF(OR(G252=Sprache!$C$19,G252=Sprache!$D$19),H252,0)","v":0},{"$f":"IF(OR(E252=Sprache!$C$20,E252=Sprache!$D$20),F252,0)+IF(OR(G252=Sprache!$C$20,G252=Sprache!$D$20),H252,0)","v":0},{"$f":"IF(OR(E252=Sprache!$C$21,E252=Sprache!$D$21),F252,0)+IF(OR(G252=Sprache!$C$21,G252=Sprache!$D$21),H252,0)","v":0},{"$f":"IF(OR(E252=Sprache!$C$22,E252=Sprache!$D$22),F252,0)+IF(OR(G252=Sprache!$C$22,G252=Sprache!$D$22),H252,0)","v":0},{"$f":"IF(OR(E252=Sprache!$C$23,E252=Sprache!$D$23),F252,0)+IF(OR(G252=Sprache!$C$23,G252=Sprache!$D$23),H252,0)","v":0},{"$f":"IF(OR(E252=Sprache!$C$24,E252=Sprache!$D$24),F252,0)+IF(OR(G252=Sprache!$C$24,G252=Sprache!$D$24),H252,0)","v":0},0,{"$f":"'Formulaire B '!$G$11*I252+'Formulaire B '!$G$11*J252+'Formulaire B '!$G$12*K252+'Formulaire B '!$G$13*L252+'Formulaire B '!$G$14*M252+'Formulaire B '!$G$15*N252","v":0},"",null,null,null,0,null,null,"",null,{"$f":"IF(B252<>\"\",HYPERLINK($AC$9&AB252,Sprache!$E$25 &\" \"&B252),\"\")","v":""},null,242,{"$f":"Eingabemeldung(Sprache!$E$18,Sprache!$E$17,'Formulaire C'!E252)","v":""},{"$f":"Eingabemeldung(Sprache!$E$18,Sprache!$E$17,'Formulaire C'!G252)","v":""},false]
[null,null,null,null,null,null,null,null,{"$f":"IF(OR(E253=Sprache!$C$19,E253=Sprache!$D$19),F253,0)+IF(OR(G253=Sprache!$C$19,G253=Sprache!$D$19),H253,0)","v":0},{"$f":"IF(OR(E253=Sprache!$C$20,E253=Sprache!$D$20),F253,0)+IF(OR(G253=Sprache!$C$20,G253=Sprache!$D$20),H253,0)","v":0},{"$f":"IF(OR(E253=Sprache!$C$21,E253=Sprache!$D$21),F253,0)+IF(OR(G253=Sprache!$C$21,G253=Sprache!$D$21),H253,0)","v":0},{"$f":"IF(OR(E253=Sprache!$C$22,E253=Sprache!$D$22),F253,0)+IF(OR(G253=Sprache!$C$22,G253=Sprache!$D$22),H253,0)","v":0},{"$f":"IF(OR(E253=Sprache!$C$23,E253=Sprache!$D$23),F253,0)+IF(OR(G253=Sprache!$C$23,G253=Sprache!$D$23),H253,0)","v":0},{"$f":"IF(OR(E253=Sprache!$C$24,E253=Sprache!$D$24),F253,0)+IF(OR(G253=Sprache!$C$24,G253=Sprache!$D$24),H253,0)","v":0},0,{"$f":"'Formulaire B '!$G$11*I253+'Formulaire B '!$G$11*J253+'Formulaire B '!$G$12*K253+'Formulaire B '!$G$13*L253+'Formulaire B '!$G$14*M253+'Formulaire B '!$G$15*N253","v":0},"",null,null,null,{"$f":"(F253*S253)+(H253*T253)","v":0},null,null,"",null,{"$f":"IF(B253<>\"\",HYPERLINK($AC$9&AB253,Sprache!$E$25 &\" \"&B253),\"\")","v":""},null,243,{"$f":"Eingabemeldung(Sprache!$E$18,Sprache!$E$17,'Formulaire C'!E253)","v":""},{"$f":"Eingabemeldung(Sprache!$E$18,Sprache!$E$17,'Formulaire C'!G253)","v":""},false]
[null,null,null,null,null,null,null,null,{"$f":"IF(OR(E254=Sprache!$C$19,E254=Sprache!$D$19),F254,0)+IF(OR(G254=Sprache!$C$19,G254=Sprache!$D$19),H254,0)","v":0},{"$f":"IF(OR(E254=Sprache!$C$20,E254=Sprache!$D$20),F254,0)+IF(OR(G254=Sprache!$C$20,G254=Sprache!$D$20),H254,0)","v":0},{"$f":"IF(OR(E254=Sprache!$C$21,E254=Sprache!$D$21),F254,0)+IF(OR(G254=Sprache!$C$21,G254=Sprache!$D$21),H254,0)","v":0},{"$f":"IF(OR(E254=Sprache!$C$22,E254=Sprache!$D$22),F254,0)+IF(OR(G254=Sprache!$C$22,G254=Sprache!$D$22),H254,0)","v":0},{"$f":"IF(OR(E254=Sprache!$C$23,E254=Sprache!$D$23),F254,0)+IF(OR(G254=Sprache!$C$23,G254=Sprache!$D$23),H254,0)","v":0},{"$f":"IF(OR(E254=Sprache!$C$24,E254=Sprache!$D$24),F254,0)+IF(OR(G254=Sprache!$C$24,G254=Sprache!$D$24),H254,0)","v":0},0,{"$f":"'Formulaire B '!$G$11*I254+'Formulaire B '!$G$11*J254+'Formulaire B '!$G$12*K254+'Formulaire B '!$G$13*L254+'Formulaire B '!$G$14*M254+'Formulaire B '!$G$15*N254","v":0},"",null,null,null,0,null,null,"",null,{"$f":"IF(B254<>\"\",HYPERLINK($AC$9&AB254,Sprache!$E$25 &\" \"&B254),\"\")","v":""},null,244,{"$f":"Eingabemeldung(Sprache!$E$18,Sprache!$E$17,'Formulaire C'!E254)","v":""},{"$f":"Eingabemeldung(Sprache!$E$18,Sprache!$E$17,'Formulaire C'!G254)","v":""},false]
[null,null,null,null,null,null,null,null,{"$f":"IF(OR(E255=Sprache!$C$19,E255=Sprache!$D$19),F255,0)+IF(OR(G255=Sprache!$C$19,G255=Sprache!$D$19),H255,0)","v":0},{"$f":"IF(OR(E255=Sprache!$C$20,E255=Sprache!$D$20),F255,0)+IF(OR(G255=Sprache!$C$20,G255=Sprache!$D$20),H255,0)","v":0},{"$f":"IF(OR(E255=Sprache!$C$21,E255=Sprache!$D$21),F255,0)+IF(OR(G255=Sprache!$C$21,G255=Sprache!$D$21),H255,0)","v":0},{"$f":"IF(OR(E255=Sprache!$C$22,E255=Sprache!$D$22),F255,0)+IF(OR(G255=Sprache!$C$22,G255=Sprache!$D$22),H255,0)","v":0},{"$f":"IF(OR(E255=Sprache!$C$23,E255=Sprache!$D$23),F255,0)+IF(OR(G255=Sprache!$C$23,G255=Sprache!$D$23),H255,0)","v":0},{"$f":"IF(OR(E255=Sprache!$C$24,E255=Sprache!$D$24),F255,0)+IF(OR(G255=Sprache!$C$24,G255=Sprache!$D$24),H255,0)","v":0},0,{"$f":"'Formulaire B '!$G$11*I255+'Formulaire B '!$G$11*J255+'Formulaire B '!$G$12*K255+'Formulaire B '!$G$13*L255+'Formulaire B '!$G$14*M255+'Formulaire B '!$G$15*N255","v":0},"",null,null,null,0,null,null,"",null,{"$f":"IF(B255<>\"\",HYPERLINK($AC$9&AB255,Sprache!$E$25 &\" \"&B255),\"\")","v":""},null,245,{"$f":"Eingabemeldung(Sprache!$E$18,Sprache!$E$17,'Formulaire C'!E255)","v":""},{"$f":"Eingabemeldung(Sprache!$E$18,Sprache!$E$17,'Formulaire C'!G255)","v":""},false,{"$f":"IF(Y255=\"X\",1,0)","v":0},{"$f":"IF(X255<Parameter!$C$4,1,0)","v":0}]
[null,null,null,null,null,null,null,null,{"$f":"IF(OR(E256=Sprache!$C$19,E256=Sprache!$D$19),F256,0)+IF(OR(G256=Sprache!$C$19,G256=Sprache!$D$19),H256,0)","v":0},{"$f":"IF(OR(E256=Sprache!$C$20,E256=Sprache!$D$20),F256,0)+IF(OR(G256=Sprache!$C$20,G256=Sprache!$D$20),H256,0)","v":0},{"$f":"IF(OR(E256=Sprache!$C$21,E256=Sprache!$D$21),F256,0)+IF(OR(G256=Sprache!$C$21,G256=Sprache!$D$21),H256,0)","v":0},{"$f":"IF(OR(E256=Sprache!$C$22,E256=Sprache!$D$22),F256,0)+IF(OR(G256=Sprache!$C$22,G256=Sprache!$D$22),H256,0)","v":0},{"$f":"IF(OR(E256=Sprache!$C$23,E256=Sprache!$D$23),F256,0)+IF(OR(G256=Sprache!$C$23,G256=Sprache!$D$23),H256,0)","v":0},{"$f":"IF(OR(E256=Sprache!$C$24,E256=Sprache!$D$24),F256,0)+IF(OR(G256=Sprache!$C$24,G256=Sprache!$D$24),H256,0)","v":0},0,{"$f":"'Formulaire B '!$G$11*I256+'Formulaire B '!$G$11*J256+'Formulaire B '!$G$12*K256+'Formulaire B '!$G$13*L256+'Formulaire B '!$G$14*M256+'Formulaire B '!$G$15*N256","v":0},"",null,null,null,0,null,null,"",null,{"$f":"IF(B256<>\"\",HYPERLINK($AC$9&AB256,Sprache!$E$25 &\" \"&B256),\"\")","v":""},null,246,{"$f":"Eingabemeldung(Sprache!$E$18,Sprache!$E$17,'Formulaire C'!E256)","v":""},{"$f":"Eingabemeldung(Sprache!$E$18,Sprache!$E$17,'Formulaire C'!G256)","v":""},false,0,{"$f":"IF(X256<Parameter!$C$4,1,0)","v":0}]
[null,null,null,null,null,null,null,null,{"$f":"IF(OR(E257=Sprache!$C$19,E257=Sprache!$D$19),F257,0)+IF(OR(G257=Sprache!$C$19,G257=Sprache!$D$19),H257,0)","v":0},{"$f":"IF(OR(E257=Sprache!$C$20,E257=Sprache!$D$20),F257,0)+IF(OR(G257=Sprache!$C$20,G257=Sprache!$D$20),H257,0)","v":0},{"$f":"IF(OR(E257=Sprache!$C$21,E257=Sprache!$D$21),F257,0)+IF(OR(G257=Sprache!$C$21,G257=Sprache!$D$21),H257,0)","v":0},{"$f":"IF(OR(E257=Sprache!$C$22,E257=Sprache!$D$22),F257,0)+IF(OR(G257=Sprache!$C$22,G257=Sprache!$D$22),H257,0)","v":0},{"$f":"IF(OR(E257=Sprache!$C$23,E257=Sprache!$D$23),F257,0)+IF(OR(G257=Sprache!$C$23,G257=Sprache!$D$23),H257,0)","v":0},{"$f":"IF(OR(E257=Sprache!$C$24,E257=Sprache!$D$24),F257,0)+IF(OR(G257=Sprache!$C$24,G257=Sprache!$D$24),H257,0)","v":0},0,{"$f":"'Formulaire B '!$G$11*I257+'Formulaire B '!$G$11*J257+'Formulaire B '!$G$12*K257+'Formulaire B '!$G$13*L257+'Formulaire B '!$G$14*M257+'Formulaire B '!$G$15*N257","v":0},"",null,null,null,0,null,null,"",null,{"$f":"IF(B257<>\"\",HYPERLINK($AC$9&AB257,Sprache!$E$25 &\" \"&B257),\"\")","v":""},null,247,{"$f":"Eingabemeldung(Sprache!$E$18,Sprache!$E$17,'Formulaire C'!E257)","v":""},{"$f":"Eingabemeldung(Sprache!$E$18,Sprache!$E$17,'Formulaire C'!G257)","v":""},false,0,{"$f":"IF(X257<Parameter!$C$4,1,0)","v":0}]
[null,null,null,null,null,null,null,null,{"$f":"IF(OR(E258=Sprache!$C$19,E258=Sprache!$D$19),F258,0)+IF(OR(G258=Sprache!$C$19,G258=Sprache!$D$19),H258,0)","v":0},{"$f":"IF(OR(E258=Sprache!$C$20,E258=Sprache!$D$20),F258,0)+IF(OR(G258=Sprache!$C$20,G258=Sprache!$D$20),H258,0)","v":0},{"$f":"IF(OR(E258=Sprache!$C$21,E258=Sprache!$D$21),F258,0)+IF(OR(G258=Sprache!$C$21,G258=Sprache!$D$21),H258,0)","v":0},{"$f":"IF(OR(E258=Sprache!$C$22,E258=Sprache!$D$22),F258,0)+IF(OR(G258=Sprache!$C$22,G258=Sprache!$D$22),H258,0)","v":0},{"$f":"IF(OR(E258=Sprache!$C$23,E258=Sprache!$D$23),F258,0)+IF(OR(G258=Sprache!$C$23,G258=Sprache!$D$23),H258,0)","v":0},{"$f":"IF(OR(E258=Sprache!$C$24,E258=Sprache!$D$24),F258,0)+IF(OR(G258=Sprache!$C$24,G258=Sprache!$D$24),H258,0)","v":0},0,{"$f":"'Formulaire B '!$G$11*I258+'Formulaire B '!$G$11*J258+'Formulaire B '!$G$12*K258+'Formulaire B '!$G$13*L258+'Formulaire B '!$G$14*M258+'Formulaire B '!$G$15*N258","v":0},"",null,null,null,0,null,null,"",null,{"$f":"IF(B258<>\"\",HYPERLINK($AC$9&AB258,Sprache!$E$25 &\" \"&B258),\"\")","v":""},null,248,{"$f":"Eingabemeldung(Sprache!$E$18,Sprache!$E$17,'Formulaire C'!E258)","v":""},{"$f":"Eingabemeldung(Sprache!$E$18,Sprache!$E$17,'Formulaire C'!G258)","v":""},false,0,{"$f":"IF(X258<Parameter!$C$4,1,0)","v":0}]
[null,null,null,null,null,null,null,null,{"$f":"IF(OR(E259=Sprache!$C$19,E259=Sprache!$D$19),F259,0)+IF(OR(G259=Sprache!$C$19,G259=Sprache!$D$19),H259,0)","v":0},{"$f":"IF(OR(E259=Sprache!$C$20,E259=Sprache!$D$20),F259,0)+IF(OR(G259=Sprache!$C$20,G259=Sprache!$D$20),H259,0)","v":0},{"$f":"IF(OR(E259=Sprache!$C$21,E259=Sprache!$D$21),F259,0)+IF(OR(G259=Sprache!$C$21,G259=Sprache!$D$21),H259,0)","v":0},{"$f":"IF(OR(E259=Sprache!$C$22,E259=Sprache!$D$22),F259,0)+IF(OR(G259=Sprache!$C$22,G259=Sprache!$D$22),H259,0)","v":0},{"$f":"IF(OR(E259=Sprache!$C$23,E259=Sprache!$D$23),F259,0)+IF(OR(G259=Sprache!$C$23,G259=Sprache!$D$23),H259,0)","v":0},{"$f":"IF(OR(E259=Sprache!$C$24,E259=Sprache!$D$24),F259,0)+IF(OR(G259=Sprache!$C$24,G259=Sprache!$D$24),H259,0)","v":0},0,{"$f":"'Formulaire B '!$G$11*I259+'Formulaire B '!$G$11*J259+'Formulaire B '!$G$12*K259+'Formulaire B '!$G$13*L259+'Formulaire B '!$G$14*M259+'Formulaire B '!$G$15*N259","v":0},"",null,null,null,0,null,null,"",null,{"$f":"IF(B259<>\"\",HYPERLINK($AC$9&AB259,Sprache!$E$25 &\" \"&B259),\"\")","v":""},null,249,{"$f":"Eingabemeldung(Sprache!$E$18,Sprache!$E$17,'Formulaire C'!E259)","v":""},{"$f":"Eingabemeldung(Sprache!$E$18,Sprache!$E$17,'Formulaire C'!G259)","v":""},false,0,{"$f":"IF(X259<Parameter!$C$4,1,0)","v":0}]
[null,null,null,null,null,null,null,null,{"$f":"IF(OR(E260=Sprache!$C$19,E260=Sprache!$D$19),F260,0)+IF(OR(G260=Sprache!$C$19,G260=Sprache!$D$19),H260,0)","v":0},{"$f":"IF(OR(E260=Sprache!$C$20,E260=Sprache!$D$20),F260,0)+IF(OR(G260=Sprache!$C$20,G260=Sprache!$D$20),H260,0)","v":0},{"$f":"IF(OR(E260=Sprache!$C$21,E260=Sprache!$D$21),F260,0)+IF(OR(G260=Sprache!$C$21,G260=Sprache!$D$21),H260,0)","v":0},{"$f":"IF(OR(E260=Sprache!$C$22,E260=Sprache!$D$22),F260,0)+IF(OR(G260=Sprache!$C$22,G260=Sprache!$D$22),H260,0)","v":0},{"$f":"IF(OR(E260=Sprache!$C$23,E260=Sprache!$D$23),F260,0)+IF(OR(G260=Sprache!$C$23,G260=Sprache!$D$23),H260,0)","v":0},{"$f":"IF(OR(E260=Sprache!$C$24,E260=Sprache!$D$24),F260,0)+IF(OR(G260=Sprache!$C$24,G260=Sprache!$D$24),H260,0)","v":0},0,{"$f":"'Formulaire B '!$G$11*I260+'Formulaire B '!$G$11*J260+'Formulaire B '!$G$12*K260+'Formulaire B '!$G$13*L260+'Formulaire B '!$G$14*M260+'Formulaire B '!$G$15*N260","v":0},"",null,null,null,0,null,null,"",null,{"$f":"IF(B260<>\"\",HYPERLINK($AC$9&AB260,Sprache!$E$25 &\" \"&B260),\"\")","v":""},null,250,{"$f":"Eingabemeldung(Sprache!$E$18,Sprache!$E$17,'Formulaire C'!E260)","v":""},{"$f":"Eingabemeldung(Sprache!$E$18,Sprache!$E$17,'Formulaire C'!G260)","v":""},false,0,{"$f":"IF(X260<Parameter!$C$4,1,0)","v":0}]
[null,null,null,null,null,null,null,null,{"$f":"IF(OR(E261=Sprache!$C$19,E261=Sprache!$D$19),F261,0)+IF(OR(G261=Sprache!$C$19,G261=Sprache!$D$19),H261,0)","v":0},{"$f":"IF(OR(E261=Sprache!$C$20,E261=Sprache!$D$20),F261,0)+IF(OR(G261=Sprache!$C$20,G261=Sprache!$D$20),H261,0)","v":0},{"$f":"IF(OR(E261=Sprache!$C$21,E261=Sprache!$D$21),F261,0)+IF(OR(G261=Sprache!$C$21,G261=Sprache!$D$21),H261,0)","v":0},{"$f":"IF(OR(E261=Sprache!$C$22,E261=Sprache!$D$22),F261,0)+IF(OR(G261=Sprache!$C$22,G261=Sprache!$D$22),H261,0)","v":0},{"$f":"IF(OR(E261=Sprache!$C$23,E261=Sprache!$D$23),F261,0)+IF(OR(G261=Sprache!$C$23,G261=Sprache!$D$23),H261,0)","v":0},{"$f":"IF(OR(E261=Sprache!$C$24,E261=Sprache!$D$24),F261,0)+IF(OR(G261=Sprache!$C$24,G261=Sprache!$D$24),H261,0)","v":0},0,{"$f":"'Formulaire B '!$G$11*I261+'Formulaire B '!$G$11*J261+'Formulaire B '!$G$12*K261+'Formulaire B '!$G$13*L261+'Formulaire B '!$G$14*M261+'Formulaire B '!$G$15*N261","v":0},"",null,null,null,0,null,null,"",null,{"$f":"IF(B261<>\"\",HYPERLINK($AC$9&AB261,Sprache!$E$25 &\" \"&B261),\"\")","v":""},null,251,{"$f":"Eingabemeldung(Sprache!$E$18,Sprache!$E$17,'Formulaire C'!E261)","v":""},{"$f":"Eingabemeldung(Sprache!$E$18,Sprache!$E$17,'Formulaire C'!G261)","v":""},false,0,{"$f":"IF(X261<Parameter!$C$4,1,0)","v":0}]
[null,null,null,null,null,null,null,null,{"$f":"IF(OR(E262=Sprache!$C$19,E262=Sprache!$D$19),F262,0)+IF(OR(G262=Sprache!$C$19,G262=Sprache!$D$19),H262,0)","v":0},{"$f":"IF(OR(E262=Sprache!$C$20,E262=Sprache!$D$20),F262,0)+IF(OR(G262=Sprache!$C$20,G262=Sprache!$D$20),H262,0)","v":0},{"$f":"IF(OR(E262=Sprache!$C$21,E262=Sprache!$D$21),F262,0)+IF(OR(G262=Sprache!$C$21,G262=Sprache!$D$21),H262,0)","v":0},{"$f":"IF(OR(E262=Sprache!$C$22,E262=Sprache!$D$22),F262,0)+IF(OR(G262=Sprache!$C$22,G262=Sprache!$D$22),H262,0)","v":0},{"$f":"IF(OR(E262=Sprache!$C$23,E262=Sprache!$D$23),F262,0)+IF(OR(G262=Sprache!$C$23,G262=Sprache!$D$23),H262,0)","v":0},{"$f":"IF(OR(E262=Sprache!$C$24,E262=Sprache!$D$24),F262,0)+IF(OR(G262=Sprache!$C$24,G262=Sprache!$D$24),H262,0)","v":0},0,{"$f":"'Formulaire B '!$G$11*I262+'Formulaire B '!$G$11*J262+'Formulaire B '!$G$12*K262+'Formulaire B '!$G$13*L262+'Formulaire B '!$G$14*M262+'Formulaire B '!$G$15*N262","v":0},"",null,null,null,0,null,null,"",null,{"$f":"IF(B262<>\"\",HYPERLINK($AC$9&AB262,Sprache!$E$25 &\" \"&B262),\"\")","v":""},null,252,{"$f":"Eingabemeldung(Sprache!$E$18,Sprache!$E$17,'Formulaire C'!E262)","v":""},{"$f":"Eingabemeldung(Sprache!$E$18,Sprache!$E$17,'Formulaire C'!G262)","v":""},false,0,{"$f":"IF(X262<Parameter!$C$4,1,0)","v":0}]
[null,null,null,null,null,null,null,null,{"$f":"IF(OR(E263=Sprache!$C$19,E263=Sprache!$D$19),F263,0)+IF(OR(G263=Sprache!$C$19,G263=Sprache!$D$19),H263,0)","v":0},{"$f":"IF(OR(E263=Sprache!$C$20,E263=Sprache!$D$20),F263,0)+IF(OR(G263=Sprache!$C$20,G263=Sprache!$D$20),H263,0)","v":0},{"$f":"IF(OR(E263=Sprache!$C$21,E263=Sprache!$D$21),F263,0)+IF(OR(G263=Sprache!$C$21,G263=Sprache!$D$21),H263,0)","v":0},{"$f":"IF(OR(E263=Sprache!$C$22,E263=Sprache!$D$22),F263,0)+IF(OR(G263=Sprache!$C$22,G263=Sprache!$D$22),H263,0)","v":0},{"$f":"IF(OR(E263=Sprache!$C$23,E263=Sprache!$D$23),F263,0)+IF(OR(G263=Sprache!$C$23,G263=Sprache!$D$23),H263,0)","v":0},{"$f":"IF(OR(E263=Sprache!$C$24,E263=Sprache!$D$24),F263,0)+IF(OR(G263=Sprache!$C$24,G263=Sprache!$D$24),H263,0)","v":0},0,{"$f":"'Formulaire B '!$G$11*I263+'Formulaire B '!$G$11*J263+'Formulaire B '!$G$12*K263+'Formulaire B '!$G$13*L263+'Formulaire B '!$G$14*M263+'Formulaire B '!$G$15*N263","v":0},"",null,null,null,0,null,null,"",null,{"$f":"IF(B263<>\"\",HYPERLINK($AC$9&AB263,Sprache!$E$25 &\" \"&B263),\"\")","v":""},null,253,{"$f":"Eingabemeldung(Sprache!$E$18,Sprache!$E$17,'Formulaire C'!E263)","v":""},{"$f":"Eingabemeldung(Sprache!$E$18,Sprache!$E$17,'Formulaire C'!G263)","v":""},false,0,{"$f":"IF(X263<Parameter!$C$4,1,0)","v":0}]
[null,null,null,null,null,null,null,null,{"$f":"IF(OR(E264=Sprache!$C$19,E264=Sprache!$D$19),F264,0)+IF(OR(G264=Sprache!$C$19,G264=Sprache!$D$19),H264,0)","v":0},{"$f":"IF(OR(E264=Sprache!$C$20,E264=Sprache!$D$20),F264,0)+IF(OR(G264=Sprache!$C$20,G264=Sprache!$D$20),H264,0)","v":0},{"$f":"IF(OR(E264=Sprache!$C$21,E264=Sprache!$D$21),F264,0)+IF(OR(G264=Sprache!$C$21,G264=Sprache!$D$21),H264,0)","v":0},{"$f":"IF(OR(E264=Sprache!$C$22,E264=Sprache!$D$22),F264,0)+IF(OR(G264=Sprache!$C$22,G264=Sprache!$D$22),H264,0)","v":0},{"$f":"IF(OR(E264=Sprache!$C$23,E264=Sprache!$D$23),F264,0)+IF(OR(G264=Sprache!$C$23,G264=Sprache!$D$23),H264,0)","v":0},{"$f":"IF(OR(E264=Sprache!$C$24,E264=Sprache!$D$24),F264,0)+IF(OR(G264=Sprache!$C$24,G264=Sprache!$D$24),H264,0)","v":0},0,{"$f":"'Formulaire B '!$G$11*I264+'Formulaire B '!$G$11*J264+'Formulaire B '!$G$12*K264+'Formulaire B '!$G$13*L264+'Formulaire B '!$G$14*M264+'Formulaire B '!$G$15*N264","v":0},"",null,null,null,0,null,null,"",null,{"$f":"IF(B264<>\"\",HYPERLINK($AC$9&AB264,Sprache!$E$25 &\" \"&B264),\"\")","v":""},null,254,{"$f":"Eingabemeldung(Sprache!$E$18,Sprache!$E$17,'Formulaire C'!E264)","v":""},{"$f":"Eingabemeldung(Sprache!$E$18,Sprache!$E$17,'Formulaire C'!G264)","v":""},false,0,{"$f":"IF(X264<Parameter!$C$4,1,0)","v":0}]
[null,null,null,null,null,null,null,null,{"$f":"IF(OR(E265=Sprache!$C$19,E265=Sprache!$D$19),F265,0)+IF(OR(G265=Sprache!$C$19,G265=Sprache!$D$19),H265,0)","v":0},{"$f":"IF(OR(E265=Sprache!$C$20,E265=Sprache!$D$20),F265,0)+IF(OR(G265=Sprache!$C$20,G265=Sprache!$D$20),H265,0)","v":0},{"$f":"IF(OR(E265=Sprache!$C$21,E265=Sprache!$D$21),F265,0)+IF(OR(G265=Sprache!$C$21,G265=Sprache!$D$21),H265,0)","v":0},{"$f":"IF(OR(E265=Sprache!$C$22,E265=Sprache!$D$22),F265,0)+IF(OR(G265=Sprache!$C$22,G265=Sprache!$D$22),H265,0)","v":0},{"$f":"IF(OR(E265=Sprache!$C$23,E265=Sprache!$D$23),F265,0)+IF(OR(G265=Sprache!$C$23,G265=Sprache!$D$23),H265,0)","v":0},{"$f":"IF(OR(E265=Sprache!$C$24,E265=Sprache!$D$24),F265,0)+IF(OR(G265=Sprache!$C$24,G265=Sprache!$D$24),H265,0)","v":0},0,{"$f":"'Formulaire B '!$G$11*I265+'Formulaire B '!$G$11*J265+'Formulaire B '!$G$12*K265+'Formulaire B '!$G$13*L265+'Formulaire B '!$G$14*M265+'Formulaire B '!$G$15*N265","v":0},"",null,null,null,0,null,null,"",null,{"$f":"IF(B265<>\"\",HYPERLINK($AC$9&AB265,Sprache!$E$25 &\" \"&B265),\"\")","v":""},null,255,{"$f":"Eingabemeldung(Sprache!$E$18,Sprache!$E$17,'Formulaire C'!E265)","v":""},{"$f":"Eingabemeldung(Sprache!$E$18,Sprache!$E$17,'Formulaire C'!G265)","v":""},false,0,{"$f":"IF(X265<Parameter!$C$4,1,0)","v":0}]
[null,null,null,null,null,null,null,null,{"$f":"IF(OR(E266=Sprache!$C$19,E266=Sprache!$D$19),F266,0)+IF(OR(G266=Sprache!$C$19,G266=Sprache!$D$19),H266,0)","v":0},{"$f":"IF(OR(E266=Sprache!$C$20,E266=Sprache!$D$20),F266,0)+IF(OR(G266=Sprache!$C$20,G266=Sprache!$D$20),H266,0)","v":0},{"$f":"IF(OR(E266=Sprache!$C$21,E266=Sprache!$D$21),F266,0)+IF(OR(G266=Sprache!$C$21,G266=Sprache!$D$21),H266,0)","v":0},{"$f":"IF(OR(E266=Sprache!$C$22,E266=Sprache!$D$22),F266,0)+IF(OR(G266=Sprache!$C$22,G266=Sprache!$D$22),H266,0)","v":0},{"$f":"IF(OR(E266=Sprache!$C$23,E266=Sprache!$D$23),F266,0)+IF(OR(G266=Sprache!$C$23,G266=Sprache!$D$23),H266,0)","v":0},{"$f":"IF(OR(E266=Sprache!$C$24,E266=Sprache!$D$24),F266,0)+IF(OR(G266=Sprache!$C$24,G266=Sprache!$D$24),H266,0)","v":0},0,{"$f":"'Formulaire B '!$G$11*I266+'Formulaire B '!$G$11*J266+'Formulaire B '!$G$12*K266+'Formulaire B '!$G$13*L266+'Formulaire B '!$G$14*M266+'Formulaire B '!$G$15*N266","v":0},"",null,null,null,0,null,null,"",null,{"$f":"IF(B266<>\"\",HYPERLINK($AC$9&AB266,Sprache!$E$25 &\" \"&B266),\"\")","v":""},null,256,{"$f":"Eingabemeldung(Sprache!$E$18,Sprache!$E$17,'Formulaire C'!E266)","v":""},{"$f":"Eingabemeldung(Sprache!$E$18,Sprache!$E$17,'Formulaire C'!G266)","v":""},false,0,{"$f":"IF(X266<Parameter!$C$4,1,0)","v":0}]
[null,null,null,null,null,null,null,null,{"$f":"IF(OR(E267=Sprache!$C$19,E267=Sprache!$D$19),F267,0)+IF(OR(G267=Sprache!$C$19,G267=Sprache!$D$19),H267,0)","v":0},{"$f":"IF(OR(E267=Sprache!$C$20,E267=Sprache!$D$20),F267,0)+IF(OR(G267=Sprache!$C$20,G267=Sprache!$D$20),H267,0)","v":0},{"$f":"IF(OR(E267=Sprache!$C$21,E267=Sprache!$D$21),F267,0)+IF(OR(G267=Sprache!$C$21,G267=Sprache!$D$21),H267,0)","v":0},{"$f":"IF(OR(E267=Sprache!$C$22,E267=Sprache!$D$22),F267,0)+IF(OR(G267=Sprache!$C$22,G267=Sprache!$D$22),H267,0)","v":0},{"$f":"IF(OR(E267=Sprache!$C$23,E267=Sprache!$D$23),F267,0)+IF(OR(G267=Sprache!$C$23,G267=Sprache!$D$23),H267,0)","v":0},{"$f":"IF(OR(E267=Sprache!$C$24,E267=Sprache!$D$24),F267,0)+IF(OR(G267=Sprache!$C$24,G267=Sprache!$D$24),H267,0)","v":0},0,{"$f":"'Formulaire B '!$G$11*I267+'Formulaire B '!$G$11*J267+'Formulaire B '!$G$12*K267+'Formulaire B '!$G$13*L267+'Formulaire B '!$G$14*M267+'Formulaire B '!$G$15*N267","v":0},"",null,null,null,0,null,null,"",null,{"$f":"IF(B267<>\"\",HYPERLINK($AC$9&AB267,Sprache!$E$25 &\" \"&B267),\"\")","v":""},null,257,{"$f":"Eingabemeldung(Sprache!$E$18,Sprache!$E$17,'Formulaire C'!E267)","v":""},{"$f":"Eingabemeldung(Sprache!$E$18,Sprache!$E$17,'Formulaire C'!G267)","v":""},false,0,{"$f":"IF(X267<Parameter!$C$4,1,0)","v":0}]
[null,null,null,null,null,null,null,null,{"$f":"IF(OR(E268=Sprache!$C$19,E268=Sprache!$D$19),F268,0)+IF(OR(G268=Sprache!$C$19,G268=Sprache!$D$19),H268,0)","v":0},{"$f":"IF(OR(E268=Sprache!$C$20,E268=Sprache!$D$20),F268,0)+IF(OR(G268=Sprache!$C$20,G268=Sprache!$D$20),H268,0)","v":0},{"$f":"IF(OR(E268=Sprache!$C$21,E268=Sprache!$D$21),F268,0)+IF(OR(G268=Sprache!$C$21,G268=Sprache!$D$21),H268,0)","v":0},{"$f":"IF(OR(E268=Sprache!$C$22,E268=Sprache!$D$22),F268,0)+IF(OR(G268=Sprache!$C$22,G268=Sprache!$D$22),H268,0)","v":0},{"$f":"IF(OR(E268=Sprache!$C$23,E268=Sprache!$D$23),F268,0)+IF(OR(G268=Sprache!$C$23,G268=Sprache!$D$23),H268,0)","v":0},{"$f":"IF(OR(E268=Sprache!$C$24,E268=Sprache!$D$24),F268,0)+IF(OR(G268=Sprache!$C$24,G268=Sprache!$D$24),H268,0)","v":0},0,{"$f":"'Formulaire B '!$G$11*I268+'Formulaire B '!$G$11*J268+'Formulaire B '!$G$12*K268+'Formulaire B '!$G$13*L268+'Formulaire B '!$G$14*M268+'Formulaire B '!$G$15*N268","v":0},"",null,null,null,0,null,null,"",null,{"$f":"IF(B268<>\"\",HYPERLINK($AC$9&AB268,Sprache!$E$25 &\" \"&B268),\"\")","v":""},null,258,{"$f":"Eingabemeldung(Sprache!$E$18,Sprache!$E$17,'Formulaire C'!E268)","v":""},{"$f":"Eingabemeldung(Sprache!$E$18,Sprache!$E$17,'Formulaire C'!G268)","v":""},false,0,{"$f":"IF(X268<Parameter!$C$4,1,0)","v":0}]
[null,null,null,null,null,null,null,null,{"$f":"IF(OR(E269=Sprache!$C$19,E269=Sprache!$D$19),F269,0)+IF(OR(G269=Sprache!$C$19,G269=Sprache!$D$19),H269,0)","v":0},{"$f":"IF(OR(E269=Sprache!$C$20,E269=Sprache!$D$20),F269,0)+IF(OR(G269=Sprache!$C$20,G269=Sprache!$D$20),H269,0)","v":0},{"$f":"IF(OR(E269=Sprache!$C$21,E269=Sprache!$D$21),F269,0)+IF(OR(G269=Sprache!$C$21,G269=Sprache!$D$21),H269,0)","v":0},{"$f":"IF(OR(E269=Sprache!$C$22,E269=Sprache!$D$22),F269,0)+IF(OR(G269=Sprache!$C$22,G269=Sprache!$D$22),H269,0)","v":0},{"$f":"IF(OR(E269=Sprache!$C$23,E269=Sprache!$D$23),F269,0)+IF(OR(G269=Sprache!$C$23,G269=Sprache!$D$23),H269,0)","v":0},{"$f":"IF(OR(E269=Sprache!$C$24,E269=Sprache!$D$24),F269,0)+IF(OR(G269=Sprache!$C$24,G269=Sprache!$D$24),H269,0)","v":0},0,{"$f":"'Formulaire B '!$G$11*I269+'Formulaire B '!$G$11*J269+'Formulaire B '!$G$12*K269+'Formulaire B '!$G$13*L269+'Formulaire B '!$G$14*M269+'Formulaire B '!$G$15*N269","v":0},"",null,null,null,0,null,null,"",null,{"$f":"IF(B269<>\"\",HYPERLINK($AC$9&AB269,Sprache!$E$25 &\" \"&B269),\"\")","v":""},null,259,{"$f":"Eingabemeldung(Sprache!$E$18,Sprache!$E$17,'Formulaire C'!E269)","v":""},{"$f":"Eingabemeldung(Sprache!$E$18,Sprache!$E$17,'Formulaire C'!G269)","v":""},false,0,{"$f":"IF(X269<Parameter!$C$4,1,0)","v":0}]
[null,null,null,null,null,null,null,null,{"$f":"IF(OR(E270=Sprache!$C$19,E270=Sprache!$D$19),F270,0)+IF(OR(G270=Sprache!$C$19,G270=Sprache!$D$19),H270,0)","v":0},{"$f":"IF(OR(E270=Sprache!$C$20,E270=Sprache!$D$20),F270,0)+IF(OR(G270=Sprache!$C$20,G270=Sprache!$D$20),H270,0)","v":0},{"$f":"IF(OR(E270=Sprache!$C$21,E270=Sprache!$D$21),F270,0)+IF(OR(G270=Sprache!$C$21,G270=Sprache!$D$21),H270,0)","v":0},{"$f":"IF(OR(E270=Sprache!$C$22,E270=Sprache!$D$22),F270,0)+IF(OR(G270=Sprache!$C$22,G270=Sprache!$D$22),H270,0)","v":0},{"$f":"IF(OR(E270=Sprache!$C$23,E270=Sprache!$D$23),F270,0)+IF(OR(G270=Sprache!$C$23,G270=Sprache!$D$23),H270,0)","v":0},{"$f":"IF(OR(E270=Sprache!$C$24,E270=Sprache!$D$24),F270,0)+IF(OR(G270=Sprache!$C$24,G270=Sprache!$D$24),H270,0)","v":0},0,{"$f":"'Formulaire B '!$G$11*I270+'Formulaire B '!$G$11*J270+'Formulaire B '!$G$12*K270+'Formulaire B '!$G$13*L270+'Formulaire B '!$G$14*M270+'Formulaire B '!$G$15*N270","v":0},"",null,null,null,0,null,null,"",null,{"$f":"IF(B270<>\"\",HYPERLINK($AC$9&AB270,Sprache!$E$25 &\" \"&B270),\"\")","v":""},null,260,{"$f":"Eingabemeldung(Sprache!$E$18,Sprache!$E$17,'Formulaire C'!E270)","v":""},{"$f":"Eingabemeldung(Sprache!$E$18,Sprache!$E$17,'Formulaire C'!G270)","v":""},false,0,{"$f":"IF(X270<Parameter!$C$4,1,0)","v":0}]
[null,null,null,null,null,null,null,null,{"$f":"IF(OR(E271=Sprache!$C$19,E271=Sprache!$D$19),F271,0)+IF(OR(G271=Sprache!$C$19,G271=Sprache!$D$19),H271,0)","v":0},{"$f":"IF(OR(E271=Sprache!$C$20,E271=Sprache!$D$20),F271,0)+IF(OR(G271=Sprache!$C$20,G271=Sprache!$D$20),H271,0)","v":0},{"$f":"IF(OR(E271=Sprache!$C$21,E271=Sprache!$D$21),F271,0)+IF(OR(G271=Sprache!$C$21,G271=Sprache!$D$21),H271,0)","v":0},{"$f":"IF(OR(E271=Sprache!$C$22,E271=Sprache!$D$22),F271,0)+IF(OR(G271=Sprache!$C$22,G271=Sprache!$D$22),H271,0)","v":0},{"$f":"IF(OR(E271=Sprache!$C$23,E271=Sprache!$D$23),F271,0)+IF(OR(G271=Sprache!$C$23,G271=Sprache!$D$23),H271,0)","v":0},{"$f":"IF(OR(E271=Sprache!$C$24,E271=Sprache!$D$24),F271,0)+IF(OR(G271=Sprache!$C$24,G271=Sprache!$D$24),H271,0)","v":0},0,{"$f":"'Formulaire B '!$G$11*I271+'Formulaire B '!$G$11*J271+'Formulaire B '!$G$12*K271+'Formulaire B '!$G$13*L271+'Formulaire B '!$G$14*M271+'Formulaire B '!$G$15*N271","v":0},"",null,null,null,0,null,null,"",null,{"$f":"IF(B271<>\"\",HYPERLINK($AC$9&AB271,Sprache!$E$25 &\" \"&B271),\"\")","v":""},null,261,{"$f":"Eingabemeldung(Sprache!$E$18,Sprache!$E$17,'Formulaire C'!E271)","v":""},{"$f":"Eingabemeldung(Sprache!$E$18,Sprache!$E$17,'Formulaire C'!G271)","v":""},false,0,{"$f":"IF(X271<Parameter!$C$4,1,0)","v":0}]
[null,null,null,null,null,null,null,null,{"$f":"IF(OR(E272=Sprache!$C$19,E272=Sprache!$D$19),F272,0)+IF(OR(G272=Sprache!$C$19,G272=Sprache!$D$19),H272,0)","v":0},{"$f":"IF(OR(E272=Sprache!$C$20,E272=Sprache!$D$20),F272,0)+IF(OR(G272=Sprache!$C$20,G272=Sprache!$D$20),H272,0)","v":0},{"$f":"IF(OR(E272=Sprache!$C$21,E272=Sprache!$D$21),F272,0)+IF(OR(G272=Sprache!$C$21,G272=Sprache!$D$21),H272,0)","v":0},{"$f":"IF(OR(E272=Sprache!$C$22,E272=Sprache!$D$22),F272,0)+IF(OR(G272=Sprache!$C$22,G272=Sprache!$D$22),H272,0)","v":0},{"$f":"IF(OR(E272=Sprache!$C$23,E272=Sprache!$D$23),F272,0)+IF(OR(G272=Sprache!$C$23,G272=Sprache!$D$23),H272,0)","v":0},{"$f":"IF(OR(E272=Sprache!$C$24,E272=Sprache!$D$24),F272,0)+IF(OR(G272=Sprache!$C$24,G272=Sprache!$D$24),H272,0)","v":0},0,{"$f":"'Formulaire B '!$G$11*I272+'Formulaire B '!$G$11*J272+'Formulaire B '!$G$12*K272+'Formulaire B '!$G$13*L272+'Formulaire B '!$G$14*M272+'Formulaire B '!$G$15*N272","v":0},"",null,null,null,0,null,null,"",null,{"$f":"IF(B272<>\"\",HYPERLINK($AC$9&AB272,Sprache!$E$25 &\" \"&B272),\"\")","v":""},null,262,{"$f":"Eingabemeldung(Sprache!$E$18,Sprache!$E$17,'Formulaire C'!E272)","v":""},{"$f":"Eingabemeldung(Sprache!$E$18,Sprache!$E$17,'Formulaire C'!G272)","v":""},false,0,{"$f":"IF(X272<Parameter!$C$4,1,0)","v":0}]
[null,null,null,null,null,null,null,null,{"$f":"IF(OR(E273=Sprache!$C$19,E273=Sprache!$D$19),F273,0)+IF(OR(G273=Sprache!$C$19,G273=Sprache!$D$19),H273,0)","v":0},{"$f":"IF(OR(E273=Sprache!$C$20,E273=Sprache!$D$20),F273,0)+IF(OR(G273=Sprache!$C$20,G273=Sprache!$D$20),H273,0)","v":0},{"$f":"IF(OR(E273=Sprache!$C$21,E273=Sprache!$D$21),F273,0)+IF(OR(G273=Sprache!$C$21,G273=Sprache!$D$21),H273,0)","v":0},{"$f":"IF(OR(E273=Sprache!$C$22,E273=Sprache!$D$22),F273,0)+IF(OR(G273=Sprache!$C$22,G273=Sprache!$D$22),H273,0)","v":0},{"$f":"IF(OR(E273=Sprache!$C$23,E273=Sprache!$D$23),F273,0)+IF(OR(G273=Sprache!$C$23,G273=Sprache!$D$23),H273,0)","v":0},{"$f":"IF(OR(E273=Sprache!$C$24,E273=Sprache!$D$24),F273,0)+IF(OR(G273=Sprache!$C$24,G273=Sprache!$D$24),H273,0)","v":0},0,{"$f":"'Formulaire B '!$G$11*I273+'Formulaire B '!$G$11*J273+'Formulaire B '!$G$12*K273+'Formulaire B '!$G$13*L273+'Formulaire B '!$G$14*M273+'Formulaire B '!$G$15*N273","v":0},"",null,null,null,0,null,null,"",null,{"$f":"IF(B273<>\"\",HYPERLINK($AC$9&AB273,Sprache!$E$25 &\" \"&B273),\"\")","v":""},null,263,{"$f":"Eingabemeldung(Sprache!$E$18,Sprache!$E$17,'Formulaire C'!E273)","v":""},{"$f":"Eingabemeldung(Sprache!$E$18,Sprache!$E$17,'Formulaire C'!G273)","v":""},false,0,{"$f":"IF(X273<Parameter!$C$4,1,0)","v":0}]
[null,null,null,null,null,null,null,null,{"$f":"IF(OR(E274=Sprache!$C$19,E274=Sprache!$D$19),F274,0)+IF(OR(G274=Sprache!$C$19,G274=Sprache!$D$19),H274,0)","v":0},{"$f":"IF(OR(E274=Sprache!$C$20,E274=Sprache!$D$20),F274,0)+IF(OR(G274=Sprache!$C$20,G274=Sprache!$D$20),H274,0)","v":0},{"$f":"IF(OR(E274=Sprache!$C$21,E274=Sprache!$D$21),F274,0)+IF(OR(G274=Sprache!$C$21,G274=Sprache!$D$21),H274,0)","v":0},{"$f":"IF(OR(E274=Sprache!$C$22,E274=Sprache!$D$22),F274,0)+IF(OR(G274=Sprache!$C$22,G274=Sprache!$D$22),H274,0)","v":0},{"$f":"IF(OR(E274=Sprache!$C$23,E274=Sprache!$D$23),F274,0)+IF(OR(G274=Sprache!$C$23,G274=Sprache!$D$23),H274,0)","v":0},{"$f":"IF(OR(E274=Sprache!$C$24,E274=Sprache!$D$24),F274,0)+IF(OR(G274=Sprache!$C$24,G274=Sprache!$D$24),H274,0)","v":0},0,{"$f":"'Formulaire B '!$G$11*I274+'Formulaire B '!$G$11*J274+'Formulaire B '!$G$12*K274+'Formulaire B '!$G$13*L274+'Formulaire B '!$G$14*M274+'Formulaire B '!$G$15*N274","v":0},"",null,null,null,0,null,null,"",null,{"$f":"IF(B274<>\"\",HYPERLINK($AC$9&AB274,Sprache!$E$25 &\" \"&B274),\"\")","v":""},null,264,{"$f":"Eingabemeldung(Sprache!$E$18,Sprache!$E$17,'Formulaire C'!E274)","v":""},{"$f":"Eingabemeldung(Sprache!$E$18,Sprache!$E$17,'Formulaire C'!G274)","v":""},false,0,{"$f":"IF(X274<Parameter!$C$4,1,0)","v":0}]
[null,null,null,null,null,null,null,null,{"$f":"IF(OR(E275=Sprache!$C$19,E275=Sprache!$D$19),F275,0)+IF(OR(G275=Sprache!$C$19,G275=Sprache!$D$19),H275,0)","v":0},{"$f":"IF(OR(E275=Sprache!$C$20,E275=Sprache!$D$20),F275,0)+IF(OR(G275=Sprache!$C$20,G275=Sprache!$D$20),H275,0)","v":0},{"$f":"IF(OR(E275=Sprache!$C$21,E275=Sprache!$D$21),F275,0)+IF(OR(G275=Sprache!$C$21,G275=Sprache!$D$21),H275,0)","v":0},{"$f":"IF(OR(E275=Sprache!$C$22,E275=Sprache!$D$22),F275,0)+IF(OR(G275=Sprache!$C$22,G275=Sprache!$D$22),H275,0)","v":0},{"$f":"IF(OR(E275=Sprache!$C$23,E275=Sprache!$D$23),F275,0)+IF(OR(G275=Sprache!$C$23,G275=Sprache!$D$23),H275,0)","v":0},{"$f":"IF(OR(E275=Sprache!$C$24,E275=Sprache!$D$24),F275,0)+IF(OR(G275=Sprache!$C$24,G275=Sprache!$D$24),H275,0)","v":0},0,{"$f":"'Formulaire B '!$G$11*I275+'Formulaire B '!$G$11*J275+'Formulaire B '!$G$12*K275+'Formulaire B '!$G$13*L275+'Formulaire B '!$G$14*M275+'Formulaire B '!$G$15*N275","v":0},"",null,null,null,0,null,null,"",null,{"$f":"IF(B275<>\"\",HYPERLINK($AC$9&AB275,Sprache!$E$25 &\" \"&B275),\"\")","v":""},null,265,{"$f":"Eingabemeldung(Sprache!$E$18,Sprache!$E$17,'Formulaire C'!E275)","v":""},{"$f":"Eingabemeldung(Sprache!$E$18,Sprache!$E$17,'Formulaire C'!G275)","v":""},false,0,{"$f":"IF(X275<Parameter!$C$4,1,0)","v":0}]
[null,null,null,null,null,null,null,null,{"$f":"IF(OR(E276=Sprache!$C$19,E276=Sprache!$D$19),F276,0)+IF(OR(G276=Sprache!$C$19,G276=Sprache!$D$19),H276,0)","v":0},{"$f":"IF(OR(E276=Sprache!$C$20,E276=Sprache!$D$20),F276,0)+IF(OR(G276=Sprache!$C$20,G276=Sprache!$D$20),H276,0)","v":0},{"$f":"IF(OR(E276=Sprache!$C$21,E276=Sprache!$D$21),F276,0)+IF(OR(G276=Sprache!$C$21,G276=Sprache!$D$21),H276,0)","v":0},{"$f":"IF(OR(E276=Sprache!$C$22,E276=Sprache!$D$22),F276,0)+IF(OR(G276=Sprache!$C$22,G276=Sprache!$D$22),H276,0)","v":0},{"$f":"IF(OR(E276=Sprache!$C$23,E276=Sprache!$D$23),F276,0)+IF(OR(G276=Sprache!$C$23,G276=Sprache!$D$23),H276,0)","v":0},{"$f":"IF(OR(E276=Sprache!$C$24,E276=Sprache!$D$24),F276,0)+IF(OR(G276=Sprache!$C$24,G276=Sprache!$D$24),H276,0)","v":0},0,{"$f":"'Formulaire B '!$G$11*I276+'Formulaire B '!$G$11*J276+'Formulaire B '!$G$12*K276+'Formulaire B '!$G$13*L276+'Formulaire B '!$G$14*M276+'Formulaire B '!$G$15*N276","v":0},"",null,null,null,0,null,null,"",null,{"$f":"IF(B276<>\"\",HYPERLINK($AC$9&AB276,Sprache!$E$25 &\" \"&B276),\"\")","v":""},null,266,{"$f":"Eingabemeldung(Sprache!$E$18,Sprache!$E$17,'Formulaire C'!E276)","v":""},{"$f":"Eingabemeldung(Sprache!$E$18,Sprache!$E$17,'Formulaire C'!G276)","v":""},false,0,{"$f":"IF(X276<Parameter!$C$4,1,0)","v":0}]
[null,null,null,null,null,null,null,null,{"$f":"IF(OR(E277=Sprache!$C$19,E277=Sprache!$D$19),F277,0)+IF(OR(G277=Sprache!$C$19,G277=Sprache!$D$19),H277,0)","v":0},{"$f":"IF(OR(E277=Sprache!$C$20,E277=Sprache!$D$20),F277,0)+IF(OR(G277=Sprache!$C$20,G277=Sprache!$D$20),H277,0)","v":0},{"$f":"IF(OR(E277=Sprache!$C$21,E277=Sprache!$D$21),F277,0)+IF(OR(G277=Sprache!$C$21,G277=Sprache!$D$21),H277,0)","v":0},{"$f":"IF(OR(E277=Sprache!$C$22,E277=Sprache!$D$22),F277,0)+IF(OR(G277=Sprache!$C$22,G277=Sprache!$D$22),H277,0)","v":0},{"$f":"IF(OR(E277=Sprache!$C$23,E277=Sprache!$D$23),F277,0)+IF(OR(G277=Sprache!$C$23,G277=Sprache!$D$23),H277,0)","v":0},{"$f":"IF(OR(E277=Sprache!$C$24,E277=Sprache!$D$24),F277,0)+IF(OR(G277=Sprache!$C$24,G277=Sprache!$D$24),H277,0)","v":0},0,{"$f":"'Formulaire B '!$G$11*I277+'Formulaire B '!$G$11*J277+'Formulaire B '!$G$12*K277+'Formulaire B '!$G$13*L277+'Formulaire B '!$G$14*M277+'Formulaire B '!$G$15*N277","v":0},"",null,null,null,0,null,null,"",null,{"$f":"IF(B277<>\"\",HYPERLINK($AC$9&AB277,Sprache!$E$25 &\" \"&B277),\"\")","v":""},null,267,{"$f":"Eingabemeldung(Sprache!$E$18,Sprache!$E$17,'Formulaire C'!E277)","v":""},{"$f":"Eingabemeldung(Sprache!$E$18,Sprache!$E$17,'Formulaire C'!G277)","v":""},false,0,{"$f":"IF(X277<Parameter!$C$4,1,0)","v":0}]
[null,null,null,null,null,null,null,null,{"$f":"IF(OR(E278=Sprache!$C$19,E278=Sprache!$D$19),F278,0)+IF(OR(G278=Sprache!$C$19,G278=Sprache!$D$19),H278,0)","v":0},{"$f":"IF(OR(E278=Sprache!$C$20,E278=Sprache!$D$20),F278,0)+IF(OR(G278=Sprache!$C$20,G278=Sprache!$D$20),H278,0)","v":0},{"$f":"IF(OR(E278=Sprache!$C$21,E278=Sprache!$D$21),F278,0)+IF(OR(G278=Sprache!$C$21,G278=Sprache!$D$21),H278,0)","v":0},{"$f":"IF(OR(E278=Sprache!$C$22,E278=Sprache!$D$22),F278,0)+IF(OR(G278=Sprache!$C$22,G278=Sprache!$D$22),H278,0)","v":0},{"$f":"IF(OR(E278=Sprache!$C$23,E278=Sprache!$D$23),F278,0)+IF(OR(G278=Sprache!$C$23,G278=Sprache!$D$23),H278,0)","v":0},{"$f":"IF(OR(E278=Sprache!$C$24,E278=Sprache!$D$24),F278,0)+IF(OR(G278=Sprache!$C$24,G278=Sprache!$D$24),H278,0)","v":0},0,{"$f":"'Formulaire B '!$G$11*I278+'Formulaire B '!$G$11*J278+'Formulaire B '!$G$12*K278+'Formulaire B '!$G$13*L278+'Formulaire B '!$G$14*M278+'Formulaire B '!$G$15*N278","v":0},"",null,null,null,0,null,null,"",null,{"$f":"IF(B278<>\"\",HYPERLINK($AC$9&AB278,Sprache!$E$25 &\" \"&B278),\"\")","v":""},null,268,{"$f":"Eingabemeldung(Sprache!$E$18,Sprache!$E$17,'Formulaire C'!E278)","v":""},{"$f":"Eingabemeldung(Sprache!$E$18,Sprache!$E$17,'Formulaire C'!G278)","v":""},false,0,{"$f":"IF(X278<Parameter!$C$4,1,0)","v":0}]
[null,null,null,null,null,null,null,null,{"$f":"IF(OR(E279=Sprache!$C$19,E279=Sprache!$D$19),F279,0)+IF(OR(G279=Sprache!$C$19,G279=Sprache!$D$19),H279,0)","v":0},{"$f":"IF(OR(E279=Sprache!$C$20,E279=Sprache!$D$20),F279,0)+IF(OR(G279=Sprache!$C$20,G279=Sprache!$D$20),H279,0)","v":0},{"$f":"IF(OR(E279=Sprache!$C$21,E279=Sprache!$D$21),F279,0)+IF(OR(G279=Sprache!$C$21,G279=Sprache!$D$21),H279,0)","v":0},{"$f":"IF(OR(E279=Sprache!$C$22,E279=Sprache!$D$22),F279,0)+IF(OR(G279=Sprache!$C$22,G279=Sprache!$D$22),H279,0)","v":0},{"$f":"IF(OR(E279=Sprache!$C$23,E279=Sprache!$D$23),F279,0)+IF(OR(G279=Sprache!$C$23,G279=Sprache!$D$23),H279,0)","v":0},{"$f":"IF(OR(E279=Sprache!$C$24,E279=Sprache!$D$24),F279,0)+IF(OR(G279=Sprache!$C$24,G279=Sprache!$D$24),H279,0)","v":0},0,{"$f":"'Formulaire B '!$G$11*I279+'Formulaire B '!$G$11*J279+'Formulaire B '!$G$12*K279+'Formulaire B '!$G$13*L279+'Formulaire B '!$G$14*M279+'Formulaire B '!$G$15*N279","v":0},"",null,null,null,0,null,null,"",null,{"$f":"IF(B279<>\"\",HYPERLINK($AC$9&AB279,Sprache!$E$25 &\" \"&B279),\"\")","v":""},null,269,{"$f":"Eingabemeldung(Sprache!$E$18,Sprache!$E$17,'Formulaire C'!E279)","v":""},{"$f":"Eingabemeldung(Sprache!$E$18,Sprache!$E$17,'Formulaire C'!G279)","v":""},false,0,{"$f":"IF(X279<Parameter!$C$4,1,0)","v":0}]
[null,null,null,null,null,null,null,null,{"$f":"IF(OR(E280=Sprache!$C$19,E280=Sprache!$D$19),F280,0)+IF(OR(G280=Sprache!$C$19,G280=Sprache!$D$19),H280,0)","v":0},{"$f":"IF(OR(E280=Sprache!$C$20,E280=Sprache!$D$20),F280,0)+IF(OR(G280=Sprache!$C$20,G280=Sprache!$D$20),H280,0)","v":0},{"$f":"IF(OR(E280=Sprache!$C$21,E280=Sprache!$D$21),F280,0)+IF(OR(G280=Sprache!$C$21,G280=Sprache!$D$21),H280,0)","v":0},{"$f":"IF(OR(E280=Sprache!$C$22,E280=Sprache!$D$22),F280,0)+IF(OR(G280=Sprache!$C$22,G280=Sprache!$D$22),H280,0)","v":0},{"$f":"IF(OR(E280=Sprache!$C$23,E280=Sprache!$D$23),F280,0)+IF(OR(G280=Sprache!$C$23,G280=Sprache!$D$23),H280,0)","v":0},{"$f":"IF(OR(E280=Sprache!$C$24,E280=Sprache!$D$24),F280,0)+IF(OR(G280=Sprache!$C$24,G280=Sprache!$D$24),H280,0)","v":0},0,{"$f":"'Formulaire B '!$G$11*I280+'Formulaire B '!$G$11*J280+'Formulaire B '!$G$12*K280+'Formulaire B '!$G$13*L280+'Formulaire B '!$G$14*M280+'Formulaire B '!$G$15*N280","v":0},"",null,null,null,0,null,null,"",null,{"$f":"IF(B280<>\"\",HYPERLINK($AC$9&AB280,Sprache!$E$25 &\" \"&B280),\"\")","v":""},null,270,{"$f":"Eingabemeldung(Sprache!$E$18,Sprache!$E$17,'Formulaire C'!E280)","v":""},{"$f":"Eingabemeldung(Sprache!$E$18,Sprache!$E$17,'Formulaire C'!G280)","v":""},false,0,{"$f":"IF(X280<Parameter!$C$4,1,0)","v":0}]
[null,null,null,null,null,null,null,null,{"$f":"IF(OR(E281=Sprache!$C$19,E281=Sprache!$D$19),F281,0)+IF(OR(G281=Sprache!$C$19,G281=Sprache!$D$19),H281,0)","v":0},{"$f":"IF(OR(E281=Sprache!$C$20,E281=Sprache!$D$20),F281,0)+IF(OR(G281=Sprache!$C$20,G281=Sprache!$D$20),H281,0)","v":0},{"$f":"IF(OR(E281=Sprache!$C$21,E281=Sprache!$D$21),F281,0)+IF(OR(G281=Sprache!$C$21,G281=Sprache!$D$21),H281,0)","v":0},{"$f":"IF(OR(E281=Sprache!$C$22,E281=Sprache!$D$22),F281,0)+IF(OR(G281=Sprache!$C$22,G281=Sprache!$D$22),H281,0)","v":0},{"$f":"IF(OR(E281=Sprache!$C$23,E281=Sprache!$D$23),F281,0)+IF(OR(G281=Sprache!$C$23,G281=Sprache!$D$23),H281,0)","v":0},{"$f":"IF(OR(E281=Sprache!$C$24,E281=Sprache!$D$24),F281,0)+IF(OR(G281=Sprache!$C$24,G281=Sprache!$D$24),H281,0)","v":0},0,{"$f":"'Formulaire B '!$G$11*I281+'Formulaire B '!$G$11*J281+'Formulaire B '!$G$12*K281+'Formulaire B '!$G$13*L281+'Formulaire B '!$G$14*M281+'Formulaire B '!$G$15*N281","v":0},"",null,null,null,0,null,null,"",null,{"$f":"IF(B281<>\"\",HYPERLINK($AC$9&AB281,Sprache!$E$25 &\" \"&B281),\"\")","v":""},null,271,{"$f":"Eingabemeldung(Sprache!$E$18,Sprache!$E$17,'Formulaire C'!E281)","v":""},{"$f":"Eingabemeldung(Sprache!$E$18,Sprache!$E$17,'Formulaire C'!G281)","v":""},false,0,{"$f":"IF(X281<Parameter!$C$4,1,0)","v":0}]
[null,null,null,null,null,null,null,null,{"$f":"IF(OR(E282=Sprache!$C$19,E282=Sprache!$D$19),F282,0)+IF(OR(G282=Sprache!$C$19,G282=Sprache!$D$19),H282,0)","v":0},{"$f":"IF(OR(E282=Sprache!$C$20,E282=Sprache!$D$20),F282,0)+IF(OR(G282=Sprache!$C$20,G282=Sprache!$D$20),H282,0)","v":0},{"$f":"IF(OR(E282=Sprache!$C$21,E282=Sprache!$D$21),F282,0)+IF(OR(G282=Sprache!$C$21,G282=Sprache!$D$21),H282,0)","v":0},{"$f":"IF(OR(E282=Sprache!$C$22,E282=Sprache!$D$22),F282,0)+IF(OR(G282=Sprache!$C$22,G282=Sprache!$D$22),H282,0)","v":0},{"$f":"IF(OR(E282=Sprache!$C$23,E282=Sprache!$D$23),F282,0)+IF(OR(G282=Sprache!$C$23,G282=Sprache!$D$23),H282,0)","v":0},{"$f":"IF(OR(E282=Sprache!$C$24,E282=Sprache!$D$24),F282,0)+IF(OR(G282=Sprache!$C$24,G282=Sprache!$D$24),H282,0)","v":0},0,{"$f":"'Formulaire B '!$G$11*I282+'Formulaire B '!$G$11*J282+'Formulaire B '!$G$12*K282+'Formulaire B '!$G$13*L282+'Formulaire B '!$G$14*M282+'Formulaire B '!$G$15*N282","v":0},"",null,null,null,0,null,null,"",null,{"$f":"IF(B282<>\"\",HYPERLINK($AC$9&AB282,Sprache!$E$25 &\" \"&B282),\"\")","v":""},null,272,{"$f":"Eingabemeldung(Sprache!$E$18,Sprache!$E$17,'Formulaire C'!E282)","v":""},{"$f":"Eingabemeldung(Sprache!$E$18,Sprache!$E$17,'Formulaire C'!G282)","v":""},false,0,{"$f":"IF(X282<Parameter!$C$4,1,0)","v":0}]
[null,null,null,null,null,null,null,null,{"$f":"IF(OR(E283=Sprache!$C$19,E283=Sprache!$D$19),F283,0)+IF(OR(G283=Sprache!$C$19,G283=Sprache!$D$19),H283,0)","v":0},{"$f":"IF(OR(E283=Sprache!$C$20,E283=Sprache!$D$20),F283,0)+IF(OR(G283=Sprache!$C$20,G283=Sprache!$D$20),H283,0)","v":0},{"$f":"IF(OR(E283=Sprache!$C$21,E283=Sprache!$D$21),F283,0)+IF(OR(G283=Sprache!$C$21,G283=Sprache!$D$21),H283,0)","v":0},{"$f":"IF(OR(E283=Sprache!$C$22,E283=Sprache!$D$22),F283,0)+IF(OR(G283=Sprache!$C$22,G283=Sprache!$D$22),H283,0)","v":0},{"$f":"IF(OR(E283=Sprache!$C$23,E283=Sprache!$D$23),F283,0)+IF(OR(G283=Sprache!$C$23,G283=Sprache!$D$23),H283,0)","v":0},{"$f":"IF(OR(E283=Sprache!$C$24,E283=Sprache!$D$24),F283,0)+IF(OR(G283=Sprache!$C$24,G283=Sprache!$D$24),H283,0)","v":0},0,{"$f":"'Formulaire B '!$G$11*I283+'Formulaire B '!$G$11*J283+'Formulaire B '!$G$12*K283+'Formulaire B '!$G$13*L283+'Formulaire B '!$G$14*M283+'Formulaire B '!$G$15*N283","v":0},"",null,null,null,0,null,null,"",null,{"$f":"IF(B283<>\"\",HYPERLINK($AC$9&AB283,Sprache!$E$25 &\" \"&B283),\"\")","v":""},null,{"$f":"AB282+1","v":273},{"$f":"Eingabemeldung(Sprache!$E$18,Sprache!$E$17,'Formulaire C'!E283)","v":""},{"$f":"Eingabemeldung(Sprache!$E$18,Sprache!$E$17,'Formulaire C'!G283)","v":""},false,0,{"$f":"IF(X283<Parameter!$C$4,1,0)","v":0}]
[null,null,null,null,null,null,null,null,{"$f":"IF(OR(E284=Sprache!$C$19,E284=Sprache!$D$19),F284,0)+IF(OR(G284=Sprache!$C$19,G284=Sprache!$D$19),H284,0)","v":0},{"$f":"IF(OR(E284=Sprache!$C$20,E284=Sprache!$D$20),F284,0)+IF(OR(G284=Sprache!$C$20,G284=Sprache!$D$20),H284,0)","v":0},{"$f":"IF(OR(E284=Sprache!$C$21,E284=Sprache!$D$21),F284,0)+IF(OR(G284=Sprache!$C$21,G284=Sprache!$D$21),H284,0)","v":0},{"$f":"IF(OR(E284=Sprache!$C$22,E284=Sprache!$D$22),F284,0)+IF(OR(G284=Sprache!$C$22,G284=Sprache!$D$22),H284,0)","v":0},{"$f":"IF(OR(E284=Sprache!$C$23,E284=Sprache!$D$23),F284,0)+IF(OR(G284=Sprache!$C$23,G284=Sprache!$D$23),H284,0)","v":0},{"$f":"IF(OR(E284=Sprache!$C$24,E284=Sprache!$D$24),F284,0)+IF(OR(G284=Sprache!$C$24,G284=Sprache!$D$24),H284,0)","v":0},0,{"$f":"'Formulaire B '!$G$11*I284+'Formulaire B '!$G$11*J284+'Formulaire B '!$G$12*K284+'Formulaire B '!$G$13*L284+'Formulaire B '!$G$14*M284+'Formulaire B '!$G$15*N284","v":0},"",null,null,null,0,null,null,"",null,{"$f":"IF(B284<>\"\",HYPERLINK($AC$9&AB284,Sprache!$E$25 &\" \"&B284),\"\")","v":""},null,274,{"$f":"Eingabemeldung(Sprache!$E$18,Sprache!$E$17,'Formulaire C'!E284)","v":""},{"$f":"Eingabemeldung(Sprache!$E$18,Sprache!$E$17,'Formulaire C'!G284)","v":""},false,0,{"$f":"IF(X284<Parameter!$C$4,1,0)","v":0}]
[null,null,null,null,null,null,null,null,{"$f":"IF(OR(E285=Sprache!$C$19,E285=Sprache!$D$19),F285,0)+IF(OR(G285=Sprache!$C$19,G285=Sprache!$D$19),H285,0)","v":0},{"$f":"IF(OR(E285=Sprache!$C$20,E285=Sprache!$D$20),F285,0)+IF(OR(G285=Sprache!$C$20,G285=Sprache!$D$20),H285,0)","v":0},{"$f":"IF(OR(E285=Sprache!$C$21,E285=Sprache!$D$21),F285,0)+IF(OR(G285=Sprache!$C$21,G285=Sprache!$D$21),H285,0)","v":0},{"$f":"IF(OR(E285=Sprache!$C$22,E285=Sprache!$D$22),F285,0)+IF(OR(G285=Sprache!$C$22,G285=Sprache!$D$22),H285,0)","v":0},{"$f":"IF(OR(E285=Sprache!$C$23,E285=Sprache!$D$23),F285,0)+IF(OR(G285=Sprache!$C$23,G285=Sprache!$D$23),H285,0)","v":0},{"$f":"IF(OR(E285=Sprache!$C$24,E285=Sprache!$D$24),F285,0)+IF(OR(G285=Sprache!$C$24,G285=Sprache!$D$24),H285,0)","v":0},0,{"$f":"'Formulaire B '!$G$11*I285+'Formulaire B '!$G$11*J285+'Formulaire B '!$G$12*K285+'Formulaire B '!$G$13*L285+'Formulaire B '!$G$14*M285+'Formulaire B '!$G$15*N285","v":0},"",null,null,null,0,null,null,"",null,{"$f":"IF(B285<>\"\",HYPERLINK($AC$9&AB285,Sprache!$E$25 &\" \"&B285),\"\")","v":""},null,275,{"$f":"Eingabemeldung(Sprache!$E$18,Sprache!$E$17,'Formulaire C'!E285)","v":""},{"$f":"Eingabemeldung(Sprache!$E$18,Sprache!$E$17,'Formulaire C'!G285)","v":""},false,0,{"$f":"IF(X285<Parameter!$C$4,1,0)","v":0}]
[null,null,null,null,null,null,null,null,{"$f":"IF(OR(E286=Sprache!$C$19,E286=Sprache!$D$19),F286,0)+IF(OR(G286=Sprache!$C$19,G286=Sprache!$D$19),H286,0)","v":0},{"$f":"IF(OR(E286=Sprache!$C$20,E286=Sprache!$D$20),F286,0)+IF(OR(G286=Sprache!$C$20,G286=Sprache!$D$20),H286,0)","v":0},{"$f":"IF(OR(E286=Sprache!$C$21,E286=Sprache!$D$21),F286,0)+IF(OR(G286=Sprache!$C$21,G286=Sprache!$D$21),H286,0)","v":0},{"$f":"IF(OR(E286=Sprache!$C$22,E286=Sprache!$D$22),F286,0)+IF(OR(G286=Sprache!$C$22,G286=Sprache!$D$22),H286,0)","v":0},{"$f":"IF(OR(E286=Sprache!$C$23,E286=Sprache!$D$23),F286,0)+IF(OR(G286=Sprache!$C$23,G286=Sprache!$D$23),H286,0)","v":0},{"$f":"IF(OR(E286=Sprache!$C$24,E286=Sprache!$D$24),F286,0)+IF(OR(G286=Sprache!$C$24,G286=Sprache!$D$24),H286,0)","v":0},0,{"$f":"'Formulaire B '!$G$11*I286+'Formulaire B '!$G$11*J286+'Formulaire B '!$G$12*K286+'Formulaire B '!$G$13*L286+'Formulaire B '!$G$14*M286+'Formulaire B '!$G$15*N286","v":0},"",null,null,null,0,null,null,"",null,{"$f":"IF(B286<>\"\",HYPERLINK($AC$9&AB286,Sprache!$E$25 &\" \"&B286),\"\")","v":""},null,276,{"$f":"Eingabemeldung(Sprache!$E$18,Sprache!$E$17,'Formulaire C'!E286)","v":""},{"$f":"Eingabemeldung(Sprache!$E$18,Sprache!$E$17,'Formulaire C'!G286)","v":""},false,0,{"$f":"IF(X286<Parameter!$C$4,1,0)","v":0}]
[null,null,null,null,null,null,null,null,{"$f":"IF(OR(E287=Sprache!$C$19,E287=Sprache!$D$19),F287,0)+IF(OR(G287=Sprache!$C$19,G287=Sprache!$D$19),H287,0)","v":0},{"$f":"IF(OR(E287=Sprache!$C$20,E287=Sprache!$D$20),F287,0)+IF(OR(G287=Sprache!$C$20,G287=Sprache!$D$20),H287,0)","v":0},{"$f":"IF(OR(E287=Sprache!$C$21,E287=Sprache!$D$21),F287,0)+IF(OR(G287=Sprache!$C$21,G287=Sprache!$D$21),H287,0)","v":0},{"$f":"IF(OR(E287=Sprache!$C$22,E287=Sprache!$D$22),F287,0)+IF(OR(G287=Sprache!$C$22,G287=Sprache!$D$22),H287,0)","v":0},{"$f":"IF(OR(E287=Sprache!$C$23,E287=Sprache!$D$23),F287,0)+IF(OR(G287=Sprache!$C$23,G287=Sprache!$D$23),H287,0)","v":0},{"$f":"IF(OR(E287=Sprache!$C$24,E287=Sprache!$D$24),F287,0)+IF(OR(G287=Sprache!$C$24,G287=Sprache!$D$24),H287,0)","v":0},0,{"$f":"'Formulaire B '!$G$11*I287+'Formulaire B '!$G$11*J287+'Formulaire B '!$G$12*K287+'Formulaire B '!$G$13*L287+'Formulaire B '!$G$14*M287+'Formulaire B '!$G$15*N287","v":0},"",null,null,null,0,null,null,"",null,{"$f":"IF(B287<>\"\",HYPERLINK($AC$9&AB287,Sprache!$E$25 &\" \"&B287),\"\")","v":""},null,277,{"$f":"Eingabemeldung(Sprache!$E$18,Sprache!$E$17,'Formulaire C'!E287)","v":""},{"$f":"Eingabemeldung(Sprache!$E$18,Sprache!$E$17,'Formulaire C'!G287)","v":""},false,0,{"$f":"IF(X287<Parameter!$C$4,1,0)","v":0}]
[null,null,null,null,null,null,null,null,{"$f":"IF(OR(E288=Sprache!$C$19,E288=Sprache!$D$19),F288,0)+IF(OR(G288=Sprache!$C$19,G288=Sprache!$D$19),H288,0)","v":0},{"$f":"IF(OR(E288=Sprache!$C$20,E288=Sprache!$D$20),F288,0)+IF(OR(G288=Sprache!$C$20,G288=Sprache!$D$20),H288,0)","v":0},{"$f":"IF(OR(E288=Sprache!$C$21,E288=Sprache!$D$21),F288,0)+IF(OR(G288=Sprache!$C$21,G288=Sprache!$D$21),H288,0)","v":0},{"$f":"IF(OR(E288=Sprache!$C$22,E288=Sprache!$D$22),F288,0)+IF(OR(G288=Sprache!$C$22,G288=Sprache!$D$22),H288,0)","v":0},{"$f":"IF(OR(E288=Sprache!$C$23,E288=Sprache!$D$23),F288,0)+IF(OR(G288=Sprache!$C$23,G288=Sprache!$D$23),H288,0)","v":0},{"$f":"IF(OR(E288=Sprache!$C$24,E288=Sprache!$D$24),F288,0)+IF(OR(G288=Sprache!$C$24,G288=Sprache!$D$24),H288,0)","v":0},0,{"$f":"'Formulaire B '!$G$11*I288+'Formulaire B '!$G$11*J288+'Formulaire B '!$G$12*K288+'Formulaire B '!$G$13*L288+'Formulaire B '!$G$14*M288+'Formulaire B '!$G$15*N288","v":0},"",null,null,null,0,null,null,"",null,{"$f":"IF(B288<>\"\",HYPERLINK($AC$9&AB288,Sprache!$E$25 &\" \"&B288),\"\")","v":""},null,278,{"$f":"Eingabemeldung(Sprache!$E$18,Sprache!$E$17,'Formulaire C'!E288)","v":""},{"$f":"Eingabemeldung(Sprache!$E$18,Sprache!$E$17,'Formulaire C'!G288)","v":""},false,0,{"$f":"IF(X288<Parameter!$C$4,1,0)","v":0}]
[null,null,null,null,null,null,null,null,{"$f":"IF(OR(E289=Sprache!$C$19,E289=Sprache!$D$19),F289,0)+IF(OR(G289=Sprache!$C$19,G289=Sprache!$D$19),H289,0)","v":0},{"$f":"IF(OR(E289=Sprache!$C$20,E289=Sprache!$D$20),F289,0)+IF(OR(G289=Sprache!$C$20,G289=Sprache!$D$20),H289,0)","v":0},{"$f":"IF(OR(E289=Sprache!$C$21,E289=Sprache!$D$21),F289,0)+IF(OR(G289=Sprache!$C$21,G289=Sprache!$D$21),H289,0)","v":0},{"$f":"IF(OR(E289=Sprache!$C$22,E289=Sprache!$D$22),F289,0)+IF(OR(G289=Sprache!$C$22,G289=Sprache!$D$22),H289,0)","v":0},{"$f":"IF(OR(E289=Sprache!$C$23,E289=Sprache!$D$23),F289,0)+IF(OR(G289=Sprache!$C$23,G289=Sprache!$D$23),H289,0)","v":0},{"$f":"IF(OR(E289=Sprache!$C$24,E289=Sprache!$D$24),F289,0)+IF(OR(G289=Sprache!$C$24,G289=Sprache!$D$24),H289,0)","v":0},0,{"$f":"'Formulaire B '!$G$11*I289+'Formulaire B '!$G$11*J289+'Formulaire B '!$G$12*K289+'Formulaire B '!$G$13*L289+'Formulaire B '!$G$14*M289+'Formulaire B '!$G$15*N289","v":0},"",null,null,null,0,null,null,"",null,{"$f":"IF(B289<>\"\",HYPERLINK($AC$9&AB289,Sprache!$E$25 &\" \"&B289),\"\")","v":""},null,279,{"$f":"Eingabemeldung(Sprache!$E$18,Sprache!$E$17,'Formulaire C'!E289)","v":""},{"$f":"Eingabemeldung(Sprache!$E$18,Sprache!$E$17,'Formulaire C'!G289)","v":""},false,0,{"$f":"IF(X289<Parameter!$C$4,1,0)","v":0}]
[null,null,null,null,null,null,null,null,{"$f":"IF(OR(E290=Sprache!$C$19,E290=Sprache!$D$19),F290,0)+IF(OR(G290=Sprache!$C$19,G290=Sprache!$D$19),H290,0)","v":0},{"$f":"IF(OR(E290=Sprache!$C$20,E290=Sprache!$D$20),F290,0)+IF(OR(G290=Sprache!$C$20,G290=Sprache!$D$20),H290,0)","v":0},{"$f":"IF(OR(E290=Sprache!$C$21,E290=Sprache!$D$21),F290,0)+IF(OR(G290=Sprache!$C$21,G290=Sprache!$D$21),H290,0)","v":0},{"$f":"IF(OR(E290=Sprache!$C$22,E290=Sprache!$D$22),F290,0)+IF(OR(G290=Sprache!$C$22,G290=Sprache!$D$22),H290,0)","v":0},{"$f":"IF(OR(E290=Sprache!$C$23,E290=Sprache!$D$23),F290,0)+IF(OR(G290=Sprache!$C$23,G290=Sprache!$D$23),H290,0)","v":0},{"$f":"IF(OR(E290=Sprache!$C$24,E290=Sprache!$D$24),F290,0)+IF(OR(G290=Sprache!$C$24,G290=Sprache!$D$24),H290,0)","v":0},0,{"$f":"'Formulaire B '!$G$11*I290+'Formulaire B '!$G$11*J290+'Formulaire B '!$G$12*K290+'Formulaire B '!$G$13*L290+'Formulaire B '!$G$14*M290+'Formulaire B '!$G$15*N290","v":0},"",null,null,null,0,null,null,"",null,{"$f":"IF(B290<>\"\",HYPERLINK($AC$9&AB290,Sprache!$E$25 &\" \"&B290),\"\")","v":""},null,280,{"$f":"Eingabemeldung(Sprache!$E$18,Sprache!$E$17,'Formulaire C'!E290)","v":""},{"$f":"Eingabemeldung(Sprache!$E$18,Sprache!$E$17,'Formulaire C'!G290)","v":""},false,0,{"$f":"IF(X290<Parameter!$C$4,1,0)","v":0}]
[null,null,null,null,null,null,null,null,{"$f":"IF(OR(E291=Sprache!$C$19,E291=Sprache!$D$19),F291,0)+IF(OR(G291=Sprache!$C$19,G291=Sprache!$D$19),H291,0)","v":0},{"$f":"IF(OR(E291=Sprache!$C$20,E291=Sprache!$D$20),F291,0)+IF(OR(G291=Sprache!$C$20,G291=Sprache!$D$20),H291,0)","v":0},{"$f":"IF(OR(E291=Sprache!$C$21,E291=Sprache!$D$21),F291,0)+IF(OR(G291=Sprache!$C$21,G291=Sprache!$D$21),H291,0)","v":0},{"$f":"IF(OR(E291=Sprache!$C$22,E291=Sprache!$D$22),F291,0)+IF(OR(G291=Sprache!$C$22,G291=Sprache!$D$22),H291,0)","v":0},{"$f":"IF(OR(E291=Sprache!$C$23,E291=Sprache!$D$23),F291,0)+IF(OR(G291=Sprache!$C$23,G291=Sprache!$D$23),H291,0)","v":0},{"$f":"IF(OR(E291=Sprache!$C$24,E291=Sprache!$D$24),F291,0)+IF(OR(G291=Sprache!$C$24,G291=Sprache!$D$24),H291,0)","v":0},0,{"$f":"'Formulaire B '!$G$11*I291+'Formulaire B '!$G$11*J291+'Formulaire B '!$G$12*K291+'Formulaire B '!$G$13*L291+'Formulaire B '!$G$14*M291+'Formulaire B '!$G$15*N291","v":0},"",null,null,null,0,null,null,"",null,{"$f":"IF(B291<>\"\",HYPERLINK($AC$9&AB291,Sprache!$E$25 &\" \"&B291),\"\")","v":""},null,281,{"$f":"Eingabemeldung(Sprache!$E$18,Sprache!$E$17,'Formulaire C'!E291)","v":""},{"$f":"Eingabemeldung(Sprache!$E$18,Sprache!$E$17,'Formulaire C'!G291)","v":""},false,0,{"$f":"IF(X291<Parameter!$C$4,1,0)","v":0}]
[null,null,null,null,null,null,null,null,{"$f":"IF(OR(E292=Sprache!$C$19,E292=Sprache!$D$19),F292,0)+IF(OR(G292=Sprache!$C$19,G292=Sprache!$D$19),H292,0)","v":0},{"$f":"IF(OR(E292=Sprache!$C$20,E292=Sprache!$D$20),F292,0)+IF(OR(G292=Sprache!$C$20,G292=Sprache!$D$20),H292,0)","v":0},{"$f":"IF(OR(E292=Sprache!$C$21,E292=Sprache!$D$21),F292,0)+IF(OR(G292=Sprache!$C$21,G292=Sprache!$D$21),H292,0)","v":0},{"$f":"IF(OR(E292=Sprache!$C$22,E292=Sprache!$D$22),F292,0)+IF(OR(G292=Sprache!$C$22,G292=Sprache!$D$22),H292,0)","v":0},{"$f":"IF(OR(E292=Sprache!$C$23,E292=Sprache!$D$23),F292,0)+IF(OR(G292=Sprache!$C$23,G292=Sprache!$D$23),H292,0)","v":0},{"$f":"IF(OR(E292=Sprache!$C$24,E292=Sprache!$D$24),F292,0)+IF(OR(G292=Sprache!$C$24,G292=Sprache!$D$24),H292,0)","v":0},0,{"$f":"'Formulaire B '!$G$11*I292+'Formulaire B '!$G$11*J292+'Formulaire B '!$G$12*K292+'Formulaire B '!$G$13*L292+'Formulaire B '!$G$14*M292+'Formulaire B '!$G$15*N292","v":0},"",null,null,null,0,null,null,"",null,{"$f":"IF(B292<>\"\",HYPERLINK($AC$9&AB292,Sprache!$E$25 &\" \"&B292),\"\")","v":""},null,282,{"$f":"Eingabemeldung(Sprache!$E$18,Sprache!$E$17,'Formulaire C'!E292)","v":""},{"$f":"Eingabemeldung(Sprache!$E$18,Sprache!$E$17,'Formulaire C'!G292)","v":""},false,0,{"$f":"IF(X292<Parameter!$C$4,1,0)","v":0}]
[null,null,null,null,null,null,null,null,{"$f":"IF(OR(E293=Sprache!$C$19,E293=Sprache!$D$19),F293,0)+IF(OR(G293=Sprache!$C$19,G293=Sprache!$D$19),H293,0)","v":0},{"$f":"IF(OR(E293=Sprache!$C$20,E293=Sprache!$D$20),F293,0)+IF(OR(G293=Sprache!$C$20,G293=Sprache!$D$20),H293,0)","v":0},{"$f":"IF(OR(E293=Sprache!$C$21,E293=Sprache!$D$21),F293,0)+IF(OR(G293=Sprache!$C$21,G293=Sprache!$D$21),H293,0)","v":0},{"$f":"IF(OR(E293=Sprache!$C$22,E293=Sprache!$D$22),F293,0)+IF(OR(G293=Sprache!$C$22,G293=Sprache!$D$22),H293,0)","v":0},{"$f":"IF(OR(E293=Sprache!$C$23,E293=Sprache!$D$23),F293,0)+IF(OR(G293=Sprache!$C$23,G293=Sprache!$D$23),H293,0)","v":0},{"$f":"IF(OR(E293=Sprache!$C$24,E293=Sprache!$D$24),F293,0)+IF(OR(G293=Sprache!$C$24,G293=Sprache!$D$24),H293,0)","v":0},0,{"$f":"'Formulaire B '!$G$11*I293+'Formulaire B '!$G$11*J293+'Formulaire B '!$G$12*K293+'Formulaire B '!$G$13*L293+'Formulaire B '!$G$14*M293+'Formulaire B '!$G$15*N293","v":0},"",null,null,null,0,null,null,"",null,{"$f":"IF(B293<>\"\",HYPERLINK($AC$9&AB293,Sprache!$E$25 &\" \"&B293),\"\")","v":""},null,283,{"$f":"Eingabemeldung(Sprache!$E$18,Sprache!$E$17,'Formulaire C'!E293)","v":""},{"$f":"Eingabemeldung(Sprache!$E$18,Sprache!$E$17,'Formulaire C'!G293)","v":""},false,0,{"$f":"IF(X293<Parameter!$C$4,1,0)","v":0}]
[null,null,null,null,null,null,null,null,{"$f":"IF(OR(E294=Sprache!$C$19,E294=Sprache!$D$19),F294,0)+IF(OR(G294=Sprache!$C$19,G294=Sprache!$D$19),H294,0)","v":0},{"$f":"IF(OR(E294=Sprache!$C$20,E294=Sprache!$D$20),F294,0)+IF(OR(G294=Sprache!$C$20,G294=Sprache!$D$20),H294,0)","v":0},{"$f":"IF(OR(E294=Sprache!$C$21,E294=Sprache!$D$21),F294,0)+IF(OR(G294=Sprache!$C$21,G294=Sprache!$D$21),H294,0)","v":0},{"$f":"IF(OR(E294=Sprache!$C$22,E294=Sprache!$D$22),F294,0)+IF(OR(G294=Sprache!$C$22,G294=Sprache!$D$22),H294,0)","v":0},{"$f":"IF(OR(E294=Sprache!$C$23,E294=Sprache!$D$23),F294,0)+IF(OR(G294=Sprache!$C$23,G294=Sprache!$D$23),H294,0)","v":0},{"$f":"IF(OR(E294=Sprache!$C$24,E294=Sprache!$D$24),F294,0)+IF(OR(G294=Sprache!$C$24,G294=Sprache!$D$24),H294,0)","v":0},0,{"$f":"'Formulaire B '!$G$11*I294+'Formulaire B '!$G$11*J294+'Formulaire B '!$G$12*K294+'Formulaire B '!$G$13*L294+'Formulaire B '!$G$14*M294+'Formulaire B '!$G$15*N294","v":0},"",null,null,null,0,null,null,"",null,{"$f":"IF(B294<>\"\",HYPERLINK($AC$9&AB294,Sprache!$E$25 &\" \"&B294),\"\")","v":""},null,284,{"$f":"Eingabemeldung(Sprache!$E$18,Sprache!$E$17,'Formulaire C'!E294)","v":""},{"$f":"Eingabemeldung(Sprache!$E$18,Sprache!$E$17,'Formulaire C'!G294)","v":""},false,0,{"$f":"IF(X294<Parameter!$C$4,1,0)","v":0}]
[null,null,null,null,null,null,null,null,{"$f":"IF(OR(E295=Sprache!$C$19,E295=Sprache!$D$19),F295,0)+IF(OR(G295=Sprache!$C$19,G295=Sprache!$D$19),H295,0)","v":0},{"$f":"IF(OR(E295=Sprache!$C$20,E295=Sprache!$D$20),F295,0)+IF(OR(G295=Sprache!$C$20,G295=Sprache!$D$20),H295,0)","v":0},{"$f":"IF(OR(E295=Sprache!$C$21,E295=Sprache!$D$21),F295,0)+IF(OR(G295=Sprache!$C$21,G295=Sprache!$D$21),H295,0)","v":0},{"$f":"IF(OR(E295=Sprache!$C$22,E295=Sprache!$D$22),F295,0)+IF(OR(G295=Sprache!$C$22,G295=Sprache!$D$22),H295,0)","v":0},{"$f":"IF(OR(E295=Sprache!$C$23,E295=Sprache!$D$23),F295,0)+IF(OR(G295=Sprache!$C$23,G295=Sprache!$D$23),H295,0)","v":0},{"$f":"IF(OR(E295=Sprache!$C$24,E295=Sprache!$D$24),F295,0)+IF(OR(G295=Sprache!$C$24,G295=Sprache!$D$24),H295,0)","v":0},0,{"$f":"'Formulaire B '!$G$11*I295+'Formulaire B '!$G$11*J295+'Formulaire B '!$G$12*K295+'Formulaire B '!$G$13*L295+'Formulaire B '!$G$14*M295+'Formulaire B '!$G$15*N295","v":0},"",null,null,null,0,null,null,"",null,{"$f":"IF(B295<>\"\",HYPERLINK($AC$9&AB295,Sprache!$E$25 &\" \"&B295),\"\")","v":""},null,285,{"$f":"Eingabemeldung(Sprache!$E$18,Sprache!$E$17,'Formulaire C'!E295)","v":""},{"$f":"Eingabemeldung(Sprache!$E$18,Sprache!$E$17,'Formulaire C'!G295)","v":""},false,0,{"$f":"IF(X295<Parameter!$C$4,1,0)","v":0}]
[null,null,null,null,null,null,null,null,{"$f":"IF(OR(E296=Sprache!$C$19,E296=Sprache!$D$19),F296,0)+IF(OR(G296=Sprache!$C$19,G296=Sprache!$D$19),H296,0)","v":0},{"$f":"IF(OR(E296=Sprache!$C$20,E296=Sprache!$D$20),F296,0)+IF(OR(G296=Sprache!$C$20,G296=Sprache!$D$20),H296,0)","v":0},{"$f":"IF(OR(E296=Sprache!$C$21,E296=Sprache!$D$21),F296,0)+IF(OR(G296=Sprache!$C$21,G296=Sprache!$D$21),H296,0)","v":0},{"$f":"IF(OR(E296=Sprache!$C$22,E296=Sprache!$D$22),F296,0)+IF(OR(G296=Sprache!$C$22,G296=Sprache!$D$22),H296,0)","v":0},{"$f":"IF(OR(E296=Sprache!$C$23,E296=Sprache!$D$23),F296,0)+IF(OR(G296=Sprache!$C$23,G296=Sprache!$D$23),H296,0)","v":0},{"$f":"IF(OR(E296=Sprache!$C$24,E296=Sprache!$D$24),F296,0)+IF(OR(G296=Sprache!$C$24,G296=Sprache!$D$24),H296,0)","v":0},0,{"$f":"'Formulaire B '!$G$11*I296+'Formulaire B '!$G$11*J296+'Formulaire B '!$G$12*K296+'Formulaire B '!$G$13*L296+'Formulaire B '!$G$14*M296+'Formulaire B '!$G$15*N296","v":0},"",null,null,null,0,null,null,"",null,{"$f":"IF(B296<>\"\",HYPERLINK($AC$9&AB296,Sprache!$E$25 &\" \"&B296),\"\")","v":""},null,286,{"$f":"Eingabemeldung(Sprache!$E$18,Sprache!$E$17,'Formulaire C'!E296)","v":""},{"$f":"Eingabemeldung(Sprache!$E$18,Sprache!$E$17,'Formulaire C'!G296)","v":""},false,0,{"$f":"IF(X296<Parameter!$C$4,1,0)","v":0}]
[null,null,null,null,null,null,null,null,{"$f":"IF(OR(E297=Sprache!$C$19,E297=Sprache!$D$19),F297,0)+IF(OR(G297=Sprache!$C$19,G297=Sprache!$D$19),H297,0)","v":0},{"$f":"IF(OR(E297=Sprache!$C$20,E297=Sprache!$D$20),F297,0)+IF(OR(G297=Sprache!$C$20,G297=Sprache!$D$20),H297,0)","v":0},{"$f":"IF(OR(E297=Sprache!$C$21,E297=Sprache!$D$21),F297,0)+IF(OR(G297=Sprache!$C$21,G297=Sprache!$D$21),H297,0)","v":0},{"$f":"IF(OR(E297=Sprache!$C$22,E297=Sprache!$D$22),F297,0)+IF(OR(G297=Sprache!$C$22,G297=Sprache!$D$22),H297,0)","v":0},{"$f":"IF(OR(E297=Sprache!$C$23,E297=Sprache!$D$23),F297,0)+IF(OR(G297=Sprache!$C$23,G297=Sprache!$D$23),H297,0)","v":0},{"$f":"IF(OR(E297=Sprache!$C$24,E297=Sprache!$D$24),F297,0)+IF(OR(G297=Sprache!$C$24,G297=Sprache!$D$24),H297,0)","v":0},0,{"$f":"'Formulaire B '!$G$11*I297+'Formulaire B '!$G$11*J297+'Formulaire B '!$G$12*K297+'Formulaire B '!$G$13*L297+'Formulaire B '!$G$14*M297+'Formulaire B '!$G$15*N297","v":0},"",null,null,null,0,null,null,"",null,{"$f":"IF(B297<>\"\",HYPERLINK($AC$9&AB297,Sprache!$E$25 &\" \"&B297),\"\")","v":""},null,287,{"$f":"Eingabemeldung(Sprache!$E$18,Sprache!$E$17,'Formulaire C'!E297)","v":""},{"$f":"Eingabemeldung(Sprache!$E$18,Sprache!$E$17,'Formulaire C'!G297)","v":""},false,0,{"$f":"IF(X297<Parameter!$C$4,1,0)","v":0}]
[null,null,null,null,null,null,null,null,{"$f":"IF(OR(E298=Sprache!$C$19,E298=Sprache!$D$19),F298,0)+IF(OR(G298=Sprache!$C$19,G298=Sprache!$D$19),H298,0)","v":0},{"$f":"IF(OR(E298=Sprache!$C$20,E298=Sprache!$D$20),F298,0)+IF(OR(G298=Sprache!$C$20,G298=Sprache!$D$20),H298,0)","v":0},{"$f":"IF(OR(E298=Sprache!$C$21,E298=Sprache!$D$21),F298,0)+IF(OR(G298=Sprache!$C$21,G298=Sprache!$D$21),H298,0)","v":0},{"$f":"IF(OR(E298=Sprache!$C$22,E298=Sprache!$D$22),F298,0)+IF(OR(G298=Sprache!$C$22,G298=Sprache!$D$22),H298,0)","v":0},{"$f":"IF(OR(E298=Sprache!$C$23,E298=Sprache!$D$23),F298,0)+IF(OR(G298=Sprache!$C$23,G298=Sprache!$D$23),H298,0)","v":0},{"$f":"IF(OR(E298=Sprache!$C$24,E298=Sprache!$D$24),F298,0)+IF(OR(G298=Sprache!$C$24,G298=Sprache!$D$24),H298,0)","v":0},0,{"$f":"'Formulaire B '!$G$11*I298+'Formulaire B '!$G$11*J298+'Formulaire B '!$G$12*K298+'Formulaire B '!$G$13*L298+'Formulaire B '!$G$14*M298+'Formulaire B '!$G$15*N298","v":0},"",null,null,null,0,null,null,"",null,{"$f":"IF(B298<>\"\",HYPERLINK($AC$9&AB298,Sprache!$E$25 &\" \"&B298),\"\")","v":""},null,288,{"$f":"Eingabemeldung(Sprache!$E$18,Sprache!$E$17,'Formulaire C'!E298)","v":""},{"$f":"Eingabemeldung(Sprache!$E$18,Sprache!$E$17,'Formulaire C'!G298)","v":""},false,0,{"$f":"IF(X298<Parameter!$C$4,1,0)","v":0}]
[null,null,null,null,null,null,null,null,{"$f":"IF(OR(E299=Sprache!$C$19,E299=Sprache!$D$19),F299,0)+IF(OR(G299=Sprache!$C$19,G299=Sprache!$D$19),H299,0)","v":0},{"$f":"IF(OR(E299=Sprache!$C$20,E299=Sprache!$D$20),F299,0)+IF(OR(G299=Sprache!$C$20,G299=Sprache!$D$20),H299,0)","v":0},{"$f":"IF(OR(E299=Sprache!$C$21,E299=Sprache!$D$21),F299,0)+IF(OR(G299=Sprache!$C$21,G299=Sprache!$D$21),H299,0)","v":0},{"$f":"IF(OR(E299=Sprache!$C$22,E299=Sprache!$D$22),F299,0)+IF(OR(G299=Sprache!$C$22,G299=Sprache!$D$22),H299,0)","v":0},{"$f":"IF(OR(E299=Sprache!$C$23,E299=Sprache!$D$23),F299,0)+IF(OR(G299=Sprache!$C$23,G299=Sprache!$D$23),H299,0)","v":0},{"$f":"IF(OR(E299=Sprache!$C$24,E299=Sprache!$D$24),F299,0)+IF(OR(G299=Sprache!$C$24,G299=Sprache!$D$24),H299,0)","v":0},0,{"$f":"'Formulaire B '!$G$11*I299+'Formulaire B '!$G$11*J299+'Formulaire B '!$G$12*K299+'Formulaire B '!$G$13*L299+'Formulaire B '!$G$14*M299+'Formulaire B '!$G$15*N299","v":0},"",null,null,null,0,null,null,"",null,{"$f":"IF(B299<>\"\",HYPERLINK($AC$9&AB299,Sprache!$E$25 &\" \"&B299),\"\")","v":""},null,289,{"$f":"Eingabemeldung(Sprache!$E$18,Sprache!$E$17,'Formulaire C'!E299)","v":""},{"$f":"Eingabemeldung(Sprache!$E$18,Sprache!$E$17,'Formulaire C'!G299)","v":""},false,0,{"$f":"IF(X299<Parameter!$C$4,1,0)","v":0}]
[null,null,null,null,null,null,null,null,{"$f":"IF(OR(E300=Sprache!$C$19,E300=Sprache!$D$19),F300,0)+IF(OR(G300=Sprache!$C$19,G300=Sprache!$D$19),H300,0)","v":0},{"$f":"IF(OR(E300=Sprache!$C$20,E300=Sprache!$D$20),F300,0)+IF(OR(G300=Sprache!$C$20,G300=Sprache!$D$20),H300,0)","v":0},{"$f":"IF(OR(E300=Sprache!$C$21,E300=Sprache!$D$21),F300,0)+IF(OR(G300=Sprache!$C$21,G300=Sprache!$D$21),H300,0)","v":0},{"$f":"IF(OR(E300=Sprache!$C$22,E300=Sprache!$D$22),F300,0)+IF(OR(G300=Sprache!$C$22,G300=Sprache!$D$22),H300,0)","v":0},{"$f":"IF(OR(E300=Sprache!$C$23,E300=Sprache!$D$23),F300,0)+IF(OR(G300=Sprache!$C$23,G300=Sprache!$D$23),H300,0)","v":0},{"$f":"IF(OR(E300=Sprache!$C$24,E300=Sprache!$D$24),F300,0)+IF(OR(G300=Sprache!$C$24,G300=Sprache!$D$24),H300,0)","v":0},0,{"$f":"'Formulaire B '!$G$11*I300+'Formulaire B '!$G$11*J300+'Formulaire B '!$G$12*K300+'Formulaire B '!$G$13*L300+'Formulaire B '!$G$14*M300+'Formulaire B '!$G$15*N300","v":0},"",null,null,null,0,null,null,"",null,{"$f":"IF(B300<>\"\",HYPERLINK($AC$9&AB300,Sprache!$E$25 &\" \"&B300),\"\")","v":""},null,290,{"$f":"Eingabemeldung(Sprache!$E$18,Sprache!$E$17,'Formulaire C'!E300)","v":""},{"$f":"Eingabemeldung(Sprache!$E$18,Sprache!$E$17,'Formulaire C'!G300)","v":""},false,0,{"$f":"IF(X300<Parameter!$C$4,1,0)","v":0}]
[null,null,null,null,null,null,null,null,{"$f":"IF(OR(E301=Sprache!$C$19,E301=Sprache!$D$19),F301,0)+IF(OR(G301=Sprache!$C$19,G301=Sprache!$D$19),H301,0)","v":0},{"$f":"IF(OR(E301=Sprache!$C$20,E301=Sprache!$D$20),F301,0)+IF(OR(G301=Sprache!$C$20,G301=Sprache!$D$20),H301,0)","v":0},{"$f":"IF(OR(E301=Sprache!$C$21,E301=Sprache!$D$21),F301,0)+IF(OR(G301=Sprache!$C$21,G301=Sprache!$D$21),H301,0)","v":0},{"$f":"IF(OR(E301=Sprache!$C$22,E301=Sprache!$D$22),F301,0)+IF(OR(G301=Sprache!$C$22,G301=Sprache!$D$22),H301,0)","v":0},{"$f":"IF(OR(E301=Sprache!$C$23,E301=Sprache!$D$23),F301,0)+IF(OR(G301=Sprache!$C$23,G301=Sprache!$D$23),H301,0)","v":0},{"$f":"IF(OR(E301=Sprache!$C$24,E301=Sprache!$D$24),F301,0)+IF(OR(G301=Sprache!$C$24,G301=Sprache!$D$24),H301,0)","v":0},0,{"$f":"'Formulaire B '!$G$11*I301+'Formulaire B '!$G$11*J301+'Formulaire B '!$G$12*K301+'Formulaire B '!$G$13*L301+'Formulaire B '!$G$14*M301+'Formulaire B '!$G$15*N301","v":0},"",null,null,null,0,null,null,"",null,{"$f":"IF(B301<>\"\",HYPERLINK($AC$9&AB301,Sprache!$E$25 &\" \"&B301),\"\")","v":""},null,291,{"$f":"Eingabemeldung(Sprache!$E$18,Sprache!$E$17,'Formulaire C'!E301)","v":""},{"$f":"Eingabemeldung(Sprache!$E$18,Sprache!$E$17,'Formulaire C'!G301)","v":""},false,0,{"$f":"IF(X301<Parameter!$C$4,1,0)","v":0}]
[null,null,null,null,null,null,null,null,{"$f":"IF(OR(E302=Sprache!$C$19,E302=Sprache!$D$19),F302,0)+IF(OR(G302=Sprache!$C$19,G302=Sprache!$D$19),H302,0)","v":0},{"$f":"IF(OR(E302=Sprache!$C$20,E302=Sprache!$D$20),F302,0)+IF(OR(G302=Sprache!$C$20,G302=Sprache!$D$20),H302,0)","v":0},{"$f":"IF(OR(E302=Sprache!$C$21,E302=Sprache!$D$21),F302,0)+IF(OR(G302=Sprache!$C$21,G302=Sprache!$D$21),H302,0)","v":0},{"$f":"IF(OR(E302=Sprache!$C$22,E302=Sprache!$D$22),F302,0)+IF(OR(G302=Sprache!$C$22,G302=Sprache!$D$22),H302,0)","v":0},{"$f":"IF(OR(E302=Sprache!$C$23,E302=Sprache!$D$23),F302,0)+IF(OR(G302=Sprache!$C$23,G302=Sprache!$D$23),H302,0)","v":0},{"$f":"IF(OR(E302=Sprache!$C$24,E302=Sprache!$D$24),F302,0)+IF(OR(G302=Sprache!$C$24,G302=Sprache!$D$24),H302,0)","v":0},0,{"$f":"'Formulaire B '!$G$11*I302+'Formulaire B '!$G$11*J302+'Formulaire B '!$G$12*K302+'Formulaire B '!$G$13*L302+'Formulaire B '!$G$14*M302+'Formulaire B '!$G$15*N302","v":0},"",null,null,null,0,null,null,"",null,{"$f":"IF(B302<>\"\",HYPERLINK($AC$9&AB302,Sprache!$E$25 &\" \"&B302),\"\")","v":""},null,292,{"$f":"Eingabemeldung(Sprache!$E$18,Sprache!$E$17,'Formulaire C'!E302)","v":""},{"$f":"Eingabemeldung(Sprache!$E$18,Sprache!$E$17,'Formulaire C'!G302)","v":""},false,0,{"$f":"IF(X302<Parameter!$C$4,1,0)","v":0}]
[null,null,null,null,null,null,null,null,{"$f":"IF(OR(E303=Sprache!$C$19,E303=Sprache!$D$19),F303,0)+IF(OR(G303=Sprache!$C$19,G303=Sprache!$D$19),H303,0)","v":0},{"$f":"IF(OR(E303=Sprache!$C$20,E303=Sprache!$D$20),F303,0)+IF(OR(G303=Sprache!$C$20,G303=Sprache!$D$20),H303,0)","v":0},{"$f":"IF(OR(E303=Sprache!$C$21,E303=Sprache!$D$21),F303,0)+IF(OR(G303=Sprache!$C$21,G303=Sprache!$D$21),H303,0)","v":0},{"$f":"IF(OR(E303=Sprache!$C$22,E303=Sprache!$D$22),F303,0)+IF(OR(G303=Sprache!$C$22,G303=Sprache!$D$22),H303,0)","v":0},{"$f":"IF(OR(E303=Sprache!$C$23,E303=Sprache!$D$23),F303,0)+IF(OR(G303=Sprache!$C$23,G303=Sprache!$D$23),H303,0)","v":0},{"$f":"IF(OR(E303=Sprache!$C$24,E303=Sprache!$D$24),F303,0)+IF(OR(G303=Sprache!$C$24,G303=Sprache!$D$24),H303,0)","v":0},0,{"$f":"'Formulaire B '!$G$11*I303+'Formulaire B '!$G$11*J303+'Formulaire B '!$G$12*K303+'Formulaire B '!$G$13*L303+'Formulaire B '!$G$14*M303+'Formulaire B '!$G$15*N303","v":0},"",null,null,null,0,null,null,"",null,{"$f":"IF(B303<>\"\",HYPERLINK($AC$9&AB303,Sprache!$E$25 &\" \"&B303),\"\")","v":""},null,293,{"$f":"Eingabemeldung(Sprache!$E$18,Sprache!$E$17,'Formulaire C'!E303)","v":""},{"$f":"Eingabemeldung(Sprache!$E$18,Sprache!$E$17,'Formulaire C'!G303)","v":""},false,0,{"$f":"IF(X303<Parameter!$C$4,1,0)","v":0}]
[null,null,null,null,null,null,null,null,{"$f":"IF(OR(E304=Sprache!$C$19,E304=Sprache!$D$19),F304,0)+IF(OR(G304=Sprache!$C$19,G304=Sprache!$D$19),H304,0)","v":0},{"$f":"IF(OR(E304=Sprache!$C$20,E304=Sprache!$D$20),F304,0)+IF(OR(G304=Sprache!$C$20,G304=Sprache!$D$20),H304,0)","v":0},{"$f":"IF(OR(E304=Sprache!$C$21,E304=Sprache!$D$21),F304,0)+IF(OR(G304=Sprache!$C$21,G304=Sprache!$D$21),H304,0)","v":0},{"$f":"IF(OR(E304=Sprache!$C$22,E304=Sprache!$D$22),F304,0)+IF(OR(G304=Sprache!$C$22,G304=Sprache!$D$22),H304,0)","v":0},{"$f":"IF(OR(E304=Sprache!$C$23,E304=Sprache!$D$23),F304,0)+IF(OR(G304=Sprache!$C$23,G304=Sprache!$D$23),H304,0)","v":0},{"$f":"IF(OR(E304=Sprache!$C$24,E304=Sprache!$D$24),F304,0)+IF(OR(G304=Sprache!$C$24,G304=Sprache!$D$24),H304,0)","v":0},0,{"$f":"'Formulaire B '!$G$11*I304+'Formulaire B '!$G$11*J304+'Formulaire B '!$G$12*K304+'Formulaire B '!$G$13*L304+'Formulaire B '!$G$14*M304+'Formulaire B '!$G$15*N304","v":0},"",null,null,null,0,null,null,"",null,{"$f":"IF(B304<>\"\",HYPERLINK($AC$9&AB304,Sprache!$E$25 &\" \"&B304),\"\")","v":""},null,294,{"$f":"Eingabemeldung(Sprache!$E$18,Sprache!$E$17,'Formulaire C'!E304)","v":""},{"$f":"Eingabemeldung(Sprache!$E$18,Sprache!$E$17,'Formulaire C'!G304)","v":""},false,0,{"$f":"IF(X304<Parameter!$C$4,1,0)","v":0}]
[null,null,null,null,null,null,null,null,{"$f":"IF(OR(E305=Sprache!$C$19,E305=Sprache!$D$19),F305,0)+IF(OR(G305=Sprache!$C$19,G305=Sprache!$D$19),H305,0)","v":0},{"$f":"IF(OR(E305=Sprache!$C$20,E305=Sprache!$D$20),F305,0)+IF(OR(G305=Sprache!$C$20,G305=Sprache!$D$20),H305,0)","v":0},{"$f":"IF(OR(E305=Sprache!$C$21,E305=Sprache!$D$21),F305,0)+IF(OR(G305=Sprache!$C$21,G305=Sprache!$D$21),H305,0)","v":0},{"$f":"IF(OR(E305=Sprache!$C$22,E305=Sprache!$D$22),F305,0)+IF(OR(G305=Sprache!$C$22,G305=Sprache!$D$22),H305,0)","v":0},{"$f":"IF(OR(E305=Sprache!$C$23,E305=Sprache!$D$23),F305,0)+IF(OR(G305=Sprache!$C$23,G305=Sprache!$D$23),H305,0)","v":0},{"$f":"IF(OR(E305=Sprache!$C$24,E305=Sprache!$D$24),F305,0)+IF(OR(G305=Sprache!$C$24,G305=Sprache!$D$24),H305,0)","v":0},0,{"$f":"'Formulaire B '!$G$11*I305+'Formulaire B '!$G$11*J305+'Formulaire B '!$G$12*K305+'Formulaire B '!$G$13*L305+'Formulaire B '!$G$14*M305+'Formulaire B '!$G$15*N305","v":0},"",null,null,null,0,null,null,"",null,{"$f":"IF(B305<>\"\",HYPERLINK($AC$9&AB305,Sprache!$E$25 &\" \"&B305),\"\")","v":""},null,295,{"$f":"Eingabemeldung(Sprache!$E$18,Sprache!$E$17,'Formulaire C'!E305)","v":""},{"$f":"Eingabemeldung(Sprache!$E$18,Sprache!$E$17,'Formulaire C'!G305)","v":""},false,0,{"$f":"IF(X305<Parameter!$C$4,1,0)","v":0}]
[null,null,null,null,null,null,null,null,{"$f":"IF(OR(E306=Sprache!$C$19,E306=Sprache!$D$19),F306,0)+IF(OR(G306=Sprache!$C$19,G306=Sprache!$D$19),H306,0)","v":0},{"$f":"IF(OR(E306=Sprache!$C$20,E306=Sprache!$D$20),F306,0)+IF(OR(G306=Sprache!$C$20,G306=Sprache!$D$20),H306,0)","v":0},{"$f":"IF(OR(E306=Sprache!$C$21,E306=Sprache!$D$21),F306,0)+IF(OR(G306=Sprache!$C$21,G306=Sprache!$D$21),H306,0)","v":0},{"$f":"IF(OR(E306=Sprache!$C$22,E306=Sprache!$D$22),F306,0)+IF(OR(G306=Sprache!$C$22,G306=Sprache!$D$22),H306,0)","v":0},{"$f":"IF(OR(E306=Sprache!$C$23,E306=Sprache!$D$23),F306,0)+IF(OR(G306=Sprache!$C$23,G306=Sprache!$D$23),H306,0)","v":0},{"$f":"IF(OR(E306=Sprache!$C$24,E306=Sprache!$D$24),F306,0)+IF(OR(G306=Sprache!$C$24,G306=Sprache!$D$24),H306,0)","v":0},0,{"$f":"'Formulaire B '!$G$11*I306+'Formulaire B '!$G$11*J306+'Formulaire B '!$G$12*K306+'Formulaire B '!$G$13*L306+'Formulaire B '!$G$14*M306+'Formulaire B '!$G$15*N306","v":0},"",null,null,null,0,null,null,"",null,{"$f":"IF(B306<>\"\",HYPERLINK($AC$9&AB306,Sprache!$E$25 &\" \"&B306),\"\")","v":""},null,296,{"$f":"Eingabemeldung(Sprache!$E$18,Sprache!$E$17,'Formulaire C'!E306)","v":""},{"$f":"Eingabemeldung(Sprache!$E$18,Sprache!$E$17,'Formulaire C'!G306)","v":""},false,0,{"$f":"IF(X306<Parameter!$C$4,1,0)","v":0}]
[null,null,null,null,null,null,null,null,{"$f":"IF(OR(E307=Sprache!$C$19,E307=Sprache!$D$19),F307,0)+IF(OR(G307=Sprache!$C$19,G307=Sprache!$D$19),H307,0)","v":0},{"$f":"IF(OR(E307=Sprache!$C$20,E307=Sprache!$D$20),F307,0)+IF(OR(G307=Sprache!$C$20,G307=Sprache!$D$20),H307,0)","v":0},{"$f":"IF(OR(E307=Sprache!$C$21,E307=Sprache!$D$21),F307,0)+IF(OR(G307=Sprache!$C$21,G307=Sprache!$D$21),H307,0)","v":0},{"$f":"IF(OR(E307=Sprache!$C$22,E307=Sprache!$D$22),F307,0)+IF(OR(G307=Sprache!$C$22,G307=Sprache!$D$22),H307,0)","v":0},{"$f":"IF(OR(E307=Sprache!$C$23,E307=Sprache!$D$23),F307,0)+IF(OR(G307=Sprache!$C$23,G307=Sprache!$D$23),H307,0)","v":0},{"$f":"IF(OR(E307=Sprache!$C$24,E307=Sprache!$D$24),F307,0)+IF(OR(G307=Sprache!$C$24,G307=Sprache!$D$24),H307,0)","v":0},0,{"$f":"'Formulaire B '!$G$11*I307+'Formulaire B '!$G$11*J307+'Formulaire B '!$G$12*K307+'Formulaire B '!$G$13*L307+'Formulaire B '!$G$14*M307+'Formulaire B '!$G$15*N307","v":0},"",null,null,null,0,null,null,"",null,{"$f":"IF(B307<>\"\",HYPERLINK($AC$9&AB307,Sprache!$E$25 &\" \"&B307),\"\")","v":""},null,297,{"$f":"Eingabemeldung(Sprache!$E$18,Sprache!$E$17,'Formulaire C'!E307)","v":""},{"$f":"Eingabemeldung(Sprache!$E$18,Sprache!$E$17,'Formulaire C'!G307)","v":""},false,0,{"$f":"IF(X307<Parameter!$C$4,1,0)","v":0}]
[null,null,null,null,null,null,null,null,{"$f":"IF(OR(E308=Sprache!$C$19,E308=Sprache!$D$19),F308,0)+IF(OR(G308=Sprache!$C$19,G308=Sprache!$D$19),H308,0)","v":0},{"$f":"IF(OR(E308=Sprache!$C$20,E308=Sprache!$D$20),F308,0)+IF(OR(G308=Sprache!$C$20,G308=Sprache!$D$20),H308,0)","v":0},{"$f":"IF(OR(E308=Sprache!$C$21,E308=Sprache!$D$21),F308,0)+IF(OR(G308=Sprache!$C$21,G308=Sprache!$D$21),H308,0)","v":0},{"$f":"IF(OR(E308=Sprache!$C$22,E308=Sprache!$D$22),F308,0)+IF(OR(G308=Sprache!$C$22,G308=Sprache!$D$22),H308,0)","v":0},{"$f":"IF(OR(E308=Sprache!$C$23,E308=Sprache!$D$23),F308,0)+IF(OR(G308=Sprache!$C$23,G308=Sprache!$D$23),H308,0)","v":0},{"$f":"IF(OR(E308=Sprache!$C$24,E308=Sprache!$D$24),F308,0)+IF(OR(G308=Sprache!$C$24,G308=Sprache!$D$24),H308,0)","v":0},0,{"$f":"'Formulaire B '!$G$11*I308+'Formulaire B '!$G$11*J308+'Formulaire B '!$G$12*K308+'Formulaire B '!$G$13*L308+'Formulaire B '!$G$14*M308+'Formulaire B '!$G$15*N308","v":0},"",null,null,null,0,null,null,"",null,{"$f":"IF(B308<>\"\",HYPERLINK($AC$9&AB308,Sprache!$E$25 &\" \"&B308),\"\")","v":""},null,298,{"$f":"Eingabemeldung(Sprache!$E$18,Sprache!$E$17,'Formulaire C'!E308)","v":""},{"$f":"Eingabemeldung(Sprache!$E$18,Sprache!$E$17,'Formulaire C'!G308)","v":""},false,0,{"$f":"IF(X308<Parameter!$C$4,1,0)","v":0}]
[null,null,null,null,null,null,null,null,{"$f":"IF(OR(E309=Sprache!$C$19,E309=Sprache!$D$19),F309,0)+IF(OR(G309=Sprache!$C$19,G309=Sprache!$D$19),H309,0)","v":0},{"$f":"IF(OR(E309=Sprache!$C$20,E309=Sprache!$D$20),F309,0)+IF(OR(G309=Sprache!$C$20,G309=Sprache!$D$20),H309,0)","v":0},{"$f":"IF(OR(E309=Sprache!$C$21,E309=Sprache!$D$21),F309,0)+IF(OR(G309=Sprache!$C$21,G309=Sprache!$D$21),H309,0)","v":0},{"$f":"IF(OR(E309=Sprache!$C$22,E309=Sprache!$D$22),F309,0)+IF(OR(G309=Sprache!$C$22,G309=Sprache!$D$22),H309,0)","v":0},{"$f":"IF(OR(E309=Sprache!$C$23,E309=Sprache!$D$23),F309,0)+IF(OR(G309=Sprache!$C$23,G309=Sprache!$D$23),H309,0)","v":0},{"$f":"IF(OR(E309=Sprache!$C$24,E309=Sprache!$D$24),F309,0)+IF(OR(G309=Sprache!$C$24,G309=Sprache!$D$24),H309,0)","v":0},0,{"$f":"'Formulaire B '!$G$11*I309+'Formulaire B '!$G$11*J309+'Formulaire B '!$G$12*K309+'Formulaire B '!$G$13*L309+'Formulaire B '!$G$14*M309+'Formulaire B '!$G$15*N309","v":0},"",null,null,null,0,null,null,"",null,{"$f":"IF(B309<>\"\",HYPERLINK($AC$9&AB309,Sprache!$E$25 &\" \"&B309),\"\")","v":""},null,299,{"$f":"Eingabemeldung(Sprache!$E$18,Sprache!$E$17,'Formulaire C'!E309)","v":""},{"$f":"Eingabemeldung(Sprache!$E$18,Sprache!$E$17,'Formulaire C'!G309)","v":""},false,0,{"$f":"IF(X309<Parameter!$C$4,1,0)","v":0}]
[null,null,null,null,null,null,null,null,{"$f":"IF(OR(E310=Sprache!$C$19,E310=Sprache!$D$19),F310,0)+IF(OR(G310=Sprache!$C$19,G310=Sprache!$D$19),H310,0)","v":0},{"$f":"IF(OR(E310=Sprache!$C$20,E310=Sprache!$D$20),F310,0)+IF(OR(G310=Sprache!$C$20,G310=Sprache!$D$20),H310,0)","v":0},{"$f":"IF(OR(E310=Sprache!$C$21,E310=Sprache!$D$21),F310,0)+IF(OR(G310=Sprache!$C$21,G310=Sprache!$D$21),H310,0)","v":0},{"$f":"IF(OR(E310=Sprache!$C$22,E310=Sprache!$D$22),F310,0)+IF(OR(G310=Sprache!$C$22,G310=Sprache!$D$22),H310,0)","v":0},{"$f":"IF(OR(E310=Sprache!$C$23,E310=Sprache!$D$23),F310,0)+IF(OR(G310=Sprache!$C$23,G310=Sprache!$D$23),H310,0)","v":0},{"$f":"IF(OR(E310=Sprache!$C$24,E310=Sprache!$D$24),F310,0)+IF(OR(G310=Sprache!$C$24,G310=Sprache!$D$24),H310,0)","v":0},0,{"$f":"'Formulaire B '!$G$11*I310+'Formulaire B '!$G$11*J310+'Formulaire B '!$G$12*K310+'Formulaire B '!$G$13*L310+'Formulaire B '!$G$14*M310+'Formulaire B '!$G$15*N310","v":0},"",null,null,null,0,null,null,"",null,{"$f":"IF(B310<>\"\",HYPERLINK($AC$9&AB310,Sprache!$E$25 &\" \"&B310),\"\")","v":""},null,300,{"$f":"Eingabemeldung(Sprache!$E$18,Sprache!$E$17,'Formulaire C'!E310)","v":""},{"$f":"Eingabemeldung(Sprache!$E$18,Sprache!$E$17,'Formulaire C'!G310)","v":""},false,0,{"$f":"IF(X310<Parameter!$C$4,1,0)","v":0}]
[null,null,null,null,null,null,null,null,{"$f":"IF(OR(E311=Sprache!$C$19,E311=Sprache!$D$19),F311,0)+IF(OR(G311=Sprache!$C$19,G311=Sprache!$D$19),H311,0)","v":0},{"$f":"IF(OR(E311=Sprache!$C$20,E311=Sprache!$D$20),F311,0)+IF(OR(G311=Sprache!$C$20,G311=Sprache!$D$20),H311,0)","v":0},{"$f":"IF(OR(E311=Sprache!$C$21,E311=Sprache!$D$21),F311,0)+IF(OR(G311=Sprache!$C$21,G311=Sprache!$D$21),H311,0)","v":0},{"$f":"IF(OR(E311=Sprache!$C$22,E311=Sprache!$D$22),F311,0)+IF(OR(G311=Sprache!$C$22,G311=Sprache!$D$22),H311,0)","v":0},{"$f":"IF(OR(E311=Sprache!$C$23,E311=Sprache!$D$23),F311,0)+IF(OR(G311=Sprache!$C$23,G311=Sprache!$D$23),H311,0)","v":0},{"$f":"IF(OR(E311=Sprache!$C$24,E311=Sprache!$D$24),F311,0)+IF(OR(G311=Sprache!$C$24,G311=Sprache!$D$24),H311,0)","v":0},0,{"$f":"'Formulaire B '!$G$11*I311+'Formulaire B '!$G$11*J311+'Formulaire B '!$G$12*K311+'Formulaire B '!$G$13*L311+'Formulaire B '!$G$14*M311+'Formulaire B '!$G$15*N311","v":0},"",null,null,null,0,null,null,"",null,{"$f":"IF(B311<>\"\",HYPERLINK($AC$9&AB311,Sprache!$E$25 &\" \"&B311),\"\")","v":""},null,301,{"$f":"Eingabemeldung(Sprache!$E$18,Sprache!$E$17,'Formulaire C'!E311)","v":""},{"$f":"Eingabemeldung(Sprache!$E$18,Sprache!$E$17,'Formulaire C'!G311)","v":""},false,0,{"$f":"IF(X311<Parameter!$C$4,1,0)","v":0}]
[null,null,null,null,null,null,null,null,{"$f":"IF(OR(E312=Sprache!$C$19,E312=Sprache!$D$19),F312,0)+IF(OR(G312=Sprache!$C$19,G312=Sprache!$D$19),H312,0)","v":0},{"$f":"IF(OR(E312=Sprache!$C$20,E312=Sprache!$D$20),F312,0)+IF(OR(G312=Sprache!$C$20,G312=Sprache!$D$20),H312,0)","v":0},{"$f":"IF(OR(E312=Sprache!$C$21,E312=Sprache!$D$21),F312,0)+IF(OR(G312=Sprache!$C$21,G312=Sprache!$D$21),H312,0)","v":0},{"$f":"IF(OR(E312=Sprache!$C$22,E312=Sprache!$D$22),F312,0)+IF(OR(G312=Sprache!$C$22,G312=Sprache!$D$22),H312,0)","v":0},{"$f":"IF(OR(E312=Sprache!$C$23,E312=Sprache!$D$23),F312,0)+IF(OR(G312=Sprache!$C$23,G312=Sprache!$D$23),H312,0)","v":0},{"$f":"IF(OR(E312=Sprache!$C$24,E312=Sprache!$D$24),F312,0)+IF(OR(G312=Sprache!$C$24,G312=Sprache!$D$24),H312,0)","v":0},0,{"$f":"'Formulaire B '!$G$11*I312+'Formulaire B '!$G$11*J312+'Formulaire B '!$G$12*K312+'Formulaire B '!$G$13*L312+'Formulaire B '!$G$14*M312+'Formulaire B '!$G$15*N312","v":0},"",null,null,null,0,null,null,"",null,{"$f":"IF(B312<>\"\",HYPERLINK($AC$9&AB312,Sprache!$E$25 &\" \"&B312),\"\")","v":""},null,302,{"$f":"Eingabemeldung(Sprache!$E$18,Sprache!$E$17,'Formulaire C'!E312)","v":""},{"$f":"Eingabemeldung(Sprache!$E$18,Sprache!$E$17,'Formulaire C'!G312)","v":""},false,0,{"$f":"IF(X312<Parameter!$C$4,1,0)","v":0}]
[null,null,null,null,null,null,null,null,{"$f":"IF(OR(E313=Sprache!$C$19,E313=Sprache!$D$19),F313,0)+IF(OR(G313=Sprache!$C$19,G313=Sprache!$D$19),H313,0)","v":0},{"$f":"IF(OR(E313=Sprache!$C$20,E313=Sprache!$D$20),F313,0)+IF(OR(G313=Sprache!$C$20,G313=Sprache!$D$20),H313,0)","v":0},{"$f":"IF(OR(E313=Sprache!$C$21,E313=Sprache!$D$21),F313,0)+IF(OR(G313=Sprache!$C$21,G313=Sprache!$D$21),H313,0)","v":0},{"$f":"IF(OR(E313=Sprache!$C$22,E313=Sprache!$D$22),F313,0)+IF(OR(G313=Sprache!$C$22,G313=Sprache!$D$22),H313,0)","v":0},{"$f":"IF(OR(E313=Sprache!$C$23,E313=Sprache!$D$23),F313,0)+IF(OR(G313=Sprache!$C$23,G313=Sprache!$D$23),H313,0)","v":0},{"$f":"IF(OR(E313=Sprache!$C$24,E313=Sprache!$D$24),F313,0)+IF(OR(G313=Sprache!$C$24,G313=Sprache!$D$24),H313,0)","v":0},0,{"$f":"'Formulaire B '!$G$11*I313+'Formulaire B '!$G$11*J313+'Formulaire B '!$G$12*K313+'Formulaire B '!$G$13*L313+'Formulaire B '!$G$14*M313+'Formulaire B '!$G$15*N313","v":0},"",null,null,null,0,null,null,"",null,{"$f":"IF(B313<>\"\",HYPERLINK($AC$9&AB313,Sprache!$E$25 &\" \"&B313),\"\")","v":""},null,303,{"$f":"Eingabemeldung(Sprache!$E$18,Sprache!$E$17,'Formulaire C'!E313)","v":""},{"$f":"Eingabemeldung(Sprache!$E$18,Sprache!$E$17,'Formulaire C'!G313)","v":""},false,0,{"$f":"IF(X313<Parameter!$C$4,1,0)","v":0}]
[null,null,null,null,null,null,null,null,{"$f":"IF(OR(E314=Sprache!$C$19,E314=Sprache!$D$19),F314,0)+IF(OR(G314=Sprache!$C$19,G314=Sprache!$D$19),H314,0)","v":0},{"$f":"IF(OR(E314=Sprache!$C$20,E314=Sprache!$D$20),F314,0)+IF(OR(G314=Sprache!$C$20,G314=Sprache!$D$20),H314,0)","v":0},{"$f":"IF(OR(E314=Sprache!$C$21,E314=Sprache!$D$21),F314,0)+IF(OR(G314=Sprache!$C$21,G314=Sprache!$D$21),H314,0)","v":0},{"$f":"IF(OR(E314=Sprache!$C$22,E314=Sprache!$D$22),F314,0)+IF(OR(G314=Sprache!$C$22,G314=Sprache!$D$22),H314,0)","v":0},{"$f":"IF(OR(E314=Sprache!$C$23,E314=Sprache!$D$23),F314,0)+IF(OR(G314=Sprache!$C$23,G314=Sprache!$D$23),H314,0)","v":0},{"$f":"IF(OR(E314=Sprache!$C$24,E314=Sprache!$D$24),F314,0)+IF(OR(G314=Sprache!$C$24,G314=Sprache!$D$24),H314,0)","v":0},{"$f":"F314+H314","v":0},{"$f":"'Formulaire B '!$G$11*I314+'Formulaire B '!$G$11*J314+'Formulaire B '!$G$12*K314+'Formulaire B '!$G$13*L314+'Formulaire B '!$G$14*M314+'Formulaire B '!$G$15*N314","v":0},"",null,null,null,{"$f":"(F314*S314)+(H314*T314)","v":0},null,null,"",null,{"$f":"IF(B314<>\"\",HYPERLINK($AC$9&AB314,Sprache!$E$25 &\" \"&B314),\"\")","v":""},null,304,{"$f":"Eingabemeldung(Sprache!$E$18,Sprache!$E$17,'Formulaire C'!E314)","v":""},{"$f":"Eingabemeldung(Sprache!$E$18,Sprache!$E$17,'Formulaire C'!G314)","v":""},{"$f":"ISNUMBER(R314)","v":false},{"$f":"IF(Y314=\"X\",1,0)","v":0},{"$f":"IF(X314<Parameter!$C$4,1,0)","v":0}]
[null,null,null,null,null,null,null,null,{"$f":"IF(OR(E315=Sprache!$C$19,E315=Sprache!$D$19),F315,0)+IF(OR(G315=Sprache!$C$19,G315=Sprache!$D$19),H315,0)","v":0},{"$f":"IF(OR(E315=Sprache!$C$20,E315=Sprache!$D$20),F315,0)+IF(OR(G315=Sprache!$C$20,G315=Sprache!$D$20),H315,0)","v":0},{"$f":"IF(OR(E315=Sprache!$C$21,E315=Sprache!$D$21),F315,0)+IF(OR(G315=Sprache!$C$21,G315=Sprache!$D$21),H315,0)","v":0},{"$f":"IF(OR(E315=Sprache!$C$22,E315=Sprache!$D$22),F315,0)+IF(OR(G315=Sprache!$C$22,G315=Sprache!$D$22),H315,0)","v":0},{"$f":"IF(OR(E315=Sprache!$C$23,E315=Sprache!$D$23),F315,0)+IF(OR(G315=Sprache!$C$23,G315=Sprache!$D$23),H315,0)","v":0},{"$f":"IF(OR(E315=Sprache!$C$24,E315=Sprache!$D$24),F315,0)+IF(OR(G315=Sprache!$C$24,G315=Sprache!$D$24),H315,0)","v":0},0,{"$f":"'Formulaire B '!$G$11*I315+'Formulaire B '!$G$11*J315+'Formulaire B '!$G$12*K315+'Formulaire B '!$G$13*L315+'Formulaire B '!$G$14*M315+'Formulaire B '!$G$15*N315","v":0},{"$f":"IFERROR(P315/$H$237,\"\")","v":""},null,null,null,0,null,null,{"$f":"IF(U315=0, \"\",V315*W315/U315)","v":""},null,{"$f":"IF(B315<>\"\",HYPERLINK($AC$9&AB315,Sprache!$E$25 &\" \"&B315),\"\")","v":""},null,305,{"$f":"Eingabemeldung(Sprache!$E$18,Sprache!$E$17,'Formulaire C'!E315)","v":""},{"$f":"Eingabemeldung(Sprache!$E$18,Sprache!$E$17,'Formulaire C'!G315)","v":""},false,0,{"$f":"IF(X315<Parameter!$C$4,1,0)","v":0}]
[null,null,null,null,null,null,null,null,{"$f":"IF(OR(E316=Sprache!$C$19,E316=Sprache!$D$19),F316,0)+IF(OR(G316=Sprache!$C$19,G316=Sprache!$D$19),H316,0)","v":0},{"$f":"IF(OR(E316=Sprache!$C$20,E316=Sprache!$D$20),F316,0)+IF(OR(G316=Sprache!$C$20,G316=Sprache!$D$20),H316,0)","v":0},{"$f":"IF(OR(E316=Sprache!$C$21,E316=Sprache!$D$21),F316,0)+IF(OR(G316=Sprache!$C$21,G316=Sprache!$D$21),H316,0)","v":0},{"$f":"IF(OR(E316=Sprache!$C$22,E316=Sprache!$D$22),F316,0)+IF(OR(G316=Sprache!$C$22,G316=Sprache!$D$22),H316,0)","v":0},{"$f":"IF(OR(E316=Sprache!$C$23,E316=Sprache!$D$23),F316,0)+IF(OR(G316=Sprache!$C$23,G316=Sprache!$D$23),H316,0)","v":0},{"$f":"IF(OR(E316=Sprache!$C$24,E316=Sprache!$D$24),F316,0)+IF(OR(G316=Sprache!$C$24,G316=Sprache!$D$24),H316,0)","v":0},0,{"$f":"'Formulaire B '!$G$11*I316+'Formulaire B '!$G$11*J316+'Formulaire B '!$G$12*K316+'Formulaire B '!$G$13*L316+'Formulaire B '!$G$14*M316+'Formulaire B '!$G$15*N316","v":0},"",null,null,null,0,null,null,"",null,{"$f":"IF(B316<>\"\",HYPERLINK($AC$9&AB316,Sprache!$E$25 &\" \"&B316),\"\")","v":""},null,306,{"$f":"Eingabemeldung(Sprache!$E$18,Sprache!$E$17,'Formulaire C'!E316)","v":""},{"$f":"Eingabemeldung(Sprache!$E$18,Sprache!$E$17,'Formulaire C'!G316)","v":""},false,0,{"$f":"IF(X316<Parameter!$C$4,1,0)","v":0}]
[null,null,null,null,null,null,null,null,{"$f":"IF(OR(E317=Sprache!$C$19,E317=Sprache!$D$19),F317,0)+IF(OR(G317=Sprache!$C$19,G317=Sprache!$D$19),H317,0)","v":0},{"$f":"IF(OR(E317=Sprache!$C$20,E317=Sprache!$D$20),F317,0)+IF(OR(G317=Sprache!$C$20,G317=Sprache!$D$20),H317,0)","v":0},{"$f":"IF(OR(E317=Sprache!$C$21,E317=Sprache!$D$21),F317,0)+IF(OR(G317=Sprache!$C$21,G317=Sprache!$D$21),H317,0)","v":0},{"$f":"IF(OR(E317=Sprache!$C$22,E317=Sprache!$D$22),F317,0)+IF(OR(G317=Sprache!$C$22,G317=Sprache!$D$22),H317,0)","v":0},{"$f":"IF(OR(E317=Sprache!$C$23,E317=Sprache!$D$23),F317,0)+IF(OR(G317=Sprache!$C$23,G317=Sprache!$D$23),H317,0)","v":0},{"$f":"IF(OR(E317=Sprache!$C$24,E317=Sprache!$D$24),F317,0)+IF(OR(G317=Sprache!$C$24,G317=Sprache!$D$24),H317,0)","v":0},0,{"$f":"'Formulaire B '!$G$11*I317+'Formulaire B '!$G$11*J317+'Formulaire B '!$G$12*K317+'Formulaire B '!$G$13*L317+'Formulaire B '!$G$14*M317+'Formulaire B '!$G$15*N317","v":0},"",null,null,null,0,null,null,"",null,{"$f":"IF(B317<>\"\",HYPERLINK($AC$9&AB317,Sprache!$E$25 &\" \"&B317),\"\")","v":""},null,307,{"$f":"Eingabemeldung(Sprache!$E$18,Sprache!$E$17,'Formulaire C'!E317)","v":""},{"$f":"Eingabemeldung(Sprache!$E$18,Sprache!$E$17,'Formulaire C'!G317)","v":""},false,0,{"$f":"IF(X317<Parameter!$C$4,1,0)","v":0}]
[null,null,null,null,null,null,null,null,{"$f":"IF(OR(E318=Sprache!$C$19,E318=Sprache!$D$19),F318,0)+IF(OR(G318=Sprache!$C$19,G318=Sprache!$D$19),H318,0)","v":0},{"$f":"IF(OR(E318=Sprache!$C$20,E318=Sprache!$D$20),F318,0)+IF(OR(G318=Sprache!$C$20,G318=Sprache!$D$20),H318,0)","v":0},{"$f":"IF(OR(E318=Sprache!$C$21,E318=Sprache!$D$21),F318,0)+IF(OR(G318=Sprache!$C$21,G318=Sprache!$D$21),H318,0)","v":0},{"$f":"IF(OR(E318=Sprache!$C$22,E318=Sprache!$D$22),F318,0)+IF(OR(G318=Sprache!$C$22,G318=Sprache!$D$22),H318,0)","v":0},{"$f":"IF(OR(E318=Sprache!$C$23,E318=Sprache!$D$23),F318,0)+IF(OR(G318=Sprache!$C$23,G318=Sprache!$D$23),H318,0)","v":0},{"$f":"IF(OR(E318=Sprache!$C$24,E318=Sprache!$D$24),F318,0)+IF(OR(G318=Sprache!$C$24,G318=Sprache!$D$24),H318,0)","v":0},0,{"$f":"'Formulaire B '!$G$11*I318+'Formulaire B '!$G$11*J318+'Formulaire B '!$G$12*K318+'Formulaire B '!$G$13*L318+'Formulaire B '!$G$14*M318+'Formulaire B '!$G$15*N318","v":0},"",null,null,null,0,null,null,"",null,{"$f":"IF(B318<>\"\",HYPERLINK($AC$9&AB318,Sprache!$E$25 &\" \"&B318),\"\")","v":""},null,308,{"$f":"Eingabemeldung(Sprache!$E$18,Sprache!$E$17,'Formulaire C'!E318)","v":""},{"$f":"Eingabemeldung(Sprache!$E$18,Sprache!$E$17,'Formulaire C'!G318)","v":""},false,0,{"$f":"IF(X318<Parameter!$C$4,1,0)","v":0}]
[null,null,null,null,null,null,null,null,{"$f":"IF(OR(E319=Sprache!$C$19,E319=Sprache!$D$19),F319,0)+IF(OR(G319=Sprache!$C$19,G319=Sprache!$D$19),H319,0)","v":0},{"$f":"IF(OR(E319=Sprache!$C$20,E319=Sprache!$D$20),F319,0)+IF(OR(G319=Sprache!$C$20,G319=Sprache!$D$20),H319,0)","v":0},{"$f":"IF(OR(E319=Sprache!$C$21,E319=Sprache!$D$21),F319,0)+IF(OR(G319=Sprache!$C$21,G319=Sprache!$D$21),H319,0)","v":0},{"$f":"IF(OR(E319=Sprache!$C$22,E319=Sprache!$D$22),F319,0)+IF(OR(G319=Sprache!$C$22,G319=Sprache!$D$22),H319,0)","v":0},{"$f":"IF(OR(E319=Sprache!$C$23,E319=Sprache!$D$23),F319,0)+IF(OR(G319=Sprache!$C$23,G319=Sprache!$D$23),H319,0)","v":0},{"$f":"IF(OR(E319=Sprache!$C$24,E319=Sprache!$D$24),F319,0)+IF(OR(G319=Sprache!$C$24,G319=Sprache!$D$24),H319,0)","v":0},0,{"$f":"'Formulaire B '!$G$11*I319+'Formulaire B '!$G$11*J319+'Formulaire B '!$G$12*K319+'Formulaire B '!$G$13*L319+'Formulaire B '!$G$14*M319+'Formulaire B '!$G$15*N319","v":0},"",null,null,null,0,null,null,"",null,{"$f":"IF(B319<>\"\",HYPERLINK($AC$9&AB319,Sprache!$E$25 &\" \"&B319),\"\")","v":""},null,309,{"$f":"Eingabemeldung(Sprache!$E$18,Sprache!$E$17,'Formulaire C'!E319)","v":""},{"$f":"Eingabemeldung(Sprache!$E$18,Sprache!$E$17,'Formulaire C'!G319)","v":""},false,0,{"$f":"IF(X319<Parameter!$C$4,1,0)","v":0}]
[null,null,null,null,null,null,null,null,{"$f":"IF(OR(E320=Sprache!$C$19,E320=Sprache!$D$19),F320,0)+IF(OR(G320=Sprache!$C$19,G320=Sprache!$D$19),H320,0)","v":0},{"$f":"IF(OR(E320=Sprache!$C$20,E320=Sprache!$D$20),F320,0)+IF(OR(G320=Sprache!$C$20,G320=Sprache!$D$20),H320,0)","v":0},{"$f":"IF(OR(E320=Sprache!$C$21,E320=Sprache!$D$21),F320,0)+IF(OR(G320=Sprache!$C$21,G320=Sprache!$D$21),H320,0)","v":0},{"$f":"IF(OR(E320=Sprache!$C$22,E320=Sprache!$D$22),F320,0)+IF(OR(G320=Sprache!$C$22,G320=Sprache!$D$22),H320,0)","v":0},{"$f":"IF(OR(E320=Sprache!$C$23,E320=Sprache!$D$23),F320,0)+IF(OR(G320=Sprache!$C$23,G320=Sprache!$D$23),H320,0)","v":0},{"$f":"IF(OR(E320=Sprache!$C$24,E320=Sprache!$D$24),F320,0)+IF(OR(G320=Sprache!$C$24,G320=Sprache!$D$24),H320,0)","v":0},0,{"$f":"'Formulaire B '!$G$11*I320+'Formulaire B '!$G$11*J320+'Formulaire B '!$G$12*K320+'Formulaire B '!$G$13*L320+'Formulaire B '!$G$14*M320+'Formulaire B '!$G$15*N320","v":0},"",null,null,null,0,null,null,"",null,{"$f":"IF(B320<>\"\",HYPERLINK($AC$9&AB320,Sprache!$E$25 &\" \"&B320),\"\")","v":""},null,310,{"$f":"Eingabemeldung(Sprache!$E$18,Sprache!$E$17,'Formulaire C'!E320)","v":""},{"$f":"Eingabemeldung(Sprache!$E$18,Sprache!$E$17,'Formulaire C'!G320)","v":""},false,0,{"$f":"IF(X320<Parameter!$C$4,1,0)","v":0}]
[null,null,null,null,null,null,null,null,{"$f":"IF(OR(E321=Sprache!$C$19,E321=Sprache!$D$19),F321,0)+IF(OR(G321=Sprache!$C$19,G321=Sprache!$D$19),H321,0)","v":0},{"$f":"IF(OR(E321=Sprache!$C$20,E321=Sprache!$D$20),F321,0)+IF(OR(G321=Sprache!$C$20,G321=Sprache!$D$20),H321,0)","v":0},{"$f":"IF(OR(E321=Sprache!$C$21,E321=Sprache!$D$21),F321,0)+IF(OR(G321=Sprache!$C$21,G321=Sprache!$D$21),H321,0)","v":0},{"$f":"IF(OR(E321=Sprache!$C$22,E321=Sprache!$D$22),F321,0)+IF(OR(G321=Sprache!$C$22,G321=Sprache!$D$22),H321,0)","v":0},{"$f":"IF(OR(E321=Sprache!$C$23,E321=Sprache!$D$23),F321,0)+IF(OR(G321=Sprache!$C$23,G321=Sprache!$D$23),H321,0)","v":0},{"$f":"IF(OR(E321=Sprache!$C$24,E321=Sprache!$D$24),F321,0)+IF(OR(G321=Sprache!$C$24,G321=Sprache!$D$24),H321,0)","v":0},0,{"$f":"'Formulaire B '!$G$11*I321+'Formulaire B '!$G$11*J321+'Formulaire B '!$G$12*K321+'Formulaire B '!$G$13*L321+'Formulaire B '!$G$14*M321+'Formulaire B '!$G$15*N321","v":0},"",null,null,null,0,null,null,"",null,{"$f":"IF(B321<>\"\",HYPERLINK($AC$9&AB321,Sprache!$E$25 &\" \"&B321),\"\")","v":""},null,311,{"$f":"Eingabemeldung(Sprache!$E$18,Sprache!$E$17,'Formulaire C'!E321)","v":""},{"$f":"Eingabemeldung(Sprache!$E$18,Sprache!$E$17,'Formulaire C'!G321)","v":""},false,0,{"$f":"IF(X321<Parameter!$C$4,1,0)","v":0}]
[null,null,null,null,null,null,null,null,{"$f":"IF(OR(E322=Sprache!$C$19,E322=Sprache!$D$19),F322,0)+IF(OR(G322=Sprache!$C$19,G322=Sprache!$D$19),H322,0)","v":0},{"$f":"IF(OR(E322=Sprache!$C$20,E322=Sprache!$D$20),F322,0)+IF(OR(G322=Sprache!$C$20,G322=Sprache!$D$20),H322,0)","v":0},{"$f":"IF(OR(E322=Sprache!$C$21,E322=Sprache!$D$21),F322,0)+IF(OR(G322=Sprache!$C$21,G322=Sprache!$D$21),H322,0)","v":0},{"$f":"IF(OR(E322=Sprache!$C$22,E322=Sprache!$D$22),F322,0)+IF(OR(G322=Sprache!$C$22,G322=Sprache!$D$22),H322,0)","v":0},{"$f":"IF(OR(E322=Sprache!$C$23,E322=Sprache!$D$23),F322,0)+IF(OR(G322=Sprache!$C$23,G322=Sprache!$D$23),H322,0)","v":0},{"$f":"IF(OR(E322=Sprache!$C$24,E322=Sprache!$D$24),F322,0)+IF(OR(G322=Sprache!$C$24,G322=Sprache!$D$24),H322,0)","v":0},0,{"$f":"'Formulaire B '!$G$11*I322+'Formulaire B '!$G$11*J322+'Formulaire B '!$G$12*K322+'Formulaire B '!$G$13*L322+'Formulaire B '!$G$14*M322+'Formulaire B '!$G$15*N322","v":0},"",null,null,null,0,null,null,"",null,{"$f":"IF(B322<>\"\",HYPERLINK($AC$9&AB322,Sprache!$E$25 &\" \"&B322),\"\")","v":""},null,312,{"$f":"Eingabemeldung(Sprache!$E$18,Sprache!$E$17,'Formulaire C'!E322)","v":""},{"$f":"Eingabemeldung(Sprache!$E$18,Sprache!$E$17,'Formulaire C'!G322)","v":""},false,0,{"$f":"IF(X322<Parameter!$C$4,1,0)","v":0}]
[null,null,null,null,null,null,null,null,{"$f":"IF(OR(E323=Sprache!$C$19,E323=Sprache!$D$19),F323,0)+IF(OR(G323=Sprache!$C$19,G323=Sprache!$D$19),H323,0)","v":0},{"$f":"IF(OR(E323=Sprache!$C$20,E323=Sprache!$D$20),F323,0)+IF(OR(G323=Sprache!$C$20,G323=Sprache!$D$20),H323,0)","v":0},{"$f":"IF(OR(E323=Sprache!$C$21,E323=Sprache!$D$21),F323,0)+IF(OR(G323=Sprache!$C$21,G323=Sprache!$D$21),H323,0)","v":0},{"$f":"IF(OR(E323=Sprache!$C$22,E323=Sprache!$D$22),F323,0)+IF(OR(G323=Sprache!$C$22,G323=Sprache!$D$22),H323,0)","v":0},{"$f":"IF(OR(E323=Sprache!$C$23,E323=Sprache!$D$23),F323,0)+IF(OR(G323=Sprache!$C$23,G323=Sprache!$D$23),H323,0)","v":0},{"$f":"IF(OR(E323=Sprache!$C$24,E323=Sprache!$D$24),F323,0)+IF(OR(G323=Sprache!$C$24,G323=Sprache!$D$24),H323,0)","v":0},0,{"$f":"'Formulaire B '!$G$11*I323+'Formulaire B '!$G$11*J323+'Formulaire B '!$G$12*K323+'Formulaire B '!$G$13*L323+'Formulaire B '!$G$14*M323+'Formulaire B '!$G$15*N323","v":0},"",null,null,null,0,null,null,"",null,{"$f":"IF(B323<>\"\",HYPERLINK($AC$9&AB323,Sprache!$E$25 &\" \"&B323),\"\")","v":""},null,313,{"$f":"Eingabemeldung(Sprache!$E$18,Sprache!$E$17,'Formulaire C'!E323)","v":""},{"$f":"Eingabemeldung(Sprache!$E$18,Sprache!$E$17,'Formulaire C'!G323)","v":""},false,0,{"$f":"IF(X323<Parameter!$C$4,1,0)","v":0}]
[null,null,null,null,null,null,null,null,{"$f":"IF(OR(E324=Sprache!$C$19,E324=Sprache!$D$19),F324,0)+IF(OR(G324=Sprache!$C$19,G324=Sprache!$D$19),H324,0)","v":0},{"$f":"IF(OR(E324=Sprache!$C$20,E324=Sprache!$D$20),F324,0)+IF(OR(G324=Sprache!$C$20,G324=Sprache!$D$20),H324,0)","v":0},{"$f":"IF(OR(E324=Sprache!$C$21,E324=Sprache!$D$21),F324,0)+IF(OR(G324=Sprache!$C$21,G324=Sprache!$D$21),H324,0)","v":0},{"$f":"IF(OR(E324=Sprache!$C$22,E324=Sprache!$D$22),F324,0)+IF(OR(G324=Sprache!$C$22,G324=Sprache!$D$22),H324,0)","v":0},{"$f":"IF(OR(E324=Sprache!$C$23,E324=Sprache!$D$23),F324,0)+IF(OR(G324=Sprache!$C$23,G324=Sprache!$D$23),H324,0)","v":0},{"$f":"IF(OR(E324=Sprache!$C$24,E324=Sprache!$D$24),F324,0)+IF(OR(G324=Sprache!$C$24,G324=Sprache!$D$24),H324,0)","v":0},0,{"$f":"'Formulaire B '!$G$11*I324+'Formulaire B '!$G$11*J324+'Formulaire B '!$G$12*K324+'Formulaire B '!$G$13*L324+'Formulaire B '!$G$14*M324+'Formulaire B '!$G$15*N324","v":0},"",null,null,null,0,null,null,"",null,{"$f":"IF(B324<>\"\",HYPERLINK($AC$9&AB324,Sprache!$E$25 &\" \"&B324),\"\")","v":""},null,314,{"$f":"Eingabemeldung(Sprache!$E$18,Sprache!$E$17,'Formulaire C'!E324)","v":""},{"$f":"Eingabemeldung(Sprache!$E$18,Sprache!$E$17,'Formulaire C'!G324)","v":""},false,0,{"$f":"IF(X324<Parameter!$C$4,1,0)","v":0}]
[null,null,null,null,null,null,null,null,{"$f":"IF(OR(E325=Sprache!$C$19,E325=Sprache!$D$19),F325,0)+IF(OR(G325=Sprache!$C$19,G325=Sprache!$D$19),H325,0)","v":0},{"$f":"IF(OR(E325=Sprache!$C$20,E325=Sprache!$D$20),F325,0)+IF(OR(G325=Sprache!$C$20,G325=Sprache!$D$20),H325,0)","v":0},{"$f":"IF(OR(E325=Sprache!$C$21,E325=Sprache!$D$21),F325,0)+IF(OR(G325=Sprache!$C$21,G325=Sprache!$D$21),H325,0)","v":0},{"$f":"IF(OR(E325=Sprache!$C$22,E325=Sprache!$D$22),F325,0)+IF(OR(G325=Sprache!$C$22,G325=Sprache!$D$22),H325,0)","v":0},{"$f":"IF(OR(E325=Sprache!$C$23,E325=Sprache!$D$23),F325,0)+IF(OR(G325=Sprache!$C$23,G325=Sprache!$D$23),H325,0)","v":0},{"$f":"IF(OR(E325=Sprache!$C$24,E325=Sprache!$D$24),F325,0)+IF(OR(G325=Sprache!$C$24,G325=Sprache!$D$24),H325,0)","v":0},0,{"$f":"'Formulaire B '!$G$11*I325+'Formulaire B '!$G$11*J325+'Formulaire B '!$G$12*K325+'Formulaire B '!$G$13*L325+'Formulaire B '!$G$14*M325+'Formulaire B '!$G$15*N325","v":0},"",null,null,null,0,null,null,"",null,{"$f":"IF(B325<>\"\",HYPERLINK($AC$9&AB325,Sprache!$E$25 &\" \"&B325),\"\")","v":""},null,315,{"$f":"Eingabemeldung(Sprache!$E$18,Sprache!$E$17,'Formulaire C'!E325)","v":""},{"$f":"Eingabemeldung(Sprache!$E$18,Sprache!$E$17,'Formulaire C'!G325)","v":""},false,0,{"$f":"IF(X325<Parameter!$C$4,1,0)","v":0}]
[null,null,null,null,null,null,null,null,{"$f":"IF(OR(E326=Sprache!$C$19,E326=Sprache!$D$19),F326,0)+IF(OR(G326=Sprache!$C$19,G326=Sprache!$D$19),H326,0)","v":0},{"$f":"IF(OR(E326=Sprache!$C$20,E326=Sprache!$D$20),F326,0)+IF(OR(G326=Sprache!$C$20,G326=Sprache!$D$20),H326,0)","v":0},{"$f":"IF(OR(E326=Sprache!$C$21,E326=Sprache!$D$21),F326,0)+IF(OR(G326=Sprache!$C$21,G326=Sprache!$D$21),H326,0)","v":0},{"$f":"IF(OR(E326=Sprache!$C$22,E326=Sprache!$D$22),F326,0)+IF(OR(G326=Sprache!$C$22,G326=Sprache!$D$22),H326,0)","v":0},{"$f":"IF(OR(E326=Sprache!$C$23,E326=Sprache!$D$23),F326,0)+IF(OR(G326=Sprache!$C$23,G326=Sprache!$D$23),H326,0)","v":0},{"$f":"IF(OR(E326=Sprache!$C$24,E326=Sprache!$D$24),F326,0)+IF(OR(G326=Sprache!$C$24,G326=Sprache!$D$24),H326,0)","v":0},0,{"$f":"'Formulaire B '!$G$11*I326+'Formulaire B '!$G$11*J326+'Formulaire B '!$G$12*K326+'Formulaire B '!$G$13*L326+'Formulaire B '!$G$14*M326+'Formulaire B '!$G$15*N326","v":0},"",null,null,null,0,null,null,"",null,{"$f":"IF(B326<>\"\",HYPERLINK($AC$9&AB326,Sprache!$E$25 &\" \"&B326),\"\")","v":""},null,316,{"$f":"Eingabemeldung(Sprache!$E$18,Sprache!$E$17,'Formulaire C'!E326)","v":""},{"$f":"Eingabemeldung(Sprache!$E$18,Sprache!$E$17,'Formulaire C'!G326)","v":""},false,0,{"$f":"IF(X326<Parameter!$C$4,1,0)","v":0}]
[null,null,null,null,null,null,null,null,{"$f":"IF(OR(E327=Sprache!$C$19,E327=Sprache!$D$19),F327,0)+IF(OR(G327=Sprache!$C$19,G327=Sprache!$D$19),H327,0)","v":0},{"$f":"IF(OR(E327=Sprache!$C$20,E327=Sprache!$D$20),F327,0)+IF(OR(G327=Sprache!$C$20,G327=Sprache!$D$20),H327,0)","v":0},{"$f":"IF(OR(E327=Sprache!$C$21,E327=Sprache!$D$21),F327,0)+IF(OR(G327=Sprache!$C$21,G327=Sprache!$D$21),H327,0)","v":0},{"$f":"IF(OR(E327=Sprache!$C$22,E327=Sprache!$D$22),F327,0)+IF(OR(G327=Sprache!$C$22,G327=Sprache!$D$22),H327,0)","v":0},{"$f":"IF(OR(E327=Sprache!$C$23,E327=Sprache!$D$23),F327,0)+IF(OR(G327=Sprache!$C$23,G327=Sprache!$D$23),H327,0)","v":0},{"$f":"IF(OR(E327=Sprache!$C$24,E327=Sprache!$D$24),F327,0)+IF(OR(G327=Sprache!$C$24,G327=Sprache!$D$24),H327,0)","v":0},0,{"$f":"'Formulaire B '!$G$11*I327+'Formulaire B '!$G$11*J327+'Formulaire B '!$G$12*K327+'Formulaire B '!$G$13*L327+'Formulaire B '!$G$14*M327+'Formulaire B '!$G$15*N327","v":0},"",null,null,null,0,null,null,"",null,{"$f":"IF(B327<>\"\",HYPERLINK($AC$9&AB327,Sprache!$E$25 &\" \"&B327),\"\")","v":""},null,317,{"$f":"Eingabemeldung(Sprache!$E$18,Sprache!$E$17,'Formulaire C'!E327)","v":""},{"$f":"Eingabemeldung(Sprache!$E$18,Sprache!$E$17,'Formulaire C'!G327)","v":""},false,0,{"$f":"IF(X327<Parameter!$C$4,1,0)","v":0}]
[null,null,null,null,null,null,null,null,{"$f":"IF(OR(E328=Sprache!$C$19,E328=Sprache!$D$19),F328,0)+IF(OR(G328=Sprache!$C$19,G328=Sprache!$D$19),H328,0)","v":0},{"$f":"IF(OR(E328=Sprache!$C$20,E328=Sprache!$D$20),F328,0)+IF(OR(G328=Sprache!$C$20,G328=Sprache!$D$20),H328,0)","v":0},{"$f":"IF(OR(E328=Sprache!$C$21,E328=Sprache!$D$21),F328,0)+IF(OR(G328=Sprache!$C$21,G328=Sprache!$D$21),H328,0)","v":0},{"$f":"IF(OR(E328=Sprache!$C$22,E328=Sprache!$D$22),F328,0)+IF(OR(G328=Sprache!$C$22,G328=Sprache!$D$22),H328,0)","v":0},{"$f":"IF(OR(E328=Sprache!$C$23,E328=Sprache!$D$23),F328,0)+IF(OR(G328=Sprache!$C$23,G328=Sprache!$D$23),H328,0)","v":0},{"$f":"IF(OR(E328=Sprache!$C$24,E328=Sprache!$D$24),F328,0)+IF(OR(G328=Sprache!$C$24,G328=Sprache!$D$24),H328,0)","v":0},0,{"$f":"'Formulaire B '!$G$11*I328+'Formulaire B '!$G$11*J328+'Formulaire B '!$G$12*K328+'Formulaire B '!$G$13*L328+'Formulaire B '!$G$14*M328+'Formulaire B '!$G$15*N328","v":0},"",null,null,null,0,null,null,"",null,{"$f":"IF(B328<>\"\",HYPERLINK($AC$9&AB328,Sprache!$E$25 &\" \"&B328),\"\")","v":""},null,318,{"$f":"Eingabemeldung(Sprache!$E$18,Sprache!$E$17,'Formulaire C'!E328)","v":""},{"$f":"Eingabemeldung(Sprache!$E$18,Sprache!$E$17,'Formulaire C'!G328)","v":""},false,0,{"$f":"IF(X328<Parameter!$C$4,1,0)","v":0}]
[null,null,null,null,null,null,null,null,{"$f":"IF(OR(E329=Sprache!$C$19,E329=Sprache!$D$19),F329,0)+IF(OR(G329=Sprache!$C$19,G329=Sprache!$D$19),H329,0)","v":0},{"$f":"IF(OR(E329=Sprache!$C$20,E329=Sprache!$D$20),F329,0)+IF(OR(G329=Sprache!$C$20,G329=Sprache!$D$20),H329,0)","v":0},{"$f":"IF(OR(E329=Sprache!$C$21,E329=Sprache!$D$21),F329,0)+IF(OR(G329=Sprache!$C$21,G329=Sprache!$D$21),H329,0)","v":0},{"$f":"IF(OR(E329=Sprache!$C$22,E329=Sprache!$D$22),F329,0)+IF(OR(G329=Sprache!$C$22,G329=Sprache!$D$22),H329,0)","v":0},{"$f":"IF(OR(E329=Sprache!$C$23,E329=Sprache!$D$23),F329,0)+IF(OR(G329=Sprache!$C$23,G329=Sprache!$D$23),H329,0)","v":0},{"$f":"IF(OR(E329=Sprache!$C$24,E329=Sprache!$D$24),F329,0)+IF(OR(G329=Sprache!$C$24,G329=Sprache!$D$24),H329,0)","v":0},0,{"$f":"'Formulaire B '!$G$11*I329+'Formulaire B '!$G$11*J329+'Formulaire B '!$G$12*K329+'Formulaire B '!$G$13*L329+'Formulaire B '!$G$14*M329+'Formulaire B '!$G$15*N329","v":0},"",null,null,null,0,null,null,"",null,{"$f":"IF(B329<>\"\",HYPERLINK($AC$9&AB329,Sprache!$E$25 &\" \"&B329),\"\")","v":""},null,319,{"$f":"Eingabemeldung(Sprache!$E$18,Sprache!$E$17,'Formulaire C'!E329)","v":""},{"$f":"Eingabemeldung(Sprache!$E$18,Sprache!$E$17,'Formulaire C'!G329)","v":""},false,0,{"$f":"IF(X329<Parameter!$C$4,1,0)","v":0}]
[null,null,null,null,null,null,null,null,{"$f":"IF(OR(E330=Sprache!$C$19,E330=Sprache!$D$19),F330,0)+IF(OR(G330=Sprache!$C$19,G330=Sprache!$D$19),H330,0)","v":0},{"$f":"IF(OR(E330=Sprache!$C$20,E330=Sprache!$D$20),F330,0)+IF(OR(G330=Sprache!$C$20,G330=Sprache!$D$20),H330,0)","v":0},{"$f":"IF(OR(E330=Sprache!$C$21,E330=Sprache!$D$21),F330,0)+IF(OR(G330=Sprache!$C$21,G330=Sprache!$D$21),H330,0)","v":0},{"$f":"IF(OR(E330=Sprache!$C$22,E330=Sprache!$D$22),F330,0)+IF(OR(G330=Sprache!$C$22,G330=Sprache!$D$22),H330,0)","v":0},{"$f":"IF(OR(E330=Sprache!$C$23,E330=Sprache!$D$23),F330,0)+IF(OR(G330=Sprache!$C$23,G330=Sprache!$D$23),H330,0)","v":0},{"$f":"IF(OR(E330=Sprache!$C$24,E330=Sprache!$D$24),F330,0)+IF(OR(G330=Sprache!$C$24,G330=Sprache!$D$24),H330,0)","v":0},0,{"$f":"'Formulaire B '!$G$11*I330+'Formulaire B '!$G$11*J330+'Formulaire B '!$G$12*K330+'Formulaire B '!$G$13*L330+'Formulaire B '!$G$14*M330+'Formulaire B '!$G$15*N330","v":0},"",null,null,null,0,null,null,"",null,{"$f":"IF(B330<>\"\",HYPERLINK($AC$9&AB330,Sprache!$E$25 &\" \"&B330),\"\")","v":""},null,320,{"$f":"Eingabemeldung(Sprache!$E$18,Sprache!$E$17,'Formulaire C'!E330)","v":""},{"$f":"Eingabemeldung(Sprache!$E$18,Sprache!$E$17,'Formulaire C'!G330)","v":""},false,0,{"$f":"IF(X330<Parameter!$C$4,1,0)","v":0}]
[null,null,null,null,null,null,null,null,{"$f":"IF(OR(E331=Sprache!$C$19,E331=Sprache!$D$19),F331,0)+IF(OR(G331=Sprache!$C$19,G331=Sprache!$D$19),H331,0)","v":0},{"$f":"IF(OR(E331=Sprache!$C$20,E331=Sprache!$D$20),F331,0)+IF(OR(G331=Sprache!$C$20,G331=Sprache!$D$20),H331,0)","v":0},{"$f":"IF(OR(E331=Sprache!$C$21,E331=Sprache!$D$21),F331,0)+IF(OR(G331=Sprache!$C$21,G331=Sprache!$D$21),H331,0)","v":0},{"$f":"IF(OR(E331=Sprache!$C$22,E331=Sprache!$D$22),F331,0)+IF(OR(G331=Sprache!$C$22,G331=Sprache!$D$22),H331,0)","v":0},{"$f":"IF(OR(E331=Sprache!$C$23,E331=Sprache!$D$23),F331,0)+IF(OR(G331=Sprache!$C$23,G331=Sprache!$D$23),H331,0)","v":0},{"$f":"IF(OR(E331=Sprache!$C$24,E331=Sprache!$D$24),F331,0)+IF(OR(G331=Sprache!$C$24,G331=Sprache!$D$24),H331,0)","v":0},0,{"$f":"'Formulaire B '!$G$11*I331+'Formulaire B '!$G$11*J331+'Formulaire B '!$G$12*K331+'Formulaire B '!$G$13*L331+'Formulaire B '!$G$14*M331+'Formulaire B '!$G$15*N331","v":0},"",null,null,null,0,null,null,"",null,{"$f":"IF(B331<>\"\",HYPERLINK($AC$9&AB331,Sprache!$E$25 &\" \"&B331),\"\")","v":""},null,321,{"$f":"Eingabemeldung(Sprache!$E$18,Sprache!$E$17,'Formulaire C'!E331)","v":""},{"$f":"Eingabemeldung(Sprache!$E$18,Sprache!$E$17,'Formulaire C'!G331)","v":""},false,0,{"$f":"IF(X331<Parameter!$C$4,1,0)","v":0}]
[null,null,null,null,null,null,null,null,{"$f":"IF(OR(E332=Sprache!$C$19,E332=Sprache!$D$19),F332,0)+IF(OR(G332=Sprache!$C$19,G332=Sprache!$D$19),H332,0)","v":0},{"$f":"IF(OR(E332=Sprache!$C$20,E332=Sprache!$D$20),F332,0)+IF(OR(G332=Sprache!$C$20,G332=Sprache!$D$20),H332,0)","v":0},{"$f":"IF(OR(E332=Sprache!$C$21,E332=Sprache!$D$21),F332,0)+IF(OR(G332=Sprache!$C$21,G332=Sprache!$D$21),H332,0)","v":0},{"$f":"IF(OR(E332=Sprache!$C$22,E332=Sprache!$D$22),F332,0)+IF(OR(G332=Sprache!$C$22,G332=Sprache!$D$22),H332,0)","v":0},{"$f":"IF(OR(E332=Sprache!$C$23,E332=Sprache!$D$23),F332,0)+IF(OR(G332=Sprache!$C$23,G332=Sprache!$D$23),H332,0)","v":0},{"$f":"IF(OR(E332=Sprache!$C$24,E332=Sprache!$D$24),F332,0)+IF(OR(G332=Sprache!$C$24,G332=Sprache!$D$24),H332,0)","v":0},0,{"$f":"'Formulaire B '!$G$11*I332+'Formulaire B '!$G$11*J332+'Formulaire B '!$G$12*K332+'Formulaire B '!$G$13*L332+'Formulaire B '!$G$14*M332+'Formulaire B '!$G$15*N332","v":0},"",null,null,null,0,null,null,"",null,{"$f":"IF(B332<>\"\",HYPERLINK($AC$9&AB332,Sprache!$E$25 &\" \"&B332),\"\")","v":""},null,322,{"$f":"Eingabemeldung(Sprache!$E$18,Sprache!$E$17,'Formulaire C'!E332)","v":""},{"$f":"Eingabemeldung(Sprache!$E$18,Sprache!$E$17,'Formulaire C'!G332)","v":""},false,0,{"$f":"IF(X332<Parameter!$C$4,1,0)","v":0}]
[null,null,null,null,null,null,null,null,{"$f":"IF(OR(E333=Sprache!$C$19,E333=Sprache!$D$19),F333,0)+IF(OR(G333=Sprache!$C$19,G333=Sprache!$D$19),H333,0)","v":0},{"$f":"IF(OR(E333=Sprache!$C$20,E333=Sprache!$D$20),F333,0)+IF(OR(G333=Sprache!$C$20,G333=Sprache!$D$20),H333,0)","v":0},{"$f":"IF(OR(E333=Sprache!$C$21,E333=Sprache!$D$21),F333,0)+IF(OR(G333=Sprache!$C$21,G333=Sprache!$D$21),H333,0)","v":0},{"$f":"IF(OR(E333=Sprache!$C$22,E333=Sprache!$D$22),F333,0)+IF(OR(G333=Sprache!$C$22,G333=Sprache!$D$22),H333,0)","v":0},{"$f":"IF(OR(E333=Sprache!$C$23,E333=Sprache!$D$23),F333,0)+IF(OR(G333=Sprache!$C$23,G333=Sprache!$D$23),H333,0)","v":0},{"$f":"IF(OR(E333=Sprache!$C$24,E333=Sprache!$D$24),F333,0)+IF(OR(G333=Sprache!$C$24,G333=Sprache!$D$24),H333,0)","v":0},0,{"$f":"'Formulaire B '!$G$11*I333+'Formulaire B '!$G$11*J333+'Formulaire B '!$G$12*K333+'Formulaire B '!$G$13*L333+'Formulaire B '!$G$14*M333+'Formulaire B '!$G$15*N333","v":0},"",null,null,null,0,null,null,"",null,{"$f":"IF(B333<>\"\",HYPERLINK($AC$9&AB333,Sprache!$E$25 &\" \"&B333),\"\")","v":""},null,323,{"$f":"Eingabemeldung(Sprache!$E$18,Sprache!$E$17,'Formulaire C'!E333)","v":""},{"$f":"Eingabemeldung(Sprache!$E$18,Sprache!$E$17,'Formulaire C'!G333)","v":""},false,0,{"$f":"IF(X333<Parameter!$C$4,1,0)","v":0}]
[null,null,null,null,null,null,null,null,{"$f":"IF(OR(E334=Sprache!$C$19,E334=Sprache!$D$19),F334,0)+IF(OR(G334=Sprache!$C$19,G334=Sprache!$D$19),H334,0)","v":0},{"$f":"IF(OR(E334=Sprache!$C$20,E334=Sprache!$D$20),F334,0)+IF(OR(G334=Sprache!$C$20,G334=Sprache!$D$20),H334,0)","v":0},{"$f":"IF(OR(E334=Sprache!$C$21,E334=Sprache!$D$21),F334,0)+IF(OR(G334=Sprache!$C$21,G334=Sprache!$D$21),H334,0)","v":0},{"$f":"IF(OR(E334=Sprache!$C$22,E334=Sprache!$D$22),F334,0)+IF(OR(G334=Sprache!$C$22,G334=Sprache!$D$22),H334,0)","v":0},{"$f":"IF(OR(E334=Sprache!$C$23,E334=Sprache!$D$23),F334,0)+IF(OR(G334=Sprache!$C$23,G334=Sprache!$D$23),H334,0)","v":0},{"$f":"IF(OR(E334=Sprache!$C$24,E334=Sprache!$D$24),F334,0)+IF(OR(G334=Sprache!$C$24,G334=Sprache!$D$24),H334,0)","v":0},0,{"$f":"'Formulaire B '!$G$11*I334+'Formulaire B '!$G$11*J334+'Formulaire B '!$G$12*K334+'Formulaire B '!$G$13*L334+'Formulaire B '!$G$14*M334+'Formulaire B '!$G$15*N334","v":0},"",null,null,null,0,null,null,"",null,{"$f":"IF(B334<>\"\",HYPERLINK($AC$9&AB334,Sprache!$E$25 &\" \"&B334),\"\")","v":""},null,324,{"$f":"Eingabemeldung(Sprache!$E$18,Sprache!$E$17,'Formulaire C'!E334)","v":""},{"$f":"Eingabemeldung(Sprache!$E$18,Sprache!$E$17,'Formulaire C'!G334)","v":""},false,0,{"$f":"IF(X334<Parameter!$C$4,1,0)","v":0}]
[null,null,null,null,null,null,null,null,{"$f":"IF(OR(E335=Sprache!$C$19,E335=Sprache!$D$19),F335,0)+IF(OR(G335=Sprache!$C$19,G335=Sprache!$D$19),H335,0)","v":0},{"$f":"IF(OR(E335=Sprache!$C$20,E335=Sprache!$D$20),F335,0)+IF(OR(G335=Sprache!$C$20,G335=Sprache!$D$20),H335,0)","v":0},{"$f":"IF(OR(E335=Sprache!$C$21,E335=Sprache!$D$21),F335,0)+IF(OR(G335=Sprache!$C$21,G335=Sprache!$D$21),H335,0)","v":0},{"$f":"IF(OR(E335=Sprache!$C$22,E335=Sprache!$D$22),F335,0)+IF(OR(G335=Sprache!$C$22,G335=Sprache!$D$22),H335,0)","v":0},{"$f":"IF(OR(E335=Sprache!$C$23,E335=Sprache!$D$23),F335,0)+IF(OR(G335=Sprache!$C$23,G335=Sprache!$D$23),H335,0)","v":0},{"$f":"IF(OR(E335=Sprache!$C$24,E335=Sprache!$D$24),F335,0)+IF(OR(G335=Sprache!$C$24,G335=Sprache!$D$24),H335,0)","v":0},0,{"$f":"'Formulaire B '!$G$11*I335+'Formulaire B '!$G$11*J335+'Formulaire B '!$G$12*K335+'Formulaire B '!$G$13*L335+'Formulaire B '!$G$14*M335+'Formulaire B '!$G$15*N335","v":0},"",null,null,null,0,null,null,"",null,{"$f":"IF(B335<>\"\",HYPERLINK($AC$9&AB335,Sprache!$E$25 &\" \"&B335),\"\")","v":""},null,325,{"$f":"Eingabemeldung(Sprache!$E$18,Sprache!$E$17,'Formulaire C'!E335)","v":""},{"$f":"Eingabemeldung(Sprache!$E$18,Sprache!$E$17,'Formulaire C'!G335)","v":""},false,0,{"$f":"IF(X335<Parameter!$C$4,1,0)","v":0}]
[null,null,null,null,null,null,null,null,{"$f":"IF(OR(E336=Sprache!$C$19,E336=Sprache!$D$19),F336,0)+IF(OR(G336=Sprache!$C$19,G336=Sprache!$D$19),H336,0)","v":0},{"$f":"IF(OR(E336=Sprache!$C$20,E336=Sprache!$D$20),F336,0)+IF(OR(G336=Sprache!$C$20,G336=Sprache!$D$20),H336,0)","v":0},{"$f":"IF(OR(E336=Sprache!$C$21,E336=Sprache!$D$21),F336,0)+IF(OR(G336=Sprache!$C$21,G336=Sprache!$D$21),H336,0)","v":0},{"$f":"IF(OR(E336=Sprache!$C$22,E336=Sprache!$D$22),F336,0)+IF(OR(G336=Sprache!$C$22,G336=Sprache!$D$22),H336,0)","v":0},{"$f":"IF(OR(E336=Sprache!$C$23,E336=Sprache!$D$23),F336,0)+IF(OR(G336=Sprache!$C$23,G336=Sprache!$D$23),H336,0)","v":0},{"$f":"IF(OR(E336=Sprache!$C$24,E336=Sprache!$D$24),F336,0)+IF(OR(G336=Sprache!$C$24,G336=Sprache!$D$24),H336,0)","v":0},0,{"$f":"'Formulaire B '!$G$11*I336+'Formulaire B '!$G$11*J336+'Formulaire B '!$G$12*K336+'Formulaire B '!$G$13*L336+'Formulaire B '!$G$14*M336+'Formulaire B '!$G$15*N336","v":0},"",null,null,null,0,null,null,"",null,{"$f":"IF(B336<>\"\",HYPERLINK($AC$9&AB336,Sprache!$E$25 &\" \"&B336),\"\")","v":""},null,326,{"$f":"Eingabemeldung(Sprache!$E$18,Sprache!$E$17,'Formulaire C'!E336)","v":""},{"$f":"Eingabemeldung(Sprache!$E$18,Sprache!$E$17,'Formulaire C'!G336)","v":""},false,0,{"$f":"IF(X336<Parameter!$C$4,1,0)","v":0}]
[null,null,null,null,null,null,null,null,{"$f":"IF(OR(E337=Sprache!$C$19,E337=Sprache!$D$19),F337,0)+IF(OR(G337=Sprache!$C$19,G337=Sprache!$D$19),H337,0)","v":0},{"$f":"IF(OR(E337=Sprache!$C$20,E337=Sprache!$D$20),F337,0)+IF(OR(G337=Sprache!$C$20,G337=Sprache!$D$20),H337,0)","v":0},{"$f":"IF(OR(E337=Sprache!$C$21,E337=Sprache!$D$21),F337,0)+IF(OR(G337=Sprache!$C$21,G337=Sprache!$D$21),H337,0)","v":0},{"$f":"IF(OR(E337=Sprache!$C$22,E337=Sprache!$D$22),F337,0)+IF(OR(G337=Sprache!$C$22,G337=Sprache!$D$22),H337,0)","v":0},{"$f":"IF(OR(E337=Sprache!$C$23,E337=Sprache!$D$23),F337,0)+IF(OR(G337=Sprache!$C$23,G337=Sprache!$D$23),H337,0)","v":0},{"$f":"IF(OR(E337=Sprache!$C$24,E337=Sprache!$D$24),F337,0)+IF(OR(G337=Sprache!$C$24,G337=Sprache!$D$24),H337,0)","v":0},0,{"$f":"'Formulaire B '!$G$11*I337+'Formulaire B '!$G$11*J337+'Formulaire B '!$G$12*K337+'Formulaire B '!$G$13*L337+'Formulaire B '!$G$14*M337+'Formulaire B '!$G$15*N337","v":0},"",null,null,null,0,null,null,"",null,{"$f":"IF(B337<>\"\",HYPERLINK($AC$9&AB337,Sprache!$E$25 &\" \"&B337),\"\")","v":""},null,327,{"$f":"Eingabemeldung(Sprache!$E$18,Sprache!$E$17,'Formulaire C'!E337)","v":""},{"$f":"Eingabemeldung(Sprache!$E$18,Sprache!$E$17,'Formulaire C'!G337)","v":""},false,0,{"$f":"IF(X337<Parameter!$C$4,1,0)","v":0}]
[null,null,null,null,null,null,null,null,{"$f":"IF(OR(E338=Sprache!$C$19,E338=Sprache!$D$19),F338,0)+IF(OR(G338=Sprache!$C$19,G338=Sprache!$D$19),H338,0)","v":0},{"$f":"IF(OR(E338=Sprache!$C$20,E338=Sprache!$D$20),F338,0)+IF(OR(G338=Sprache!$C$20,G338=Sprache!$D$20),H338,0)","v":0},{"$f":"IF(OR(E338=Sprache!$C$21,E338=Sprache!$D$21),F338,0)+IF(OR(G338=Sprache!$C$21,G338=Sprache!$D$21),H338,0)","v":0},{"$f":"IF(OR(E338=Sprache!$C$22,E338=Sprache!$D$22),F338,0)+IF(OR(G338=Sprache!$C$22,G338=Sprache!$D$22),H338,0)","v":0},{"$f":"IF(OR(E338=Sprache!$C$23,E338=Sprache!$D$23),F338,0)+IF(OR(G338=Sprache!$C$23,G338=Sprache!$D$23),H338,0)","v":0},{"$f":"IF(OR(E338=Sprache!$C$24,E338=Sprache!$D$24),F338,0)+IF(OR(G338=Sprache!$C$24,G338=Sprache!$D$24),H338,0)","v":0},0,{"$f":"'Formulaire B '!$G$11*I338+'Formulaire B '!$G$11*J338+'Formulaire B '!$G$12*K338+'Formulaire B '!$G$13*L338+'Formulaire B '!$G$14*M338+'Formulaire B '!$G$15*N338","v":0},"",null,null,null,0,null,null,"",null,{"$f":"IF(B338<>\"\",HYPERLINK($AC$9&AB338,Sprache!$E$25 &\" \"&B338),\"\")","v":""},null,328,{"$f":"Eingabemeldung(Sprache!$E$18,Sprache!$E$17,'Formulaire C'!E338)","v":""},{"$f":"Eingabemeldung(Sprache!$E$18,Sprache!$E$17,'Formulaire C'!G338)","v":""},false,0,{"$f":"IF(X338<Parameter!$C$4,1,0)","v":0}]
[null,null,null,null,null,null,null,null,{"$f":"IF(OR(E339=Sprache!$C$19,E339=Sprache!$D$19),F339,0)+IF(OR(G339=Sprache!$C$19,G339=Sprache!$D$19),H339,0)","v":0},{"$f":"IF(OR(E339=Sprache!$C$20,E339=Sprache!$D$20),F339,0)+IF(OR(G339=Sprache!$C$20,G339=Sprache!$D$20),H339,0)","v":0},{"$f":"IF(OR(E339=Sprache!$C$21,E339=Sprache!$D$21),F339,0)+IF(OR(G339=Sprache!$C$21,G339=Sprache!$D$21),H339,0)","v":0},{"$f":"IF(OR(E339=Sprache!$C$22,E339=Sprache!$D$22),F339,0)+IF(OR(G339=Sprache!$C$22,G339=Sprache!$D$22),H339,0)","v":0},{"$f":"IF(OR(E339=Sprache!$C$23,E339=Sprache!$D$23),F339,0)+IF(OR(G339=Sprache!$C$23,G339=Sprache!$D$23),H339,0)","v":0},{"$f":"IF(OR(E339=Sprache!$C$24,E339=Sprache!$D$24),F339,0)+IF(OR(G339=Sprache!$C$24,G339=Sprache!$D$24),H339,0)","v":0},0,{"$f":"'Formulaire B '!$G$11*I339+'Formulaire B '!$G$11*J339+'Formulaire B '!$G$12*K339+'Formulaire B '!$G$13*L339+'Formulaire B '!$G$14*M339+'Formulaire B '!$G$15*N339","v":0},"",null,null,null,0,null,null,"",null,{"$f":"IF(B339<>\"\",HYPERLINK($AC$9&AB339,Sprache!$E$25 &\" \"&B339),\"\")","v":""},null,329,{"$f":"Eingabemeldung(Sprache!$E$18,Sprache!$E$17,'Formulaire C'!E339)","v":""},{"$f":"Eingabemeldung(Sprache!$E$18,Sprache!$E$17,'Formulaire C'!G339)","v":""},false,0,{"$f":"IF(X339<Parameter!$C$4,1,0)","v":0}]
[null,null,null,null,null,null,null,null,{"$f":"IF(OR(E340=Sprache!$C$19,E340=Sprache!$D$19),F340,0)+IF(OR(G340=Sprache!$C$19,G340=Sprache!$D$19),H340,0)","v":0},{"$f":"IF(OR(E340=Sprache!$C$20,E340=Sprache!$D$20),F340,0)+IF(OR(G340=Sprache!$C$20,G340=Sprache!$D$20),H340,0)","v":0},{"$f":"IF(OR(E340=Sprache!$C$21,E340=Sprache!$D$21),F340,0)+IF(OR(G340=Sprache!$C$21,G340=Sprache!$D$21),H340,0)","v":0},{"$f":"IF(OR(E340=Sprache!$C$22,E340=Sprache!$D$22),F340,0)+IF(OR(G340=Sprache!$C$22,G340=Sprache!$D$22),H340,0)","v":0},{"$f":"IF(OR(E340=Sprache!$C$23,E340=Sprache!$D$23),F340,0)+IF(OR(G340=Sprache!$C$23,G340=Sprache!$D$23),H340,0)","v":0},{"$f":"IF(OR(E340=Sprache!$C$24,E340=Sprache!$D$24),F340,0)+IF(OR(G340=Sprache!$C$24,G340=Sprache!$D$24),H340,0)","v":0},0,{"$f":"'Formulaire B '!$G$11*I340+'Formulaire B '!$G$11*J340+'Formulaire B '!$G$12*K340+'Formulaire B '!$G$13*L340+'Formulaire B '!$G$14*M340+'Formulaire B '!$G$15*N340","v":0},"",null,null,null,0,null,null,"",null,{"$f":"IF(B340<>\"\",HYPERLINK($AC$9&AB340,Sprache!$E$25 &\" \"&B340),\"\")","v":""},null,330,{"$f":"Eingabemeldung(Sprache!$E$18,Sprache!$E$17,'Formulaire C'!E340)","v":""},{"$f":"Eingabemeldung(Sprache!$E$18,Sprache!$E$17,'Formulaire C'!G340)","v":""},false,0,{"$f":"IF(X340<Parameter!$C$4,1,0)","v":0}]
[null,null,null,null,null,null,null,null,{"$f":"IF(OR(E341=Sprache!$C$19,E341=Sprache!$D$19),F341,0)+IF(OR(G341=Sprache!$C$19,G341=Sprache!$D$19),H341,0)","v":0},{"$f":"IF(OR(E341=Sprache!$C$20,E341=Sprache!$D$20),F341,0)+IF(OR(G341=Sprache!$C$20,G341=Sprache!$D$20),H341,0)","v":0},{"$f":"IF(OR(E341=Sprache!$C$21,E341=Sprache!$D$21),F341,0)+IF(OR(G341=Sprache!$C$21,G341=Sprache!$D$21),H341,0)","v":0},{"$f":"IF(OR(E341=Sprache!$C$22,E341=Sprache!$D$22),F341,0)+IF(OR(G341=Sprache!$C$22,G341=Sprache!$D$22),H341,0)","v":0},{"$f":"IF(OR(E341=Sprache!$C$23,E341=Sprache!$D$23),F341,0)+IF(OR(G341=Sprache!$C$23,G341=Sprache!$D$23),H341,0)","v":0},{"$f":"IF(OR(E341=Sprache!$C$24,E341=Sprache!$D$24),F341,0)+IF(OR(G341=Sprache!$C$24,G341=Sprache!$D$24),H341,0)","v":0},0,{"$f":"'Formulaire B '!$G$11*I341+'Formulaire B '!$G$11*J341+'Formulaire B '!$G$12*K341+'Formulaire B '!$G$13*L341+'Formulaire B '!$G$14*M341+'Formulaire B '!$G$15*N341","v":0},"",null,null,null,0,null,null,"",null,{"$f":"IF(B341<>\"\",HYPERLINK($AC$9&AB341,Sprache!$E$25 &\" \"&B341),\"\")","v":""},null,331,{"$f":"Eingabemeldung(Sprache!$E$18,Sprache!$E$17,'Formulaire C'!E341)","v":""},{"$f":"Eingabemeldung(Sprache!$E$18,Sprache!$E$17,'Formulaire C'!G341)","v":""},false,0,{"$f":"IF(X341<Parameter!$C$4,1,0)","v":0}]
[null,null,null,null,null,null,null,null,{"$f":"IF(OR(E342=Sprache!$C$19,E342=Sprache!$D$19),F342,0)+IF(OR(G342=Sprache!$C$19,G342=Sprache!$D$19),H342,0)","v":0},{"$f":"IF(OR(E342=Sprache!$C$20,E342=Sprache!$D$20),F342,0)+IF(OR(G342=Sprache!$C$20,G342=Sprache!$D$20),H342,0)","v":0},{"$f":"IF(OR(E342=Sprache!$C$21,E342=Sprache!$D$21),F342,0)+IF(OR(G342=Sprache!$C$21,G342=Sprache!$D$21),H342,0)","v":0},{"$f":"IF(OR(E342=Sprache!$C$22,E342=Sprache!$D$22),F342,0)+IF(OR(G342=Sprache!$C$22,G342=Sprache!$D$22),H342,0)","v":0},{"$f":"IF(OR(E342=Sprache!$C$23,E342=Sprache!$D$23),F342,0)+IF(OR(G342=Sprache!$C$23,G342=Sprache!$D$23),H342,0)","v":0},{"$f":"IF(OR(E342=Sprache!$C$24,E342=Sprache!$D$24),F342,0)+IF(OR(G342=Sprache!$C$24,G342=Sprache!$D$24),H342,0)","v":0},0,{"$f":"'Formulaire B '!$G$11*I342+'Formulaire B '!$G$11*J342+'Formulaire B '!$G$12*K342+'Formulaire B '!$G$13*L342+'Formulaire B '!$G$14*M342+'Formulaire B '!$G$15*N342","v":0},"",null,null,null,0,null,null,"",null,{"$f":"IF(B342<>\"\",HYPERLINK($AC$9&AB342,Sprache!$E$25 &\" \"&B342),\"\")","v":""},null,332,{"$f":"Eingabemeldung(Sprache!$E$18,Sprache!$E$17,'Formulaire C'!E342)","v":""},{"$f":"Eingabemeldung(Sprache!$E$18,Sprache!$E$17,'Formulaire C'!G342)","v":""},false,0,{"$f":"IF(X342<Parameter!$C$4,1,0)","v":0}]
[null,null,null,null,null,null,null,null,{"$f":"IF(OR(E343=Sprache!$C$19,E343=Sprache!$D$19),F343,0)+IF(OR(G343=Sprache!$C$19,G343=Sprache!$D$19),H343,0)","v":0},{"$f":"IF(OR(E343=Sprache!$C$20,E343=Sprache!$D$20),F343,0)+IF(OR(G343=Sprache!$C$20,G343=Sprache!$D$20),H343,0)","v":0},{"$f":"IF(OR(E343=Sprache!$C$21,E343=Sprache!$D$21),F343,0)+IF(OR(G343=Sprache!$C$21,G343=Sprache!$D$21),H343,0)","v":0},{"$f":"IF(OR(E343=Sprache!$C$22,E343=Sprache!$D$22),F343,0)+IF(OR(G343=Sprache!$C$22,G343=Sprache!$D$22),H343,0)","v":0},{"$f":"IF(OR(E343=Sprache!$C$23,E343=Sprache!$D$23),F343,0)+IF(OR(G343=Sprache!$C$23,G343=Sprache!$D$23),H343,0)","v":0},{"$f":"IF(OR(E343=Sprache!$C$24,E343=Sprache!$D$24),F343,0)+IF(OR(G343=Sprache!$C$24,G343=Sprache!$D$24),H343,0)","v":0},0,{"$f":"'Formulaire B '!$G$11*I343+'Formulaire B '!$G$11*J343+'Formulaire B '!$G$12*K343+'Formulaire B '!$G$13*L343+'Formulaire B '!$G$14*M343+'Formulaire B '!$G$15*N343","v":0},"",null,null,null,0,null,null,"",null,{"$f":"IF(B343<>\"\",HYPERLINK($AC$9&AB343,Sprache!$E$25 &\" \"&B343),\"\")","v":""},null,333,{"$f":"Eingabemeldung(Sprache!$E$18,Sprache!$E$17,'Formulaire C'!E343)","v":""},{"$f":"Eingabemeldung(Sprache!$E$18,Sprache!$E$17,'Formulaire C'!G343)","v":""},false,0,{"$f":"IF(X343<Parameter!$C$4,1,0)","v":0}]
[null,null,null,null,null,null,null,null,{"$f":"IF(OR(E344=Sprache!$C$19,E344=Sprache!$D$19),F344,0)+IF(OR(G344=Sprache!$C$19,G344=Sprache!$D$19),H344,0)","v":0},{"$f":"IF(OR(E344=Sprache!$C$20,E344=Sprache!$D$20),F344,0)+IF(OR(G344=Sprache!$C$20,G344=Sprache!$D$20),H344,0)","v":0},{"$f":"IF(OR(E344=Sprache!$C$21,E344=Sprache!$D$21),F344,0)+IF(OR(G344=Sprache!$C$21,G344=Sprache!$D$21),H344,0)","v":0},{"$f":"IF(OR(E344=Sprache!$C$22,E344=Sprache!$D$22),F344,0)+IF(OR(G344=Sprache!$C$22,G344=Sprache!$D$22),H344,0)","v":0},{"$f":"IF(OR(E344=Sprache!$C$23,E344=Sprache!$D$23),F344,0)+IF(OR(G344=Sprache!$C$23,G344=Sprache!$D$23),H344,0)","v":0},{"$f":"IF(OR(E344=Sprache!$C$24,E344=Sprache!$D$24),F344,0)+IF(OR(G344=Sprache!$C$24,G344=Sprache!$D$24),H344,0)","v":0},0,{"$f":"'Formulaire B '!$G$11*I344+'Formulaire B '!$G$11*J344+'Formulaire B '!$G$12*K344+'Formulaire B '!$G$13*L344+'Formulaire B '!$G$14*M344+'Formulaire B '!$G$15*N344","v":0},"",null,null,null,0,null,null,"",null,{"$f":"IF(B344<>\"\",HYPERLINK($AC$9&AB344,Sprache!$E$25 &\" \"&B344),\"\")","v":""},null,334,{"$f":"Eingabemeldung(Sprache!$E$18,Sprache!$E$17,'Formulaire C'!E344)","v":""},{"$f":"Eingabemeldung(Sprache!$E$18,Sprache!$E$17,'Formulaire C'!G344)","v":""},false,0,{"$f":"IF(X344<Parameter!$C$4,1,0)","v":0}]
[null,null,null,null,null,null,null,null,{"$f":"IF(OR(E345=Sprache!$C$19,E345=Sprache!$D$19),F345,0)+IF(OR(G345=Sprache!$C$19,G345=Sprache!$D$19),H345,0)","v":0},{"$f":"IF(OR(E345=Sprache!$C$20,E345=Sprache!$D$20),F345,0)+IF(OR(G345=Sprache!$C$20,G345=Sprache!$D$20),H345,0)","v":0},{"$f":"IF(OR(E345=Sprache!$C$21,E345=Sprache!$D$21),F345,0)+IF(OR(G345=Sprache!$C$21,G345=Sprache!$D$21),H345,0)","v":0},{"$f":"IF(OR(E345=Sprache!$C$22,E345=Sprache!$D$22),F345,0)+IF(OR(G345=Sprache!$C$22,G345=Sprache!$D$22),H345,0)","v":0},{"$f":"IF(OR(E345=Sprache!$C$23,E345=Sprache!$D$23),F345,0)+IF(OR(G345=Sprache!$C$23,G345=Sprache!$D$23),H345,0)","v":0},{"$f":"IF(OR(E345=Sprache!$C$24,E345=Sprache!$D$24),F345,0)+IF(OR(G345=Sprache!$C$24,G345=Sprache!$D$24),H345,0)","v":0},0,{"$f":"'Formulaire B '!$G$11*I345+'Formulaire B '!$G$11*J345+'Formulaire B '!$G$12*K345+'Formulaire B '!$G$13*L345+'Formulaire B '!$G$14*M345+'Formulaire B '!$G$15*N345","v":0},"",null,null,null,0,null,null,"",null,{"$f":"IF(B345<>\"\",HYPERLINK($AC$9&AB345,Sprache!$E$25 &\" \"&B345),\"\")","v":""},null,335,{"$f":"Eingabemeldung(Sprache!$E$18,Sprache!$E$17,'Formulaire C'!E345)","v":""},{"$f":"Eingabemeldung(Sprache!$E$18,Sprache!$E$17,'Formulaire C'!G345)","v":""},false,0,{"$f":"IF(X345<Parameter!$C$4,1,0)","v":0}]
[null,null,null,null,null,null,null,null,{"$f":"IF(OR(E346=Sprache!$C$19,E346=Sprache!$D$19),F346,0)+IF(OR(G346=Sprache!$C$19,G346=Sprache!$D$19),H346,0)","v":0},{"$f":"IF(OR(E346=Sprache!$C$20,E346=Sprache!$D$20),F346,0)+IF(OR(G346=Sprache!$C$20,G346=Sprache!$D$20),H346,0)","v":0},{"$f":"IF(OR(E346=Sprache!$C$21,E346=Sprache!$D$21),F346,0)+IF(OR(G346=Sprache!$C$21,G346=Sprache!$D$21),H346,0)","v":0},{"$f":"IF(OR(E346=Sprache!$C$22,E346=Sprache!$D$22),F346,0)+IF(OR(G346=Sprache!$C$22,G346=Sprache!$D$22),H346,0)","v":0},{"$f":"IF(OR(E346=Sprache!$C$23,E346=Sprache!$D$23),F346,0)+IF(OR(G346=Sprache!$C$23,G346=Sprache!$D$23),H346,0)","v":0},{"$f":"IF(OR(E346=Sprache!$C$24,E346=Sprache!$D$24),F346,0)+IF(OR(G346=Sprache!$C$24,G346=Sprache!$D$24),H346,0)","v":0},0,{"$f":"'Formulaire B '!$G$11*I346+'Formulaire B '!$G$11*J346+'Formulaire B '!$G$12*K346+'Formulaire B '!$G$13*L346+'Formulaire B '!$G$14*M346+'Formulaire B '!$G$15*N346","v":0},"",null,null,null,0,null,null,"",null,{"$f":"IF(B346<>\"\",HYPERLINK($AC$9&AB346,Sprache!$E$25 &\" \"&B346),\"\")","v":""},null,336,{"$f":"Eingabemeldung(Sprache!$E$18,Sprache!$E$17,'Formulaire C'!E346)","v":""},{"$f":"Eingabemeldung(Sprache!$E$18,Sprache!$E$17,'Formulaire C'!G346)","v":""},false,0,{"$f":"IF(X346<Parameter!$C$4,1,0)","v":0}]
[null,null,null,null,null,null,null,null,{"$f":"IF(OR(E347=Sprache!$C$19,E347=Sprache!$D$19),F347,0)+IF(OR(G347=Sprache!$C$19,G347=Sprache!$D$19),H347,0)","v":0},{"$f":"IF(OR(E347=Sprache!$C$20,E347=Sprache!$D$20),F347,0)+IF(OR(G347=Sprache!$C$20,G347=Sprache!$D$20),H347,0)","v":0},{"$f":"IF(OR(E347=Sprache!$C$21,E347=Sprache!$D$21),F347,0)+IF(OR(G347=Sprache!$C$21,G347=Sprache!$D$21),H347,0)","v":0},{"$f":"IF(OR(E347=Sprache!$C$22,E347=Sprache!$D$22),F347,0)+IF(OR(G347=Sprache!$C$22,G347=Sprache!$D$22),H347,0)","v":0},{"$f":"IF(OR(E347=Sprache!$C$23,E347=Sprache!$D$23),F347,0)+IF(OR(G347=Sprache!$C$23,G347=Sprache!$D$23),H347,0)","v":0},{"$f":"IF(OR(E347=Sprache!$C$24,E347=Sprache!$D$24),F347,0)+IF(OR(G347=Sprache!$C$24,G347=Sprache!$D$24),H347,0)","v":0},0,{"$f":"'Formulaire B '!$G$11*I347+'Formulaire B '!$G$11*J347+'Formulaire B '!$G$12*K347+'Formulaire B '!$G$13*L347+'Formulaire B '!$G$14*M347+'Formulaire B '!$G$15*N347","v":0},"",null,null,null,0,null,null,"",null,{"$f":"IF(B347<>\"\",HYPERLINK($AC$9&AB347,Sprache!$E$25 &\" \"&B347),\"\")","v":""},null,{"$f":"AB346+1","v":337},{"$f":"Eingabemeldung(Sprache!$E$18,Sprache!$E$17,'Formulaire C'!E347)","v":""},{"$f":"Eingabemeldung(Sprache!$E$18,Sprache!$E$17,'Formulaire C'!G347)","v":""},false,0,{"$f":"IF(X347<Parameter!$C$4,1,0)","v":0}]
[null,null,null,null,null,null,null,null,{"$f":"IF(OR(E348=Sprache!$C$19,E348=Sprache!$D$19),F348,0)+IF(OR(G348=Sprache!$C$19,G348=Sprache!$D$19),H348,0)","v":0},{"$f":"IF(OR(E348=Sprache!$C$20,E348=Sprache!$D$20),F348,0)+IF(OR(G348=Sprache!$C$20,G348=Sprache!$D$20),H348,0)","v":0},{"$f":"IF(OR(E348=Sprache!$C$21,E348=Sprache!$D$21),F348,0)+IF(OR(G348=Sprache!$C$21,G348=Sprache!$D$21),H348,0)","v":0},{"$f":"IF(OR(E348=Sprache!$C$22,E348=Sprache!$D$22),F348,0)+IF(OR(G348=Sprache!$C$22,G348=Sprache!$D$22),H348,0)","v":0},{"$f":"IF(OR(E348=Sprache!$C$23,E348=Sprache!$D$23),F348,0)+IF(OR(G348=Sprache!$C$23,G348=Sprache!$D$23),H348,0)","v":0},{"$f":"IF(OR(E348=Sprache!$C$24,E348=Sprache!$D$24),F348,0)+IF(OR(G348=Sprache!$C$24,G348=Sprache!$D$24),H348,0)","v":0},0,{"$f":"'Formulaire B '!$G$11*I348+'Formulaire B '!$G$11*J348+'Formulaire B '!$G$12*K348+'Formulaire B '!$G$13*L348+'Formulaire B '!$G$14*M348+'Formulaire B '!$G$15*N348","v":0},"",null,null,null,0,null,null,"",null,{"$f":"IF(B348<>\"\",HYPERLINK($AC$9&AB348,Sprache!$E$25 &\" \"&B348),\"\")","v":""},null,338,{"$f":"Eingabemeldung(Sprache!$E$18,Sprache!$E$17,'Formulaire C'!E348)","v":""},{"$f":"Eingabemeldung(Sprache!$E$18,Sprache!$E$17,'Formulaire C'!G348)","v":""},false,0,{"$f":"IF(X348<Parameter!$C$4,1,0)","v":0}]
[null,null,null,null,null,null,null,null,{"$f":"IF(OR(E349=Sprache!$C$19,E349=Sprache!$D$19),F349,0)+IF(OR(G349=Sprache!$C$19,G349=Sprache!$D$19),H349,0)","v":0},{"$f":"IF(OR(E349=Sprache!$C$20,E349=Sprache!$D$20),F349,0)+IF(OR(G349=Sprache!$C$20,G349=Sprache!$D$20),H349,0)","v":0},{"$f":"IF(OR(E349=Sprache!$C$21,E349=Sprache!$D$21),F349,0)+IF(OR(G349=Sprache!$C$21,G349=Sprache!$D$21),H349,0)","v":0},{"$f":"IF(OR(E349=Sprache!$C$22,E349=Sprache!$D$22),F349,0)+IF(OR(G349=Sprache!$C$22,G349=Sprache!$D$22),H349,0)","v":0},{"$f":"IF(OR(E349=Sprache!$C$23,E349=Sprache!$D$23),F349,0)+IF(OR(G349=Sprache!$C$23,G349=Sprache!$D$23),H349,0)","v":0},{"$f":"IF(OR(E349=Sprache!$C$24,E349=Sprache!$D$24),F349,0)+IF(OR(G349=Sprache!$C$24,G349=Sprache!$D$24),H349,0)","v":0},0,{"$f":"'Formulaire B '!$G$11*I349+'Formulaire B '!$G$11*J349+'Formulaire B '!$G$12*K349+'Formulaire B '!$G$13*L349+'Formulaire B '!$G$14*M349+'Formulaire B '!$G$15*N349","v":0},"",null,null,null,0,null,null,"",null,{"$f":"IF(B349<>\"\",HYPERLINK($AC$9&AB349,Sprache!$E$25 &\" \"&B349),\"\")","v":""},null,339,{"$f":"Eingabemeldung(Sprache!$E$18,Sprache!$E$17,'Formulaire C'!E349)","v":""},{"$f":"Eingabemeldung(Sprache!$E$18,Sprache!$E$17,'Formulaire C'!G349)","v":""},false,0,{"$f":"IF(X349<Parameter!$C$4,1,0)","v":0}]
[null,null,null,null,null,null,null,null,{"$f":"IF(OR(E350=Sprache!$C$19,E350=Sprache!$D$19),F350,0)+IF(OR(G350=Sprache!$C$19,G350=Sprache!$D$19),H350,0)","v":0},{"$f":"IF(OR(E350=Sprache!$C$20,E350=Sprache!$D$20),F350,0)+IF(OR(G350=Sprache!$C$20,G350=Sprache!$D$20),H350,0)","v":0},{"$f":"IF(OR(E350=Sprache!$C$21,E350=Sprache!$D$21),F350,0)+IF(OR(G350=Sprache!$C$21,G350=Sprache!$D$21),H350,0)","v":0},{"$f":"IF(OR(E350=Sprache!$C$22,E350=Sprache!$D$22),F350,0)+IF(OR(G350=Sprache!$C$22,G350=Sprache!$D$22),H350,0)","v":0},{"$f":"IF(OR(E350=Sprache!$C$23,E350=Sprache!$D$23),F350,0)+IF(OR(G350=Sprache!$C$23,G350=Sprache!$D$23),H350,0)","v":0},{"$f":"IF(OR(E350=Sprache!$C$24,E350=Sprache!$D$24),F350,0)+IF(OR(G350=Sprache!$C$24,G350=Sprache!$D$24),H350,0)","v":0},0,{"$f":"'Formulaire B '!$G$11*I350+'Formulaire B '!$G$11*J350+'Formulaire B '!$G$12*K350+'Formulaire B '!$G$13*L350+'Formulaire B '!$G$14*M350+'Formulaire B '!$G$15*N350","v":0},"",null,null,null,0,null,null,"",null,{"$f":"IF(B350<>\"\",HYPERLINK($AC$9&AB350,Sprache!$E$25 &\" \"&B350),\"\")","v":""},null,340,{"$f":"Eingabemeldung(Sprache!$E$18,Sprache!$E$17,'Formulaire C'!E350)","v":""},{"$f":"Eingabemeldung(Sprache!$E$18,Sprache!$E$17,'Formulaire C'!G350)","v":""},false,0,{"$f":"IF(X350<Parameter!$C$4,1,0)","v":0}]
[null,null,null,null,null,null,null,null,null,null,null,null,null,null,null,null,null,null,null,null,null,null,null,"",null,null,null,341]
[null,{"$f":"Sprache!E191","v":"Somme de toutes les MA mises en œuvre les 5 dernières années"},null,null,null,null,null,null,{"$f":"SUM(($AE$250:$AE$350)*(I250:I350))","v":0},{"$f":"SUM(($AE$250:$AE$350)*(J250:J350))","v":0},{"$f":"SUM(($AE$250:$AE$350)*(K250:K350))","v":0},{"$f":"SUM(($AE$250:$AE$350)*(L250:L350))","v":0},{"$f":"SUM(($AE$250:$AE$350)*(M250:M350))","v":0},{"$f":"SUM(($AE$250:$AE$350)*(N250:N350))","v":0},{"$f":"SUM(($AE$250:$AE$350)*(O250:O350))","v":0},{"$f":"SUM(($AE$250:$AE$350)*(P250:P350))","v":0},{"$f":"IFERROR(SUM(($AE$250:$AE$350)*(Q250:Q350)),\"\")","v":""},null,null,null,null,null,null,null,null,null,null,342]
[null,{"$f":"Sprache!E192","v":"Somme de toutes les MA prises en compte et planifiées jusqu’à l’année cible"},null,null,null,null,null,null,{"$f":"SUM(($AF$23:$AF$225)*($AE$23:$AE$225)*(($R$23:$R$225)<='Formulaire D'!$G$27)*(I23:I225))","v":0},{"$f":"SUM(($AF$23:$AF$225)*($AE$23:$AE$225)*(($R$23:$R$225)<='Formulaire D'!$G$27)*(J23:J225))","v":0},{"$f":"SUM(($AF$23:$AF$225)*($AE$23:$AE$225)*(($R$23:$R$225)<='Formulaire D'!$G$27)*(K23:K225))","v":0},{"$f":"SUM(($AF$23:$AF$225)*($AE$23:$AE$225)*(($R$23:$R$225)<='Formulaire D'!$G$27)*(L23:L225))","v":0},{"$f":"SUM(($AF$23:$AF$225)*($AE$23:$AE$225)*(($R$23:$R$225)<='Formulaire D'!$G$27)*(M23:M225))","v":0},{"$f":"SUM(($AF$23:$AF$225)*($AE$23:$AE$225)*(($R$23:$R$225)<='Formulaire D'!$G$27)*(N23:N225))","v":0},{"$f":"SUM(($AF$23:$AF$225)*($AE$23:$AE$225)*(($R$23:$R$225)<='Formulaire D'!$G$27)*(O23:O225))","v":0},{"$f":"SUM(($AF$23:$AF$225)*($AE$23:$AE$225)*(($R$23:$R$225)<='Formulaire D'!$G$27)*(P23:P225))","v":0},{"$f":"IFERROR(P353/(H238-P353),\"\")","v":""}]
[null,{"$f":"Sprache!E193","v":"Somme de toutes les nouvelles MA mises en œuvre et réalisées "},null,null,null,null,null,null,null,null,null,null,null,null,{"$f":"O353+O352","v":0},{"$f":"P353+P352","v":0},{"$f":"IFERROR(Q353+Q352,\"\")","v":""},null,null,null,null,null,null,null,null,null,null,null,null,"Richtwert erreicht?",null,null,{"$f":"IF(ROUND(Q354*100,1)>=Parameter!C6,1,0)","v":{"$error":"#VALUE!"}}]
[null,null,null,null,null,null,null,null,null,null,null,null,null,null,null,null,null,null,null,null,null,null,null,null,null,null,null,null,null,"Alles ok und Richtwert erreicht?",null,null,{"$f":"AG354","v":{"$error":"#VALUE!"}}]
[null,{"$f":"IF(AND(AG229=0,B233=\"\"),Sprache!E194,IF(AG354=1,Sprache!E195,Sprache!E196))","v":"Champ de saisie bloqué: veuillez d’abord remplir complétement le point C.1!"}]

{"sheet":"Description des MA","index":7,"n_rows":340,"n_cols":9,"rows_kept":340,"cut":false,"hidden":false,"merged":[[10,1,10,5]]}
[]
[null,{"$f":"Sprache!E197","v":"Description des mesures d’amélioration "},null,null,null,{"$f":"IF('Page de couverture'!$F$7=\"\",\"\",'Page de couverture'!$F$7)","v":""}]
[null,null,null,null,null,{"$f":"IF('Page de couverture'!$F$35=\"\",\"\",'Page de couverture'!$F$35)","v":""}]
[]
[]
[null,{"$f":"Sprache!E198","v":"Remarques:"}]
[null,{"$f":"Sprache!E199","v":"Les mesures d’amélioration qui figurent dans le formulaire C doivent* être décrites de manière détaillée et compréhensible dans cette feuille."},null,null,null,null,null,null,"Pfad auf Formular C"]
[null,{"$f":"Sprache!E200","v":"- Les champs descriptifs s’affichent seulement si le numéro de la mesure d’amélioration a été inscrit dans le formulaire C."},null,null,null,null,null,null,{"$f":"MID(CELL(\"filename\",A1),FIND(\"[\",CELL(\"filename\",A1)),FIND(\"]\",CELL(\"filename\",A1))-FIND(\"[\",CELL(\"filename\",A1))+1)&\"'\"&blattname_formular_c&\"'!B\"","v":"[aue-en-gvm-kzv-tool-fr.xlsm]'Formulaire C'!B"}]
[null,{"$f":"Sprache!E201","v":"- Si vous avez besoin de plus de place pour décrire les mesures d’amélioration, vous pouvez adapter la hauteur des lignes."}]
[null,{"$f":"Sprache!E202","v":"- Pour passer à la ligne, pressez simultanément sur les touches Alt & Enter."}]
[null,{"$f":"Sprache!E203","v":"* Autre solution, décrivez les mesures d’amélioration dans un document que vous annexez. Les calculs d’économies et de coûts doivent également être présentés clairement dans cette annexe."}]
[]
[null,{"$f":"'Formulaire C'!B17","v":"N°"},{"$f":"'Formulaire C'!C17","v":"Brève description"},{"$f":"Sprache!E204","v":"Description détaillée de la MA:"},{"$f":"Sprache!E205","v":"Description du calcul de l’économie:"},{"$f":"Sprache!E206","v":"Description du calcul des coûts:"},null,null,"Zeile für Link"]
[null,{"$f":"IF('Formulaire C'!$B23<>\"\",'Formulaire C'!B23,\"\")","v":""},{"$f":"IF('Formulaire C'!$B23<>\"\",'Formulaire C'!C23,\"\")","v":""},null,null,null,{"$f":"IF('Formulaire C'!B23<>\"\",HYPERLINK($I$8&I14,Sprache!$E$26&\" \"&blattname_formular_c&\", \"&B14),\"\")","v":""},null,{"$f":"ROW(formular_c_erste_zeile_massnahmen)","v":23}]
[null,{"$f":"IF('Formulaire C'!$B24<>\"\",'Formulaire C'!B24,\"\")","v":""},{"$f":"IF('Formulaire C'!$B24<>\"\",'Formulaire C'!C24,\"\")","v":""},null,null,null,{"$f":"IF('Formulaire C'!B24<>\"\",HYPERLINK($I$8&I15,Sprache!$E$26&\" \"&blattname_formular_c&\", \"&B15),\"\")","v":""},null,{"$f":"I14+1","v":24}]
[null,{"$f":"IF('Formulaire C'!$B25<>\"\",'Formulaire C'!B25,\"\")","v":""},{"$f":"IF('Formulaire C'!$B25<>\"\",'Formulaire C'!C25,\"\")","v":""},null,null,null,{"$f":"IF('Formulaire C'!B25<>\"\",HYPERLINK($I$8&I16,Sprache!$E$26&\" \"&blattname_formular_c&\", \"&B16),\"\")","v":""},null,{"$f":"I15+1","v":25}]
[null,{"$f":"IF('Formulaire C'!$B26<>\"\",'Formulaire C'!B26,\"\")","v":""},{"$f":"IF('Formulaire C'!$B26<>\"\",'Formulaire C'!C26,\"\")","v":""},null,null,null,{"$f":"IF('Formulaire C'!B26<>\"\",HYPERLINK($I$8&I17,Sprache!$E$26&\" \"&blattname_formular_c&\", \"&B17),\"\")","v":""},null,26]
[null,{"$f":"IF('Formulaire C'!$B27<>\"\",'Formulaire C'!B27,\"\")","v":""},{"$f":"IF('Formulaire C'!$B27<>\"\",'Formulaire C'!C27,\"\")","v":""},null,null,null,{"$f":"IF('Formulaire C'!B27<>\"\",HYPERLINK($I$8&I18,Sprache!$E$26&\" \"&blattname_formular_c&\", \"&B18),\"\")","v":""},null,27]
[null,{"$f":"IF('Formulaire C'!$B28<>\"\",'Formulaire C'!B28,\"\")","v":""},{"$f":"IF('Formulaire C'!$B28<>\"\",'Formulaire C'!C28,\"\")","v":""},null,null,null,{"$f":"IF('Formulaire C'!B28<>\"\",HYPERLINK($I$8&I19,Sprache!$E$26&\" \"&blattname_formular_c&\", \"&B19),\"\")","v":""},null,28]
[null,{"$f":"IF('Formulaire C'!$B29<>\"\",'Formulaire C'!B29,\"\")","v":""},{"$f":"IF('Formulaire C'!$B29<>\"\",'Formulaire C'!C29,\"\")","v":""},null,null,null,{"$f":"IF('Formulaire C'!B29<>\"\",HYPERLINK($I$8&I20,Sprache!$E$26&\" \"&blattname_formular_c&\", \"&B20),\"\")","v":""},null,29]
[null,{"$f":"IF('Formulaire C'!$B30<>\"\",'Formulaire C'!B30,\"\")","v":""},{"$f":"IF('Formulaire C'!$B30<>\"\",'Formulaire C'!C30,\"\")","v":""},null,null,null,{"$f":"IF('Formulaire C'!B30<>\"\",HYPERLINK($I$8&I21,Sprache!$E$26&\" \"&blattname_formular_c&\", \"&B21),\"\")","v":""},null,30]
[null,{"$f":"IF('Formulaire C'!$B31<>\"\",'Formulaire C'!B31,\"\")","v":""},{"$f":"IF('Formulaire C'!$B31<>\"\",'Formulaire C'!C31,\"\")","v":""},null,null,null,{"$f":"IF('Formulaire C'!B31<>\"\",HYPERLINK($I$8&I22,Sprache!$E$26&\" \"&blattname_formular_c&\", \"&B22),\"\")","v":""},null,31]
[null,{"$f":"IF('Formulaire C'!$B32<>\"\",'Formulaire C'!B32,\"\")","v":""},{"$f":"IF('Formulaire C'!$B32<>\"\",'Formulaire C'!C32,\"\")","v":""},null,null,null,{"$f":"IF('Formulaire C'!B32<>\"\",HYPERLINK($I$8&I23,Sprache!$E$26&\" \"&blattname_formular_c&\", \"&B23),\"\")","v":""},null,32]
[null,{"$f":"IF('Formulaire C'!$B33<>\"\",'Formulaire C'!B33,\"\")","v":""},{"$f":"IF('Formulaire C'!$B33<>\"\",'Formulaire C'!C33,\"\")","v":""},null,null,null,{"$f":"IF('Formulaire C'!B33<>\"\",HYPERLINK($I$8&I24,Sprache!$E$26&\" \"&blattname_formular_c&\", \"&B24),\"\")","v":""},null,33]
[null,{"$f":"IF('Formulaire C'!$B34<>\"\",'Formulaire C'!B34,\"\")","v":""},{"$f":"IF('Formulaire C'!$B34<>\"\",'Formulaire C'!C34,\"\")","v":""},null,null,null,{"$f":"IF('Formulaire C'!B34<>\"\",HYPERLINK($I$8&I25,Sprache!$E$26&\" \"&blattname_formular_c&\", \"&B25),\"\")","v":""},null,34]
[null,{"$f":"IF('Formulaire C'!$B35<>\"\",'Formulaire C'!B35,\"\")","v":""},{"$f":"IF('Formulaire C'!$B35<>\"\",'Formulaire C'!C35,\"\")","v":""},null,null,null,{"$f":"IF('Formulaire C'!B35<>\"\",HYPERLINK($I$8&I26,Sprache!$E$26&\" \"&blattname_formular_c&\", \"&B26),\"\")","v":""},null,35]
[null,{"$f":"IF('Formulaire C'!$B36<>\"\",'Formulaire C'!B36,\"\")","v":""},{"$f":"IF('Formulaire C'!$B36<>\"\",'Formulaire C'!C36,\"\")","v":""},null,null,null,{"$f":"IF('Formulaire C'!B36<>\"\",HYPERLINK($I$8&I27,Sprache!$E$26&\" \"&blattname_formular_c&\", \"&B27),\"\")","v":""},null,36]
[null,{"$f":"IF('Formulaire C'!$B37<>\"\",'Formulaire C'!B37,\"\")","v":""},{"$f":"IF('Formulaire C'!$B37<>\"\",'Formulaire C'!C37,\"\")","v":""},null,null,null,{"$f":"IF('Formulaire C'!B37<>\"\",HYPERLINK($I$8&I28,Sprache!$E$26&\" \"&blattname_formular_c&\", \"&B28),\"\")","v":""},null,37]
[null,{"$f":"IF('Formulaire C'!$B38<>\"\",'Formulaire C'!B38,\"\")","v":""},{"$f":"IF('Formulaire C'!$B38<>\"\",'Formulaire C'!C38,\"\")","v":""},null,null,null,{"$f":"IF('Formulaire C'!B38<>\"\",HYPERLINK($I$8&I29,Sprache!$E$26&\" \"&blattname_formular_c&\", \"&B29),\"\")","v":""},null,38]
[null,{"$f":"IF('Formulaire C'!$B39<>\"\",'Formulaire C'!B39,\"\")","v":""},{"$f":"IF('Formulaire C'!$B39<>\"\",'Formulaire C'!C39,\"\")","v":""},null,null,null,{"$f":"IF('Formulaire C'!B39<>\"\",HYPERLINK($I$8&I30,Sprache!$E$26&\" \"&blattname_formular_c&\", \"&B30),\"\")","v":""},null,39]
[null,{"$f":"IF('Formulaire C'!$B40<>\"\",'Formulaire C'!B40,\"\")","v":""},{"$f":"IF('Formulaire C'!$B40<>\"\",'Formulaire C'!C40,\"\")","v":""},null,null,null,{"$f":"IF('Formulaire C'!B40<>\"\",HYPERLINK($I$8&I31,Sprache!$E$26&\" \"&blattname_formular_c&\", \"&B31),\"\")","v":""},null,40]
[null,{"$f":"IF('Formulaire C'!$B41<>\"\",'Formulaire C'!B41,\"\")","v":""},{"$f":"IF('Formulaire C'!$B41<>\"\",'Formulaire C'!C41,\"\")","v":""},null,null,null,{"$f":"IF('Formulaire C'!B41<>\"\",HYPERLINK($I$8&I32,Sprache!$E$26&\" \"&blattname_formular_c&\", \"&B32),\"\")","v":""},null,41]
[null,{"$f":"IF('Formulaire C'!$B42<>\"\",'Formulaire C'!B42,\"\")","v":""},{"$f":"IF('Formulaire C'!$B42<>\"\",'Formulaire C'!C42,\"\")","v":""},null,null,null,{"$f":"IF('Formulaire C'!B42<>\"\",HYPERLINK($I$8&I33,Sprache!$E$26&\" \"&blattname_formular_c&\", \"&B33),\"\")","v":""},null,42]
[null,{"$f":"IF('Formulaire C'!$B43<>\"\",'Formulaire C'!B43,\"\")","v":""},{"$f":"IF('Formulaire C'!$B43<>\"\",'Formulaire C'!C43,\"\")","v":""},null,null,null,{"$f":"IF('Formulaire C'!B43<>\"\",HYPERLINK($I$8&I34,Sprache!$E$26&\" \"&blattname_formular_c&\", \"&B34),\"\")","v":""},null,43]
[null,{"$f":"IF('Formulaire C'!$B44<>\"\",'Formulaire C'!B44,\"\")","v":""},{"$f":"IF('Formulaire C'!$B44<>\"\",'Formulaire C'!C44,\"\")","v":""},null,null,null,{"$f":"IF('Formulaire C'!B44<>\"\",HYPERLINK($I$8&I35,Sprache!$E$26&\" \"&blattname_formular_c&\", \"&B35),\"\")","v":""},null,44]
[null,{"$f":"IF('Formulaire C'!$B45<>\"\",'Formulaire C'!B45,\"\")","v":""},{"$f":"IF('Formulaire C'!$B45<>\"\",'Formulaire C'!C45,\"\")","v":""},null,null,null,{"$f":"IF('Formulaire C'!B45<>\"\",HYPERLINK($I$8&I36,Sprache!$E$26&\" \"&blattname_formular_c&\", \"&B36),\"\")","v":""},null,45]
[null,{"$f":"IF('Formulaire C'!$B46<>\"\",'Formulaire C'!B46,\"\")","v":""},{"$f":"IF('Formulaire C'!$B46<>\"\",'Formulaire C'!C46,\"\")","v":""},null,null,null,{"$f":"IF('Formulaire C'!B46<>\"\",HYPERLINK($I$8&I37,Sprache!$E$26&\" \"&blattname_formular_c&\", \"&B37),\"\")","v":""},null,46]
[null,{"$f":"IF('Formulaire C'!$B47<>\"\",'Formulaire C'!B47,\"\")","v":""},{"$f":"IF('Formulaire C'!$B47<>\"\",'Formulaire C'!C47,\"\")","v":""},null,null,null,{"$f":"IF('Formulaire C'!B47<>\"\",HYPERLINK($I$8&I38,Sprache!$E$26&\" \"&blattname_formular_c&\", \"&B38),\"\")","v":""},null,47]
[null,{"$f":"IF('Formulaire C'!$B48<>\"\",'Formulaire C'!B48,\"\")","v":""},{"$f":"IF('Formulaire C'!$B48<>\"\",'Formulaire C'!C48,\"\")","v":""},null,null,null,{"$f":"IF('Formulaire C'!B48<>\"\",HYPERLINK($I$8&I39,Sprache!$E$26&\" \"&blattname_formular_c&\", \"&B39),\"\")","v":""},null,48]
[null,{"$f":"IF('Formulaire C'!$B49<>\"\",'Formulaire C'!B49,\"\")","v":""},{"$f":"IF('Formulaire C'!$B49<>\"\",'Formulaire C'!C49,\"\")","v":""},null,null,null,{"$f":"IF('Formulaire C'!B49<>\"\",HYPERLINK($I$8&I40,Sprache!$E$26&\" \"&blattname_formular_c&\", \"&B40),\"\")","v":""},null,49]
[null,{"$f":"IF('Formulaire C'!$B50<>\"\",'Formulaire C'!B50,\"\")","v":""},{"$f":"IF('Formulaire C'!$B50<>\"\",'Formulaire C'!C50,\"\")","v":""},null,null,null,{"$f":"IF('Formulaire C'!B50<>\"\",HYPERLINK($I$8&I41,Sprache!$E$26&\" \"&blattname_formular_c&\", \"&B41),\"\")","v":""},null,50]
[null,{"$f":"IF('Formulaire C'!$B51<>\"\",'Formulaire C'!B51,\"\")","v":""},{"$f":"IF('Formulaire C'!$B51<>\"\",'Formulaire C'!C51,\"\")","v":""},null,null,null,{"$f":"IF('Formulaire C'!B51<>\"\",HYPERLINK($I$8&I42,Sprache!$E$26&\" \"&blattname_formular_c&\", \"&B42),\"\")","v":""},null,51]
[null,{"$f":"IF('Formulaire C'!$B52<>\"\",'Formulaire C'!B52,\"\")","v":""},{"$f":"IF('Formulaire C'!$B52<>\"\",'Formulaire C'!C52,\"\")","v":""},null,null,null,{"$f":"IF('Formulaire C'!B52<>\"\",HYPERLINK($I$8&I43,Sprache!$E$26&\" \"&blattname_formular_c&\", \"&B43),\"\")","v":""},null,52]
[null,{"$f":"IF('Formulaire C'!$B53<>\"\",'Formulaire C'!B53,\"\")","v":""},{"$f":"IF('Formulaire C'!$B53<>\"\",'Formulaire C'!C53,\"\")","v":""},null,null,null,{"$f":"IF('Formulaire C'!B53<>\"\",HYPERLINK($I$8&I44,Sprache!$E$26&\" \"&blattname_formular_c&\", \"&B44),\"\")","v":""},null,53]
[null,{"$f":"IF('Formulaire C'!$B54<>\"\",'Formulaire C'!B54,\"\")","v":""},{"$f":"IF('Formulaire C'!$B54<>\"\",'Formulaire C'!C54,\"\")","v":""},null,null,null,{"$f":"IF('Formulaire C'!B54<>\"\",HYPERLINK($I$8&I45,Sprache!$E$26&\" \"&blattname_formular_c&\", \"&B45),\"\")","v":""},null,54]
[null,{"$f":"IF('Formulaire C'!$B55<>\"\",'Formulaire C'!B55,\"\")","v":""},{"$f":"IF('Formulaire C'!$B55<>\"\",'Formulaire C'!C55,\"\")","v":""},null,null,null,{"$f":"IF('Formulaire C'!B55<>\"\",HYPERLINK($I$8&I46,Sprache!$E$26&\" \"&blattname_formular_c&\", \"&B46),\"\")","v":""},null,55]
[null,{"$f":"IF('Formulaire C'!$B56<>\"\",'Formulaire C'!B56,\"\")","v":""},{"$f":"IF('Formulaire C'!$B56<>\"\",'Formulaire C'!C56,\"\")","v":""},null,null,null,{"$f":"IF('Formulaire C'!B56<>\"\",HYPERLINK($I$8&I47,Sprache!$E$26&\" \"&blattname_formular_c&\", \"&B47),\"\")","v":""},null,56]
[null,{"$f":"IF('Formulaire C'!$B57<>\"\",'Formulaire C'!B57,\"\")","v":""},{"$f":"IF('Formulaire C'!$B57<>\"\",'Formulaire C'!C57,\"\")","v":""},null,null,null,{"$f":"IF('Formulaire C'!B57<>\"\",HYPERLINK($I$8&I48,Sprache!$E$26&\" \"&blattname_formular_c&\", \"&B48),\"\")","v":""},null,57]
[null,{"$f":"IF('Formulaire C'!$B58<>\"\",'Formulaire C'!B58,\"\")","v":""},{"$f":"IF('Formulaire C'!$B58<>\"\",'Formulaire C'!C58,\"\")","v":""},null,null,null,{"$f":"IF('Formulaire C'!B58<>\"\",HYPERLINK($I$8&I49,Sprache!$E$26&\" \"&blattname_formular_c&\", \"&B49),\"\")","v":""},null,58]
[null,{"$f":"IF('Formulaire C'!$B59<>\"\",'Formulaire C'!B59,\"\")","v":""},{"$f":"IF('Formulaire C'!$B59<>\"\",'Formulaire C'!C59,\"\")","v":""},null,null,null,{"$f":"IF('Formulaire C'!B59<>\"\",HYPERLINK($I$8&I50,Sprache!$E$26&\" \"&blattname_formular_c&\", \"&B50),\"\")","v":""},null,59]
[null,{"$f":"IF('Formulaire C'!$B60<>\"\",'Formulaire C'!B60,\"\")","v":""},{"$f":"IF('Formulaire C'!$B60<>\"\",'Formulaire C'!C60,\"\")","v":""},null,null,null,{"$f":"IF('Formulaire C'!B60<>\"\",HYPERLINK($I$8&I51,Sprache!$E$26&\" \"&blattname_formular_c&\", \"&B51),\"\")","v":""},null,60]
[null,{"$f":"IF('Formulaire C'!$B61<>\"\",'Formulaire C'!B61,\"\")","v":""},{"$f":"IF('Formulaire C'!$B61<>\"\",'Formulaire C'!C61,\"\")","v":""},null,null,null,{"$f":"IF('Formulaire C'!B61<>\"\",HYPERLINK($I$8&I52,Sprache!$E$26&\" \"&blattname_formular_c&\", \"&B52),\"\")","v":""},null,61]
[null,{"$f":"IF('Formulaire C'!$B62<>\"\",'Formulaire C'!B62,\"\")","v":""},{"$f":"IF('Formulaire C'!$B62<>\"\",'Formulaire C'!C62,\"\")","v":""},null,null,null,{"$f":"IF('Formulaire C'!B62<>\"\",HYPERLINK($I$8&I53,Sprache!$E$26&\" \"&blattname_formular_c&\", \"&B53),\"\")","v":""},null,62]
[null,{"$f":"IF('Formulaire C'!$B63<>\"\",'Formulaire C'!B63,\"\")","v":""},{"$f":"IF('Formulaire C'!$B63<>\"\",'Formulaire C'!C63,\"\")","v":""},null,null,null,{"$f":"IF('Formulaire C'!B63<>\"\",HYPERLINK($I$8&I54,Sprache!$E$26&\" \"&blattname_formular_c&\", \"&B54),\"\")","v":""},null,63]
[null,{"$f":"IF('Formulaire C'!$B64<>\"\",'Formulaire C'!B64,\"\")","v":""},{"$f":"IF('Formulaire C'!$B64<>\"\",'Formulaire C'!C64,\"\")","v":""},null,null,null,{"$f":"IF('Formulaire C'!B64<>\"\",HYPERLINK($I$8&I55,Sprache!$E$26&\" \"&blattname_formular_c&\", \"&B55),\"\")","v":""},null,64]
[null,{"$f":"IF('Formulaire C'!$B65<>\"\",'Formulaire C'!B65,\"\")","v":""},{"$f":"IF('Formulaire C'!$B65<>\"\",'Formulaire C'!C65,\"\")","v":""},null,null,null,{"$f":"IF('Formulaire C'!B65<>\"\",HYPERLINK($I$8&I56,Sprache!$E$26&\" \"&blattname_formular_c&\", \"&B56),\"\")","v":""},null,65]
[null,{"$f":"IF('Formulaire C'!$B66<>\"\",'Formulaire C'!B66,\"\")","v":""},{"$f":"IF('Formulaire C'!$B66<>\"\",'Formulaire C'!C66,\"\")","v":""},null,null,null,{"$f":"IF('Formulaire C'!B66<>\"\",HYPERLINK($I$8&I57,Sprache!$E$26&\" \"&blattname_formular_c&\", \"&B57),\"\")","v":""},null,66]
[null,{"$f":"IF('Formulaire C'!$B67<>\"\",'Formulaire C'!B67,\"\")","v":""},{"$f":"IF('Formulaire C'!$B67<>\"\",'Formulaire C'!C67,\"\")","v":""},null,null,null,{"$f":"IF('Formulaire C'!B67<>\"\",HYPERLINK($I$8&I58,Sprache!$E$26&\" \"&blattname_formular_c&\", \"&B58),\"\")","v":""},null,67]
[null,{"$f":"IF('Formulaire C'!$B68<>\"\",'Formulaire C'!B68,\"\")","v":""},{"$f":"IF('Formulaire C'!$B68<>\"\",'Formulaire C'!C68,\"\")","v":""},null,null,null,{"$f":"IF('Formulaire C'!B68<>\"\",HYPERLINK($I$8&I59,Sprache!$E$26&\" \"&blattname_formular_c&\", \"&B59),\"\")","v":""},null,68]
[null,{"$f":"IF('Formulaire C'!$B69<>\"\",'Formulaire C'!B69,\"\")","v":""},{"$f":"IF('Formulaire C'!$B69<>\"\",'Formulaire C'!C69,\"\")","v":""},null,null,null,{"$f":"IF('Formulaire C'!B69<>\"\",HYPERLINK($I$8&I60,Sprache!$E$26&\" \"&blattname_formular_c&\", \"&B60),\"\")","v":""},null,69]
[null,{"$f":"IF('Formulaire C'!$B70<>\"\",'Formulaire C'!B70,\"\")","v":""},{"$f":"IF('Formulaire C'!$B70<>\"\",'Formulaire C'!C70,\"\")","v":""},null,null,null,{"$f":"IF('Formulaire C'!B70<>\"\",HYPERLINK($I$8&I61,Sprache!$E$26&\" \"&blattname_formular_c&\", \"&B61),\"\")","v":""},null,70]
[null,{"$f":"IF('Formulaire C'!$B71<>\"\",'Formulaire C'!B71,\"\")","v":""},{"$f":"IF('Formulaire C'!$B71<>\"\",'Formulaire C'!C71,\"\")","v":""},null,null,null,{"$f":"IF('Formulaire C'!B71<>\"\",HYPERLINK($I$8&I62,Sprache!$E$26&\" \"&blattname_formular_c&\", \"&B62),\"\")","v":""},null,71]
[null,{"$f":"IF('Formulaire C'!$B72<>\"\",'Formulaire C'!B72,\"\")","v":""},{"$f":"IF('Formulaire C'!$B72<>\"\",'Formulaire C'!C72,\"\")","v":""},null,null,null,{"$f":"IF('Formulaire C'!B72<>\"\",HYPERLINK($I$8&I63,Sprache!$E$26&\" \"&blattname_formular_c&\", \"&B63),\"\")","v":""},null,72]
[null,{"$f":"IF('Formulaire C'!$B73<>\"\",'Formulaire C'!B73,\"\")","v":""},{"$f":"IF('Formulaire C'!$B73<>\"\",'Formulaire C'!C73,\"\")","v":""},null,null,null,{"$f":"IF('Formulaire C'!B73<>\"\",HYPERLINK($I$8&I64,Sprache!$E$26&\" \"&blattname_formular_c&\", \"&B64),\"\")","v":""},null,73]
[null,{"$f":"IF('Formulaire C'!$B74<>\"\",'Formulaire C'!B74,\"\")","v":""},{"$f":"IF('Formulaire C'!$B74<>\"\",'Formulaire C'!C74,\"\")","v":""},null,null,null,{"$f":"IF('Formulaire C'!B74<>\"\",HYPERLINK($I$8&I65,Sprache!$E$26&\" \"&blattname_formular_c&\", \"&B65),\"\")","v":""},null,74]
[null,{"$f":"IF('Formulaire C'!$B75<>\"\",'Formulaire C'!B75,\"\")","v":""},{"$f":"IF('Formulaire C'!$B75<>\"\",'Formulaire C'!C75,\"\")","v":""},null,null,null,{"$f":"IF('Formulaire C'!B75<>\"\",HYPERLINK($I$8&I66,Sprache!$E$26&\" \"&blattname_formular_c&\", \"&B66),\"\")","v":""},null,75]
[null,{"$f":"IF('Formulaire C'!$B76<>\"\",'Formulaire C'!B76,\"\")","v":""},{"$f":"IF('Formulaire C'!$B76<>\"\",'Formulaire C'!C76,\"\")","v":""},null,null,null,{"$f":"IF('Formulaire C'!B76<>\"\",HYPERLINK($I$8&I67,Sprache!$E$26&\" \"&blattname_formular_c&\", \"&B67),\"\")","v":""},null,76]
[null,{"$f":"IF('Formulaire C'!$B77<>\"\",'Formulaire C'!B77,\"\")","v":""},{"$f":"IF('Formulaire C'!$B77<>\"\",'Formulaire C'!C77,\"\")","v":""},null,null,null,{"$f":"IF('Formulaire C'!B77<>\"\",HYPERLINK($I$8&I68,Sprache!$E$26&\" \"&blattname_formular_c&\", \"&B68),\"\")","v":""},null,77]
[null,{"$f":"IF('Formulaire C'!$B78<>\"\",'Formulaire C'!B78,\"\")","v":""},{"$f":"IF('Formulaire C'!$B78<>\"\",'Formulaire C'!C78,\"\")","v":""},null,null,null,{"$f":"IF('Formulaire C'!B78<>\"\",HYPERLINK($I$8&I69,Sprache!$E$26&\" \"&blattname_formular_c&\", \"&B69),\"\")","v":""},null,78]
[null,{"$f":"IF('Formulaire C'!$B79<>\"\",'Formulaire C'!B79,\"\")","v":""},{"$f":"IF('Formulaire C'!$B79<>\"\",'Formulaire C'!C79,\"\")","v":""},null,null,null,{"$f":"IF('Formulaire C'!B79<>\"\",HYPERLINK($I$8&I70,Sprache!$E$26&\" \"&blattname_formular_c&\", \"&B70),\"\")","v":""},null,79]
[null,{"$f":"IF('Formulaire C'!$B80<>\"\",'Formulaire C'!B80,\"\")","v":""},{"$f":"IF('Formulaire C'!$B80<>\"\",'Formulaire C'!C80,\"\")","v":""},null,null,null,{"$f":"IF('Formulaire C'!B80<>\"\",HYPERLINK($I$8&I71,Sprache!$E$26&\" \"&blattname_formular_c&\", \"&B71),\"\")","v":""},null,80]
[null,{"$f":"IF('Formulaire C'!$B81<>\"\",'Formulaire C'!B81,\"\")","v":""},{"$f":"IF('Formulaire C'!$B81<>\"\",'Formulaire C'!C81,\"\")","v":""},null,null,null,{"$f":"IF('Formulaire C'!B81<>\"\",HYPERLINK($I$8&I72,Sprache!$E$26&\" \"&blattname_formular_c&\", \"&B72),\"\")","v":""},null,81]
[null,{"$f":"IF('Formulaire C'!$B82<>\"\",'Formulaire C'!B82,\"\")","v":""},{"$f":"IF('Formulaire C'!$B82<>\"\",'Formulaire C'!C82,\"\")","v":""},null,null,null,{"$f":"IF('Formulaire C'!B82<>\"\",HYPERLINK($I$8&I73,Sprache!$E$26&\" \"&blattname_formular_c&\", \"&B73),\"\")","v":""},null,82]
[null,{"$f":"IF('Formulaire C'!$B83<>\"\",'Formulaire C'!B83,\"\")","v":""},{"$f":"IF('Formulaire C'!$B83<>\"\",'Formulaire C'!C83,\"\")","v":""},null,null,null,{"$f":"IF('Formulaire C'!B83<>\"\",HYPERLINK($I$8&I74,Sprache!$E$26&\" \"&blattname_formular_c&\", \"&B74),\"\")","v":""},null,83]
[null,{"$f":"IF('Formulaire C'!$B84<>\"\",'Formulaire C'!B84,\"\")","v":""},{"$f":"IF('Formulaire C'!$B84<>\"\",'Formulaire C'!C84,\"\")","v":""},null,null,null,{"$f":"IF('Formulaire C'!B84<>\"\",HYPERLINK($I$8&I75,Sprache!$E$26&\" \"&blattname_formular_c&\", \"&B75),\"\")","v":""},null,84]
[null,{"$f":"IF('Formulaire C'!$B85<>\"\",'Formulaire C'!B85,\"\")","v":""},{"$f":"IF('Formulaire C'!$B85<>\"\",'Formulaire C'!C85,\"\")","v":""},null,null,null,{"$f":"IF('Formulaire C'!B85<>\"\",HYPERLINK($I$8&I76,Sprache!$E$26&\" \"&blattname_formular_c&\", \"&B76),\"\")","v":""},null,85]
[null,{"$f":"IF('Formulaire C'!$B86<>\"\",'Formulaire C'!B86,\"\")","v":""},{"$f":"IF('Formulaire C'!$B86<>\"\",'Formulaire C'!C86,\"\")","v":""},null,null,null,{"$f":"IF('Formulaire C'!B86<>\"\",HYPERLINK($I$8&I77,Sprache!$E$26&\" \"&blattname_formular_c&\", \"&B77),\"\")","v":""},null,86]
[null,{"$f":"IF('Formulaire C'!$B87<>\"\",'Formulaire C'!B87,\"\")","v":""},{"$f":"IF('Formulaire C'!$B87<>\"\",'Formulaire C'!C87,\"\")","v":""},null,null,null,{"$f":"IF('Formulaire C'!B87<>\"\",HYPERLINK($I$8&I78,Sprache!$E$26&\" \"&blattname_formular_c&\", \"&B78),\"\")","v":""},null,87]
[null,{"$f":"IF('Formulaire C'!$B88<>\"\",'Formulaire C'!B88,\"\")","v":""},{"$f":"IF('Formulaire C'!$B88<>\"\",'Formulaire C'!C88,\"\")","v":""},null,null,null,{"$f":"IF('Formulaire C'!B88<>\"\",HYPERLINK($I$8&I79,Sprache!$E$26&\" \"&blattname_formular_c&\", \"&B79),\"\")","v":""},null,88]
[null,{"$f":"IF('Formulaire C'!$B89<>\"\",'Formulaire C'!B89,\"\")","v":""},{"$f":"IF('Formulaire C'!$B89<>\"\",'Formulaire C'!C89,\"\")","v":""},null,null,null,{"$f":"IF('Formulaire C'!B89<>\"\",HYPERLINK($I$8&I80,Sprache!$E$26&\" \"&blattname_formular_c&\", \"&B80),\"\")","v":""},null,{"$f":"I79+1","v":89}]
[null,{"$f":"IF('Formulaire C'!$B90<>\"\",'Formulaire C'!B90,\"\")","v":""},{"$f":"IF('Formulaire C'!$B90<>\"\",'Formulaire C'!C90,\"\")","v":""},null,null,null,{"$f":"IF('Formulaire C'!B90<>\"\",HYPERLINK($I$8&I81,Sprache!$E$26&\" \"&blattname_formular_c&\", \"&B81),\"\")","v":""},null,90]
[null,{"$f":"IF('Formulaire C'!$B91<>\"\",'Formulaire C'!B91,\"\")","v":""},{"$f":"IF('Formulaire C'!$B91<>\"\",'Formulaire C'!C91,\"\")","v":""},null,null,null,{"$f":"IF('Formulaire C'!B91<>\"\",HYPERLINK($I$8&I82,Sprache!$E$26&\" \"&blattname_formular_c&\", \"&B82),\"\")","v":""},null,91]
[null,{"$f":"IF('Formulaire C'!$B92<>\"\",'Formulaire C'!B92,\"\")","v":""},{"$f":"IF('Formulaire C'!$B92<>\"\",'Formulaire C'!C92,\"\")","v":""},null,null,null,{"$f":"IF('Formulaire C'!B92<>\"\",HYPERLINK($I$8&I83,Sprache!$E$26&\" \"&blattname_formular_c&\", \"&B83),\"\")","v":""},null,92]
[null,{"$f":"IF('Formulaire C'!$B93<>\"\",'Formulaire C'!B93,\"\")","v":""},{"$f":"IF('Formulaire C'!$B93<>\"\",'Formulaire C'!C93,\"\")","v":""},null,null,null,{"$f":"IF('Formulaire C'!B93<>\"\",HYPERLINK($I$8&I84,Sprache!$E$26&\" \"&blattname_formular_c&\", \"&B84),\"\")","v":""},null,93]
[null,{"$f":"IF('Formulaire C'!$B94<>\"\",'Formulaire C'!B94,\"\")","v":""},{"$f":"IF('Formulaire C'!$B94<>\"\",'Formulaire C'!C94,\"\")","v":""},null,null,null,{"$f":"IF('Formulaire C'!B94<>\"\",HYPERLINK($I$8&I85,Sprache!$E$26&\" \"&blattname_formular_c&\", \"&B85),\"\")","v":""},null,94]
[null,{"$f":"IF('Formulaire C'!$B95<>\"\",'Formulaire C'!B95,\"\")","v":""},{"$f":"IF('Formulaire C'!$B95<>\"\",'Formulaire C'!C95,\"\")","v":""},null,null,null,{"$f":"IF('Formulaire C'!B95<>\"\",HYPERLINK($I$8&I86,Sprache!$E$26&\" \"&blattname_formular_c&\", \"&B86),\"\")","v":""},null,95]
[null,{"$f":"IF('Formulaire C'!$B96<>\"\",'Formulaire C'!B96,\"\")","v":""},{"$f":"IF('Formulaire C'!$B96<>\"\",'Formulaire C'!C96,\"\")","v":""},null,null,null,{"$f":"IF('Formulaire C'!B96<>\"\",HYPERLINK($I$8&I87,Sprache!$E$26&\" \"&blattname_formular_c&\", \"&B87),\"\")","v":""},null,96]
[null,{"$f":"IF('Formulaire C'!$B97<>\"\",'Formulaire C'!B97,\"\")","v":""},{"$f":"IF('Formulaire C'!$B97<>\"\",'Formulaire C'!C97,\"\")","v":""},null,null,null,{"$f":"IF('Formulaire C'!B97<>\"\",HYPERLINK($I$8&I88,Sprache!$E$26&\" \"&blattname_formular_c&\", \"&B88),\"\")","v":""},null,97]
[null,{"$f":"IF('Formulaire C'!$B98<>\"\",'Formulaire C'!B98,\"\")","v":""},{"$f":"IF('Formulaire C'!$B98<>\"\",'Formulaire C'!C98,\"\")","v":""},null,null,null,{"$f":"IF('Formulaire C'!B98<>\"\",HYPERLINK($I$8&I89,Sprache!$E$26&\" \"&blattname_formular_c&\", \"&B89),\"\")","v":""},null,98]
[null,{"$f":"IF('Formulaire C'!$B99<>\"\",'Formulaire C'!B99,\"\")","v":""},{"$f":"IF('Formulaire C'!$B99<>\"\",'Formulaire C'!C99,\"\")","v":""},null,null,null,{"$f":"IF('Formulaire C'!B99<>\"\",HYPERLINK($I$8&I90,Sprache!$E$26&\" \"&blattname_formular_c&\", \"&B90),\"\")","v":""},null,99]
[null,{"$f":"IF('Formulaire C'!$B100<>\"\",'Formulaire C'!B100,\"\")","v":""},{"$f":"IF('Formulaire C'!$B100<>\"\",'Formulaire C'!C100,\"\")","v":""},null,null,null,{"$f":"IF('Formulaire C'!B100<>\"\",HYPERLINK($I$8&I91,Sprache!$E$26&\" \"&blattname_formular_c&\", \"&B91),\"\")","v":""},null,100]
[null,{"$f":"IF('Formulaire C'!$B101<>\"\",'Formulaire C'!B101,\"\")","v":""},{"$f":"IF('Formulaire C'!$B101<>\"\",'Formulaire C'!C101,\"\")","v":""},null,null,null,{"$f":"IF('Formulaire C'!B101<>\"\",HYPERLINK($I$8&I92,Sprache!$E$26&\" \"&blattname_formular_c&\", \"&B92),\"\")","v":""},null,101]
[null,{"$f":"IF('Formulaire C'!$B102<>\"\",'Formulaire C'!B102,\"\")","v":""},{"$f":"IF('Formulaire C'!$B102<>\"\",'Formulaire C'!C102,\"\")","v":""},null,null,null,{"$f":"IF('Formulaire C'!B102<>\"\",HYPERLINK($I$8&I93,Sprache!$E$26&\" \"&blattname_formular_c&\", \"&B93),\"\")","v":""},null,102]
[null,{"$f":"IF('Formulaire C'!$B103<>\"\",'Formulaire C'!B103,\"\")","v":""},{"$f":"IF('Formulaire C'!$B103<>\"\",'Formulaire C'!C103,\"\")","v":""},null,null,null,{"$f":"IF('Formulaire C'!B103<>\"\",HYPERLINK($I$8&I94,Sprache!$E$26&\" \"&blattname_formular_c&\", \"&B94),\"\")","v":""},null,103]
[null,{"$f":"IF('Formulaire C'!$B104<>\"\",'Formulaire C'!B104,\"\")","v":""},{"$f":"IF('Formulaire C'!$B104<>\"\",'Formulaire C'!C104,\"\")","v":""},null,null,null,{"$f":"IF('Formulaire C'!B104<>\"\",HYPERLINK($I$8&I95,Sprache!$E$26&\" \"&blattname_formular_c&\", \"&B95),\"\")","v":""},null,104]
[null,{"$f":"IF('Formulaire C'!$B105<>\"\",'Formulaire C'!B105,\"\")","v":""},{"$f":"IF('Formulaire C'!$B105<>\"\",'Formulaire C'!C105,\"\")","v":""},null,null,null,{"$f":"IF('Formulaire C'!B105<>\"\",HYPERLINK($I$8&I96,Sprache!$E$26&\" \"&blattname_formular_c&\", \"&B96),\"\")","v":""},null,105]
[null,{"$f":"IF('Formulaire C'!$B106<>\"\",'Formulaire C'!B106,\"\")","v":""},{"$f":"IF('Formulaire C'!$B106<>\"\",'Formulaire C'!C106,\"\")","v":""},null,null,null,{"$f":"IF('Formulaire C'!B106<>\"\",HYPERLINK($I$8&I97,Sprache!$E$26&\" \"&blattname_formular_c&\", \"&B97),\"\")","v":""},null,106]
[null,{"$f":"IF('Formulaire C'!$B107<>\"\",'Formulaire C'!B107,\"\")","v":""},{"$f":"IF('Formulaire C'!$B107<>\"\",'Formulaire C'!C107,\"\")","v":""},null,null,null,{"$f":"IF('Formulaire C'!B107<>\"\",HYPERLINK($I$8&I98,Sprache!$E$26&\" \"&blattname_formular_c&\", \"&B98),\"\")","v":""},null,107]
[null,{"$f":"IF('Formulaire C'!$B108<>\"\",'Formulaire C'!B108,\"\")","v":""},{"$f":"IF('Formulaire C'!$B108<>\"\",'Formulaire C'!C108,\"\")","v":""},null,null,null,{"$f":"IF('Formulaire C'!B108<>\"\",HYPERLINK($I$8&I99,Sprache!$E$26&\" \"&blattname_formular_c&\", \"&B99),\"\")","v":""},null,108]
[null,{"$f":"IF('Formulaire C'!$B109<>\"\",'Formulaire C'!B109,\"\")","v":""},{"$f":"IF('Formulaire C'!$B109<>\"\",'Formulaire C'!C109,\"\")","v":""},null,null,null,{"$f":"IF('Formulaire C'!B109<>\"\",HYPERLINK($I$8&I100,Sprache!$E$26&\" \"&blattname_formular_c&\", \"&B100),\"\")","v":""},null,109]
[null,{"$f":"IF('Formulaire C'!$B110<>\"\",'Formulaire C'!B110,\"\")","v":""},{"$f":"IF('Formulaire C'!$B110<>\"\",'Formulaire C'!C110,\"\")","v":""},null,null,null,{"$f":"IF('Formulaire C'!B110<>\"\",HYPERLINK($I$8&I101,Sprache!$E$26&\" \"&blattname_formular_c&\", \"&B101),\"\")","v":""},null,110]
[null,{"$f":"IF('Formulaire C'!$B111<>\"\",'Formulaire C'!B111,\"\")","v":""},{"$f":"IF('Formulaire C'!$B111<>\"\",'Formulaire C'!C111,\"\")","v":""},null,null,null,{"$f":"IF('Formulaire C'!B111<>\"\",HYPERLINK($I$8&I102,Sprache!$E$26&\" \"&blattname_formular_c&\", \"&B102),\"\")","v":""},null,111]
[null,{"$f":"IF('Formulaire C'!$B112<>\"\",'Formulaire C'!B112,\"\")","v":""},{"$f":"IF('Formulaire C'!$B112<>\"\",'Formulaire C'!C112,\"\")","v":""},null,null,null,{"$f":"IF('Formulaire C'!B112<>\"\",HYPERLINK($I$8&I103,Sprache!$E$26&\" \"&blattname_formular_c&\", \"&B103),\"\")","v":""},null,112]
[null,{"$f":"IF('Formulaire C'!$B113<>\"\",'Formulaire C'!B113,\"\")","v":""},{"$f":"IF('Formulaire C'!$B113<>\"\",'Formulaire C'!C113,\"\")","v":""},null,null,null,{"$f":"IF('Formulaire C'!B113<>\"\",HYPERLINK($I$8&I104,Sprache!$E$26&\" \"&blattname_formular_c&\", \"&B104),\"\")","v":""},null,113]
[null,{"$f":"IF('Formulaire C'!$B114<>\"\",'Formulaire C'!B114,\"\")","v":""},{"$f":"IF('Formulaire C'!$B114<>\"\",'Formulaire C'!C114,\"\")","v":""},null,null,null,{"$f":"IF('Formulaire C'!B114<>\"\",HYPERLINK($I$8&I105,Sprache!$E$26&\" \"&blattname_formular_c&\", \"&B105),\"\")","v":""},null,114]
[null,{"$f":"IF('Formulaire C'!$B115<>\"\",'Formulaire C'!B115,\"\")","v":""},{"$f":"IF('Formulaire C'!$B115<>\"\",'Formulaire C'!C115,\"\")","v":""},null,null,null,{"$f":"IF('Formulaire C'!B115<>\"\",HYPERLINK($I$8&I106,Sprache!$E$26&\" \"&blattname_formular_c&\", \"&B106),\"\")","v":""},null,115]
[null,{"$f":"IF('Formulaire C'!$B116<>\"\",'Formulaire C'!B116,\"\")","v":""},{"$f":"IF('Formulaire C'!$B116<>\"\",'Formulaire C'!C116,\"\")","v":""},null,null,null,{"$f":"IF('Formulaire C'!B116<>\"\",HYPERLINK($I$8&I107,Sprache!$E$26&\" \"&blattname_formular_c&\", \"&B107),\"\")","v":""},null,116]
[null,{"$f":"IF('Formulaire C'!$B117<>\"\",'Formulaire C'!B117,\"\")","v":""},{"$f":"IF('Formulaire C'!$B117<>\"\",'Formulaire C'!C117,\"\")","v":""},null,null,null,{"$f":"IF('Formulaire C'!B117<>\"\",HYPERLINK($I$8&I108,Sprache!$E$26&\" \"&blattname_formular_c&\", \"&B108),\"\")","v":""},null,117]
[null,{"$f":"IF('Formulaire C'!$B118<>\"\",'Formulaire C'!B118,\"\")","v":""},{"$f":"IF('Formulaire C'!$B118<>\"\",'Formulaire C'!C118,\"\")","v":""},null,null,null,{"$f":"IF('Formulaire C'!B118<>\"\",HYPERLINK($I$8&I109,Sprache!$E$26&\" \"&blattname_formular_c&\", \"&B109),\"\")","v":""},null,118]
[null,{"$f":"IF('Formulaire C'!$B119<>\"\",'Formulaire C'!B119,\"\")","v":""},{"$f":"IF('Formulaire C'!$B119<>\"\",'Formulaire C'!C119,\"\")","v":""},null,null,null,{"$f":"IF('Formulaire C'!B119<>\"\",HYPERLINK($I$8&I110,Sprache!$E$26&\" \"&blattname_formular_c&\", \"&B110),\"\")","v":""},null,119]
[null,{"$f":"IF('Formulaire C'!$B120<>\"\",'Formulaire C'!B120,\"\")","v":""},{"$f":"IF('Formulaire C'!$B120<>\"\",'Formulaire C'!C120,\"\")","v":""},null,null,null,{"$f":"IF('Formulaire C'!B120<>\"\",HYPERLINK($I$8&I111,Sprache!$E$26&\" \"&blattname_formular_c&\", \"&B111),\"\")","v":""},null,120]
[null,{"$f":"IF('Formulaire C'!$B121<>\"\",'Formulaire C'!B121,\"\")","v":""},{"$f":"IF('Formulaire C'!$B121<>\"\",'Formulaire C'!C121,\"\")","v":""},null,null,null,{"$f":"IF('Formulaire C'!B121<>\"\",HYPERLINK($I$8&I112,Sprache!$E$26&\" \"&blattname_formular_c&\", \"&B112),\"\")","v":""},null,121]
[null,{"$f":"IF('Formulaire C'!$B122<>\"\",'Formulaire C'!B122,\"\")","v":""},{"$f":"IF('Formulaire C'!$B122<>\"\",'Formulaire C'!C122,\"\")","v":""},null,null,null,{"$f":"IF('Formulaire C'!B122<>\"\",HYPERLINK($I$8&I113,Sprache!$E$26&\" \"&blattname_formular_c&\", \"&B113),\"\")","v":""},null,122]
[null,{"$f":"IF('Formulaire C'!$B123<>\"\",'Formulaire C'!B123,\"\")","v":""},{"$f":"IF('Formulaire C'!$B123<>\"\",'Formulaire C'!C123,\"\")","v":""},null,null,null,{"$f":"IF('Formulaire C'!B123<>\"\",HYPERLINK($I$8&I114,Sprache!$E$26&\" \"&blattname_formular_c&\", \"&B114),\"\")","v":""},null,123]
[null,null,null,null,null,null,null,null,124]
[null,{"$f":"IF('Formulaire C'!$B125<>\"\",'Formulaire C'!B125,\"\")","v":""},{"$f":"IF('Formulaire C'!$B125<>\"\",'Formulaire C'!C125,\"\")","v":""},null,null,null,{"$f":"IF('Formulaire C'!B125<>\"\",HYPERLINK($I$8&I116,Sprache!$E$26&\" \"&blattname_formular_c&\", \"&B116),\"\")","v":""},null,125]
[null,{"$f":"IF('Formulaire C'!$B126<>\"\",'Formulaire C'!B126,\"\")","v":""},{"$f":"IF('Formulaire C'!$B126<>\"\",'Formulaire C'!C126,\"\")","v":""},null,null,null,{"$f":"IF('Formulaire C'!B126<>\"\",HYPERLINK($I$8&I117,Sprache!$E$26&\" \"&blattname_formular_c&\", \"&B117),\"\")","v":""},null,126]
[null,{"$f":"IF('Formulaire C'!$B127<>\"\",'Formulaire C'!B127,\"\")","v":""},{"$f":"IF('Formulaire C'!$B127<>\"\",'Formulaire C'!C127,\"\")","v":""},null,null,null,{"$f":"IF('Formulaire C'!B127<>\"\",HYPERLINK($I$8&I118,Sprache!$E$26&\" \"&blattname_formular_c&\", \"&B118),\"\")","v":""},null,127]
[null,{"$f":"IF('Formulaire C'!$B128<>\"\",'Formulaire C'!B128,\"\")","v":""},{"$f":"IF('Formulaire C'!$B128<>\"\",'Formulaire C'!C128,\"\")","v":""},null,null,null,{"$f":"IF('Formulaire C'!B128<>\"\",HYPERLINK($I$8&I119,Sprache!$E$26&\" \"&blattname_formular_c&\", \"&B119),\"\")","v":""},null,128]
[null,{"$f":"IF('Formulaire C'!$B129<>\"\",'Formulaire C'!B129,\"\")","v":""},{"$f":"IF('Formulaire C'!$B129<>\"\",'Formulaire C'!C129,\"\")","v":""},null,null,null,{"$f":"IF('Formulaire C'!B129<>\"\",HYPERLINK($I$8&I120,Sprache!$E$26&\" \"&blattname_formular_c&\", \"&B120),\"\")","v":""},null,129]
[null,{"$f":"IF('Formulaire C'!$B130<>\"\",'Formulaire C'!B130,\"\")","v":""},{"$f":"IF('Formulaire C'!$B130<>\"\",'Formulaire C'!C130,\"\")","v":""},null,null,null,{"$f":"IF('Formulaire C'!B130<>\"\",HYPERLINK($I$8&I121,Sprache!$E$26&\" \"&blattname_formular_c&\", \"&B121),\"\")","v":""},null,130]
[null,{"$f":"IF('Formulaire C'!$B131<>\"\",'Formulaire C'!B131,\"\")","v":""},{"$f":"IF('Formulaire C'!$B131<>\"\",'Formulaire C'!C131,\"\")","v":""},null,null,null,{"$f":"IF('Formulaire C'!B131<>\"\",HYPERLINK($I$8&I122,Sprache!$E$26&\" \"&blattname_formular_c&\", \"&B122),\"\")","v":""},null,131]
[null,{"$f":"IF('Formulaire C'!$B132<>\"\",'Formulaire C'!B132,\"\")","v":""},{"$f":"IF('Formulaire C'!$B132<>\"\",'Formulaire C'!C132,\"\")","v":""},null,null,null,{"$f":"IF('Formulaire C'!B132<>\"\",HYPERLINK($I$8&I123,Sprache!$E$26&\" \"&blattname_formular_c&\", \"&B123),\"\")","v":""},null,132]
[null,{"$f":"IF('Formulaire C'!$B133<>\"\",'Formulaire C'!B133,\"\")","v":""},{"$f":"IF('Formulaire C'!$B133<>\"\",'Formulaire C'!C133,\"\")","v":""},null,null,null,{"$f":"IF('Formulaire C'!B133<>\"\",HYPERLINK($I$8&I124,Sprache!$E$26&\" \"&blattname_formular_c&\", \"&B124),\"\")","v":""},null,133]
[null,{"$f":"IF('Formulaire C'!$B134<>\"\",'Formulaire C'!B134,\"\")","v":""},{"$f":"IF('Formulaire C'!$B134<>\"\",'Formulaire C'!C134,\"\")","v":""},null,null,null,{"$f":"IF('Formulaire C'!B134<>\"\",HYPERLINK($I$8&I125,Sprache!$E$26&\" \"&blattname_formular_c&\", \"&B125),\"\")","v":""},null,134]
[null,{"$f":"IF('Formulaire C'!$B135<>\"\",'Formulaire C'!B135,\"\")","v":""},{"$f":"IF('Formulaire C'!$B135<>\"\",'Formulaire C'!C135,\"\")","v":""},null,null,null,{"$f":"IF('Formulaire C'!B135<>\"\",HYPERLINK($I$8&I126,Sprache!$E$26&\" \"&blattname_formular_c&\", \"&B126),\"\")","v":""},null,135]
[null,{"$f":"IF('Formulaire C'!$B136<>\"\",'Formulaire C'!B136,\"\")","v":""},{"$f":"IF('Formulaire C'!$B136<>\"\",'Formulaire C'!C136,\"\")","v":""},null,null,null,{"$f":"IF('Formulaire C'!B136<>\"\",HYPERLINK($I$8&I127,Sprache!$E$26&\" \"&blattname_formular_c&\", \"&B127),\"\")","v":""},null,136]
[null,{"$f":"IF('Formulaire C'!$B137<>\"\",'Formulaire C'!B137,\"\")","v":""},{"$f":"IF('Formulaire C'!$B137<>\"\",'Formulaire C'!C137,\"\")","v":""},null,null,null,{"$f":"IF('Formulaire C'!B137<>\"\",HYPERLINK($I$8&I128,Sprache!$E$26&\" \"&blattname_formular_c&\", \"&B128),\"\")","v":""},null,137]
[null,{"$f":"IF('Formulaire C'!$B138<>\"\",'Formulaire C'!B138,\"\")","v":""},{"$f":"IF('Formulaire C'!$B138<>\"\",'Formulaire C'!C138,\"\")","v":""},null,null,null,{"$f":"IF('Formulaire C'!B138<>\"\",HYPERLINK($I$8&I129,Sprache!$E$26&\" \"&blattname_formular_c&\", \"&B129),\"\")","v":""},null,138]
[null,{"$f":"IF('Formulaire C'!$B139<>\"\",'Formulaire C'!B139,\"\")","v":""},{"$f":"IF('Formulaire C'!$B139<>\"\",'Formulaire C'!C139,\"\")","v":""},null,null,null,{"$f":"IF('Formulaire C'!B139<>\"\",HYPERLINK($I$8&I130,Sprache!$E$26&\" \"&blattname_formular_c&\", \"&B130),\"\")","v":""},null,139]
[null,{"$f":"IF('Formulaire C'!$B140<>\"\",'Formulaire C'!B140,\"\")","v":""},{"$f":"IF('Formulaire C'!$B140<>\"\",'Formulaire C'!C140,\"\")","v":""},null,null,null,{"$f":"IF('Formulaire C'!B140<>\"\",HYPERLINK($I$8&I131,Sprache!$E$26&\" \"&blattname_formular_c&\", \"&B131),\"\")","v":""},null,140]
[null,{"$f":"IF('Formulaire C'!$B141<>\"\",'Formulaire C'!B141,\"\")","v":""},{"$f":"IF('Formulaire C'!$B141<>\"\",'Formulaire C'!C141,\"\")","v":""},null,null,null,{"$f":"IF('Formulaire C'!B141<>\"\",HYPERLINK($I$8&I132,Sprache!$E$26&\" \"&blattname_formular_c&\", \"&B132),\"\")","v":""},null,141]
[null,{"$f":"IF('Formulaire C'!$B142<>\"\",'Formulaire C'!B142,\"\")","v":""},{"$f":"IF('Formulaire C'!$B142<>\"\",'Formulaire C'!C142,\"\")","v":""},null,null,null,{"$f":"IF('Formulaire C'!B142<>\"\",HYPERLINK($I$8&I133,Sprache!$E$26&\" \"&blattname_formular_c&\", \"&B133),\"\")","v":""},null,142]
[null,{"$f":"IF('Formulaire C'!$B143<>\"\",'Formulaire C'!B143,\"\")","v":""},{"$f":"IF('Formulaire C'!$B143<>\"\",'Formulaire C'!C143,\"\")","v":""},null,null,null,{"$f":"IF('Formulaire C'!B143<>\"\",HYPERLINK($I$8&I134,Sprache!$E$26&\" \"&blattname_formular_c&\", \"&B134),\"\")","v":""},null,143]
[null,{"$f":"IF('Formulaire C'!$B144<>\"\",'Formulaire C'!B144,\"\")","v":""},{"$f":"IF('Formulaire C'!$B144<>\"\",'Formulaire C'!C144,\"\")","v":""},null,null,null,{"$f":"IF('Formulaire C'!B144<>\"\",HYPERLINK($I$8&I135,Sprache!$E$26&\" \"&blattname_formular_c&\", \"&B135),\"\")","v":""},null,144]
[null,{"$f":"IF('Formulaire C'!$B145<>\"\",'Formulaire C'!B145,\"\")","v":""},{"$f":"IF('Formulaire C'!$B145<>\"\",'Formulaire C'!C145,\"\")","v":""},null,null,null,{"$f":"IF('Formulaire C'!B145<>\"\",HYPERLINK($I$8&I136,Sprache!$E$26&\" \"&blattname_formular_c&\", \"&B136),\"\")","v":""},null,145]
[null,{"$f":"IF('Formulaire C'!$B146<>\"\",'Formulaire C'!B146,\"\")","v":""},{"$f":"IF('Formulaire C'!$B146<>\"\",'Formulaire C'!C146,\"\")","v":""},null,null,null,{"$f":"IF('Formulaire C'!B146<>\"\",HYPERLINK($I$8&I137,Sprache!$E$26&\" \"&blattname_formular_c&\", \"&B137),\"\")","v":""},null,146]
[null,{"$f":"IF('Formulaire C'!$B147<>\"\",'Formulaire C'!B147,\"\")","v":""},{"$f":"IF('Formulaire C'!$B147<>\"\",'Formulaire C'!C147,\"\")","v":""},null,null,null,{"$f":"IF('Formulaire C'!B147<>\"\",HYPERLINK($I$8&I138,Sprache!$E$26&\" \"&blattname_formular_c&\", \"&B138),\"\")","v":""},null,147]
[null,{"$f":"IF('Formulaire C'!$B148<>\"\",'Formulaire C'!B148,\"\")","v":""},{"$f":"IF('Formulaire C'!$B148<>\"\",'Formulaire C'!C148,\"\")","v":""},null,null,null,{"$f":"IF('Formulaire C'!B148<>\"\",HYPERLINK($I$8&I139,Sprache!$E$26&\" \"&blattname_formular_c&\", \"&B139),\"\")","v":""},null,148]
[null,{"$f":"IF('Formulaire C'!$B149<>\"\",'Formulaire C'!B149,\"\")","v":""},{"$f":"IF('Formulaire C'!$B149<>\"\",'Formulaire C'!C149,\"\")","v":""},null,null,null,{"$f":"IF('Formulaire C'!B149<>\"\",HYPERLINK($I$8&I140,Sprache!$E$26&\" \"&blattname_formular_c&\", \"&B140),\"\")","v":""},null,149]
[null,{"$f":"IF('Formulaire C'!$B150<>\"\",'Formulaire C'!B150,\"\")","v":""},{"$f":"IF('Formulaire C'!$B150<>\"\",'Formulaire C'!C150,\"\")","v":""},null,null,null,{"$f":"IF('Formulaire C'!B150<>\"\",HYPERLINK($I$8&I141,Sprache!$E$26&\" \"&blattname_formular_c&\", \"&B141),\"\")","v":""},null,150]
[null,{"$f":"IF('Formulaire C'!$B151<>\"\",'Formulaire C'!B151,\"\")","v":""},{"$f":"IF('Formulaire C'!$B151<>\"\",'Formulaire C'!C151,\"\")","v":""},null,null,null,{"$f":"IF('Formulaire C'!B151<>\"\",HYPERLINK($I$8&I142,Sprache!$E$26&\" \"&blattname_formular_c&\", \"&B142),\"\")","v":""},null,151]
[null,{"$f":"IF('Formulaire C'!$B152<>\"\",'Formulaire C'!B152,\"\")","v":""},{"$f":"IF('Formulaire C'!$B152<>\"\",'Formulaire C'!C152,\"\")","v":""},null,null,null,{"$f":"IF('Formulaire C'!B152<>\"\",HYPERLINK($I$8&I143,Sprache!$E$26&\" \"&blattname_formular_c&\", \"&B143),\"\")","v":""},null,152]
[null,{"$f":"IF('Formulaire C'!$B153<>\"\",'Formulaire C'!B153,\"\")","v":""},{"$f":"IF('Formulaire C'!$B153<>\"\",'Formulaire C'!C153,\"\")","v":""},null,null,null,{"$f":"IF('Formulaire C'!B153<>\"\",HYPERLINK($I$8&I144,Sprache!$E$26&\" \"&blattname_formular_c&\", \"&B144),\"\")","v":""},null,{"$f":"I143+1","v":153}]
[null,{"$f":"IF('Formulaire C'!$B154<>\"\",'Formulaire C'!B154,\"\")","v":""},{"$f":"IF('Formulaire C'!$B154<>\"\",'Formulaire C'!C154,\"\")","v":""},null,null,null,{"$f":"IF('Formulaire C'!B154<>\"\",HYPERLINK($I$8&I145,Sprache!$E$26&\" \"&blattname_formular_c&\", \"&B145),\"\")","v":""},null,154]
[null,{"$f":"IF('Formulaire C'!$B155<>\"\",'Formulaire C'!B155,\"\")","v":""},{"$f":"IF('Formulaire C'!$B155<>\"\",'Formulaire C'!C155,\"\")","v":""},null,null,null,{"$f":"IF('Formulaire C'!B155<>\"\",HYPERLINK($I$8&I146,Sprache!$E$26&\" \"&blattname_formular_c&\", \"&B146),\"\")","v":""},null,155]
[null,{"$f":"IF('Formulaire C'!$B156<>\"\",'Formulaire C'!B156,\"\")","v":""},{"$f":"IF('Formulaire C'!$B156<>\"\",'Formulaire C'!C156,\"\")","v":""},null,null,null,{"$f":"IF('Formulaire C'!B156<>\"\",HYPERLINK($I$8&I147,Sprache!$E$26&\" \"&blattname_formular_c&\", \"&B147),\"\")","v":""},null,156]
[null,{"$f":"IF('Formulaire C'!$B157<>\"\",'Formulaire C'!B157,\"\")","v":""},{"$f":"IF('Formulaire C'!$B157<>\"\",'Formulaire C'!C157,\"\")","v":""},null,null,null,{"$f":"IF('Formulaire C'!B157<>\"\",HYPERLINK($I$8&I148,Sprache!$E$26&\" \"&blattname_formular_c&\", \"&B148),\"\")","v":""},null,157]
[null,{"$f":"IF('Formulaire C'!$B158<>\"\",'Formulaire C'!B158,\"\")","v":""},{"$f":"IF('Formulaire C'!$B158<>\"\",'Formulaire C'!C158,\"\")","v":""},null,null,null,{"$f":"IF('Formulaire C'!B158<>\"\",HYPERLINK($I$8&I149,Sprache!$E$26&\" \"&blattname_formular_c&\", \"&B149),\"\")","v":""},null,158]
[null,{"$f":"IF('Formulaire C'!$B159<>\"\",'Formulaire C'!B159,\"\")","v":""},{"$f":"IF('Formulaire C'!$B159<>\"\",'Formulaire C'!C159,\"\")","v":""},null,null,null,{"$f":"IF('Formulaire C'!B159<>\"\",HYPERLINK($I$8&I150,Sprache!$E$26&\" \"&blattname_formular_c&\", \"&B150),\"\")","v":""},null,159]
[null,{"$f":"IF('Formulaire C'!$B160<>\"\",'Formulaire C'!B160,\"\")","v":""},{"$f":"IF('Formulaire C'!$B160<>\"\",'Formulaire C'!C160,\"\")","v":""},null,null,null,{"$f":"IF('Formulaire C'!B160<>\"\",HYPERLINK($I$8&I151,Sprache!$E$26&\" \"&blattname_formular_c&\", \"&B151),\"\")","v":""},null,160]
[null,{"$f":"IF('Formulaire C'!$B161<>\"\",'Formulaire C'!B161,\"\")","v":""},{"$f":"IF('Formulaire C'!$B161<>\"\",'Formulaire C'!C161,\"\")","v":""},null,null,null,{"$f":"IF('Formulaire C'!B161<>\"\",HYPERLINK($I$8&I152,Sprache!$E$26&\" \"&blattname_formular_c&\", \"&B152),\"\")","v":""},null,161]
[null,{"$f":"IF('Formulaire C'!$B162<>\"\",'Formulaire C'!B162,\"\")","v":""},{"$f":"IF('Formulaire C'!$B162<>\"\",'Formulaire C'!C162,\"\")","v":""},null,null,null,{"$f":"IF('Formulaire C'!B162<>\"\",HYPERLINK($I$8&I153,Sprache!$E$26&\" \"&blattname_formular_c&\", \"&B153),\"\")","v":""},null,162]
[null,{"$f":"IF('Formulaire C'!$B163<>\"\",'Formulaire C'!B163,\"\")","v":""},{"$f":"IF('Formulaire C'!$B163<>\"\",'Formulaire C'!C163,\"\")","v":""},null,null,null,{"$f":"IF('Formulaire C'!B163<>\"\",HYPERLINK($I$8&I154,Sprache!$E$26&\" \"&blattname_formular_c&\", \"&B154),\"\")","v":""},null,163]
[null,{"$f":"IF('Formulaire C'!$B164<>\"\",'Formulaire C'!B164,\"\")","v":""},{"$f":"IF('Formulaire C'!$B164<>\"\",'Formulaire C'!C164,\"\")","v":""},null,null,null,{"$f":"IF('Formulaire C'!B164<>\"\",HYPERLINK($I$8&I155,Sprache!$E$26&\" \"&blattname_formular_c&\", \"&B155),\"\")","v":""},null,164]
[null,{"$f":"IF('Formulaire C'!$B165<>\"\",'Formulaire C'!B165,\"\")","v":""},{"$f":"IF('Formulaire C'!$B165<>\"\",'Formulaire C'!C165,\"\")","v":""},null,null,null,{"$f":"IF('Formulaire C'!B165<>\"\",HYPERLINK($I$8&I156,Sprache!$E$26&\" \"&blattname_formular_c&\", \"&B156),\"\")","v":""},null,165]
[null,{"$f":"IF('Formulaire C'!$B166<>\"\",'Formulaire C'!B166,\"\")","v":""},{"$f":"IF('Formulaire C'!$B166<>\"\",'Formulaire C'!C166,\"\")","v":""},null,null,null,{"$f":"IF('Formulaire C'!B166<>\"\",HYPERLINK($I$8&I157,Sprache!$E$26&\" \"&blattname_formular_c&\", \"&B157),\"\")","v":""},null,166]
[null,{"$f":"IF('Formulaire C'!$B167<>\"\",'Formulaire C'!B167,\"\")","v":""},{"$f":"IF('Formulaire C'!$B167<>\"\",'Formulaire C'!C167,\"\")","v":""},null,null,null,{"$f":"IF('Formulaire C'!B167<>\"\",HYPERLINK($I$8&I158,Sprache!$E$26&\" \"&blattname_formular_c&\", \"&B158),\"\")","v":""},null,167]
[null,{"$f":"IF('Formulaire C'!$B168<>\"\",'Formulaire C'!B168,\"\")","v":""},{"$f":"IF('Formulaire C'!$B168<>\"\",'Formulaire C'!C168,\"\")","v":""},null,null,null,{"$f":"IF('Formulaire C'!B168<>\"\",HYPERLINK($I$8&I159,Sprache!$E$26&\" \"&blattname_formular_c&\", \"&B159),\"\")","v":""},null,168]
[null,{"$f":"IF('Formulaire C'!$B169<>\"\",'Formulaire C'!B169,\"\")","v":""},{"$f":"IF('Formulaire C'!$B169<>\"\",'Formulaire C'!C169,\"\")","v":""},null,null,null,{"$f":"IF('Formulaire C'!B169<>\"\",HYPERLINK($I$8&I160,Sprache!$E$26&\" \"&blattname_formular_c&\", \"&B160),\"\")","v":""},null,169]
[null,{"$f":"IF('Formulaire C'!$B170<>\"\",'Formulaire C'!B170,\"\")","v":""},{"$f":"IF('Formulaire C'!$B170<>\"\",'Formulaire C'!C170,\"\")","v":""},null,null,null,{"$f":"IF('Formulaire C'!B170<>\"\",HYPERLINK($I$8&I161,Sprache!$E$26&\" \"&blattname_formular_c&\", \"&B161),\"\")","v":""},null,170]
[null,{"$f":"IF('Formulaire C'!$B171<>\"\",'Formulaire C'!B171,\"\")","v":""},{"$f":"IF('Formulaire C'!$B171<>\"\",'Formulaire C'!C171,\"\")","v":""},null,null,null,{"$f":"IF('Formulaire C'!B171<>\"\",HYPERLINK($I$8&I162,Sprache!$E$26&\" \"&blattname_formular_c&\", \"&B162),\"\")","v":""},null,171]
[null,{"$f":"IF('Formulaire C'!$B172<>\"\",'Formulaire C'!B172,\"\")","v":""},{"$f":"IF('Formulaire C'!$B172<>\"\",'Formulaire C'!C172,\"\")","v":""},null,null,null,{"$f":"IF('Formulaire C'!B172<>\"\",HYPERLINK($I$8&I163,Sprache!$E$26&\" \"&blattname_formular_c&\", \"&B163),\"\")","v":""},null,172]
[null,{"$f":"IF('Formulaire C'!$B173<>\"\",'Formulaire C'!B173,\"\")","v":""},{"$f":"IF('Formulaire C'!$B173<>\"\",'Formulaire C'!C173,\"\")","v":""},null,null,null,{"$f":"IF('Formulaire C'!B173<>\"\",HYPERLINK($I$8&I164,Sprache!$E$26&\" \"&blattname_formular_c&\", \"&B164),\"\")","v":""},null,173]
[null,{"$f":"IF('Formulaire C'!$B174<>\"\",'Formulaire C'!B174,\"\")","v":""},{"$f":"IF('Formulaire C'!$B174<>\"\",'Formulaire C'!C174,\"\")","v":""},null,null,null,{"$f":"IF('Formulaire C'!B174<>\"\",HYPERLINK($I$8&I165,Sprache!$E$26&\" \"&blattname_formular_c&\", \"&B165),\"\")","v":""},null,174]
[null,{"$f":"IF('Formulaire C'!$B175<>\"\",'Formulaire C'!B175,\"\")","v":""},{"$f":"IF('Formulaire C'!$B175<>\"\",'Formulaire C'!C175,\"\")","v":""},null,null,null,{"$f":"IF('Formulaire C'!B175<>\"\",HYPERLINK($I$8&I166,Sprache!$E$26&\" \"&blattname_formular_c&\", \"&B166),\"\")","v":""},null,175]
[null,{"$f":"IF('Formulaire C'!$B176<>\"\",'Formulaire C'!B176,\"\")","v":""},{"$f":"IF('Formulaire C'!$B176<>\"\",'Formulaire C'!C176,\"\")","v":""},null,null,null,{"$f":"IF('Formulaire C'!B176<>\"\",HYPERLINK($I$8&I167,Sprache!$E$26&\" \"&blattname_formular_c&\", \"&B167),\"\")","v":""},null,176]
[null,{"$f":"IF('Formulaire C'!$B177<>\"\",'Formulaire C'!B177,\"\")","v":""},{"$f":"IF('Formulaire C'!$B177<>\"\",'Formulaire C'!C177,\"\")","v":""},null,null,null,{"$f":"IF('Formulaire C'!B177<>\"\",HYPERLINK($I$8&I168,Sprache!$E$26&\" \"&blattname_formular_c&\", \"&B168),\"\")","v":""},null,177]
[null,{"$f":"IF('Formulaire C'!$B178<>\"\",'Formulaire C'!B178,\"\")","v":""},{"$f":"IF('Formulaire C'!$B178<>\"\",'Formulaire C'!C178,\"\")","v":""},null,null,null,{"$f":"IF('Formulaire C'!B178<>\"\",HYPERLINK($I$8&I169,Sprache!$E$26&\" \"&blattname_formular_c&\", \"&B169),\"\")","v":""},null,178]
[null,{"$f":"IF('Formulaire C'!$B179<>\"\",'Formulaire C'!B179,\"\")","v":""},{"$f":"IF('Formulaire C'!$B179<>\"\",'Formulaire C'!C179,\"\")","v":""},null,null,null,{"$f":"IF('Formulaire C'!B179<>\"\",HYPERLINK($I$8&I170,Sprache!$E$26&\" \"&blattname_formular_c&\", \"&B170),\"\")","v":""},null,179]
[null,{"$f":"IF('Formulaire C'!$B180<>\"\",'Formulaire C'!B180,\"\")","v":""},{"$f":"IF('Formulaire C'!$B180<>\"\",'Formulaire C'!C180,\"\")","v":""},null,null,null,{"$f":"IF('Formulaire C'!B180<>\"\",HYPERLINK($I$8&I171,Sprache!$E$26&\" \"&blattname_formular_c&\", \"&B171),\"\")","v":""},null,180]
[null,{"$f":"IF('Formulaire C'!$B181<>\"\",'Formulaire C'!B181,\"\")","v":""},{"$f":"IF('Formulaire C'!$B181<>\"\",'Formulaire C'!C181,\"\")","v":""},null,null,null,{"$f":"IF('Formulaire C'!B181<>\"\",HYPERLINK($I$8&I172,Sprache!$E$26&\" \"&blattname_formular_c&\", \"&B172),\"\")","v":""},null,181]
[null,{"$f":"IF('Formulaire C'!$B182<>\"\",'Formulaire C'!B182,\"\")","v":""},{"$f":"IF('Formulaire C'!$B182<>\"\",'Formulaire C'!C182,\"\")","v":""},null,null,null,{"$f":"IF('Formulaire C'!B182<>\"\",HYPERLINK($I$8&I173,Sprache!$E$26&\" \"&blattname_formular_c&\", \"&B173),\"\")","v":""},null,182]
[null,{"$f":"IF('Formulaire C'!$B183<>\"\",'Formulaire C'!B183,\"\")","v":""},{"$f":"IF('Formulaire C'!$B183<>\"\",'Formulaire C'!C183,\"\")","v":""},null,null,null,{"$f":"IF('Formulaire C'!B183<>\"\",HYPERLINK($I$8&I174,Sprache!$E$26&\" \"&blattname_formular_c&\", \"&B174),\"\")","v":""},null,183]
[null,{"$f":"IF('Formulaire C'!$B184<>\"\",'Formulaire C'!B184,\"\")","v":""},{"$f":"IF('Formulaire C'!$B184<>\"\",'Formulaire C'!C184,\"\")","v":""},null,null,null,{"$f":"IF('Formulaire C'!B184<>\"\",HYPERLINK($I$8&I175,Sprache!$E$26&\" \"&blattname_formular_c&\", \"&B175),\"\")","v":""},null,184]
[null,{"$f":"IF('Formulaire C'!$B185<>\"\",'Formulaire C'!B185,\"\")","v":""},{"$f":"IF('Formulaire C'!$B185<>\"\",'Formulaire C'!C185,\"\")","v":""},null,null,null,{"$f":"IF('Formulaire C'!B185<>\"\",HYPERLINK($I$8&I176,Sprache!$E$26&\" \"&blattname_formular_c&\", \"&B176),\"\")","v":""},null,185]
[null,{"$f":"IF('Formulaire C'!$B186<>\"\",'Formulaire C'!B186,\"\")","v":""},{"$f":"IF('Formulaire C'!$B186<>\"\",'Formulaire C'!C186,\"\")","v":""},null,null,null,{"$f":"IF('Formulaire C'!B186<>\"\",HYPERLINK($I$8&I177,Sprache!$E$26&\" \"&blattname_formular_c&\", \"&B177),\"\")","v":""},null,186]
[null,{"$f":"IF('Formulaire C'!$B187<>\"\",'Formulaire C'!B187,\"\")","v":""},{"$f":"IF('Formulaire C'!$B187<>\"\",'Formulaire C'!C187,\"\")","v":""},null,null,null,{"$f":"IF('Formulaire C'!B187<>\"\",HYPERLINK($I$8&I178,Sprache!$E$26&\" \"&blattname_formular_c&\", \"&B178),\"\")","v":""},null,187]
[null,{"$f":"IF('Formulaire C'!$B188<>\"\",'Formulaire C'!B188,\"\")","v":""},{"$f":"IF('Formulaire C'!$B188<>\"\",'Formulaire C'!C188,\"\")","v":""},null,null,null,{"$f":"IF('Formulaire C'!B188<>\"\",HYPERLINK($I$8&I179,Sprache!$E$26&\" \"&blattname_formular_c&\", \"&B179),\"\")","v":""},null,188]
[null,{"$f":"IF('Formulaire C'!$B189<>\"\",'Formulaire C'!B189,\"\")","v":""},{"$f":"IF('Formulaire C'!$B189<>\"\",'Formulaire C'!C189,\"\")","v":""},null,null,null,{"$f":"IF('Formulaire C'!B189<>\"\",HYPERLINK($I$8&I180,Sprache!$E$26&\" \"&blattname_formular_c&\", \"&B180),\"\")","v":""},null,189]
[null,{"$f":"IF('Formulaire C'!$B190<>\"\",'Formulaire C'!B190,\"\")","v":""},{"$f":"IF('Formulaire C'!$B190<>\"\",'Formulaire C'!C190,\"\")","v":""},null,null,null,{"$f":"IF('Formulaire C'!B190<>\"\",HYPERLINK($I$8&I181,Sprache!$E$26&\" \"&blattname_formular_c&\", \"&B181),\"\")","v":""},null,190]
[null,{"$f":"IF('Formulaire C'!$B191<>\"\",'Formulaire C'!B191,\"\")","v":""},{"$f":"IF('Formulaire C'!$B191<>\"\",'Formulaire C'!C191,\"\")","v":""},null,null,null,{"$f":"IF('Formulaire C'!B191<>\"\",HYPERLINK($I$8&I182,Sprache!$E$26&\" \"&blattname_formular_c&\", \"&B182),\"\")","v":""},null,191]
[null,{"$f":"IF('Formulaire C'!$B192<>\"\",'Formulaire C'!B192,\"\")","v":""},{"$f":"IF('Formulaire C'!$B192<>\"\",'Formulaire C'!C192,\"\")","v":""},null,null,null,{"$f":"IF('Formulaire C'!B192<>\"\",HYPERLINK($I$8&I183,Sprache!$E$26&\" \"&blattname_formular_c&\", \"&B183),\"\")","v":""},null,192]
[null,{"$f":"IF('Formulaire C'!$B193<>\"\",'Formulaire C'!B193,\"\")","v":""},{"$f":"IF('Formulaire C'!$B193<>\"\",'Formulaire C'!C193,\"\")","v":""},null,null,null,{"$f":"IF('Formulaire C'!B193<>\"\",HYPERLINK($I$8&I184,Sprache!$E$26&\" \"&blattname_formular_c&\", \"&B184),\"\")","v":""},null,193]
[null,{"$f":"IF('Formulaire C'!$B194<>\"\",'Formulaire C'!B194,\"\")","v":""},{"$f":"IF('Formulaire C'!$B194<>\"\",'Formulaire C'!C194,\"\")","v":""},null,null,null,{"$f":"IF('Formulaire C'!B194<>\"\",HYPERLINK($I$8&I185,Sprache!$E$26&\" \"&blattname_formular_c&\", \"&B185),\"\")","v":""},null,194]
[null,{"$f":"IF('Formulaire C'!$B195<>\"\",'Formulaire C'!B195,\"\")","v":""},{"$f":"IF('Formulaire C'!$B195<>\"\",'Formulaire C'!C195,\"\")","v":""},null,null,null,{"$f":"IF('Formulaire C'!B195<>\"\",HYPERLINK($I$8&I186,Sprache!$E$26&\" \"&blattname_formular_c&\", \"&B186),\"\")","v":""},null,195]
[null,{"$f":"IF('Formulaire C'!$B196<>\"\",'Formulaire C'!B196,\"\")","v":""},{"$f":"IF('Formulaire C'!$B196<>\"\",'Formulaire C'!C196,\"\")","v":""},null,null,null,{"$f":"IF('Formulaire C'!B196<>\"\",HYPERLINK($I$8&I187,Sprache!$E$26&\" \"&blattname_formular_c&\", \"&B187),\"\")","v":""},null,196]
[null,{"$f":"IF('Formulaire C'!$B197<>\"\",'Formulaire C'!B197,\"\")","v":""},{"$f":"IF('Formulaire C'!$B197<>\"\",'Formulaire C'!C197,\"\")","v":""},null,null,null,{"$f":"IF('Formulaire C'!B197<>\"\",HYPERLINK($I$8&I188,Sprache!$E$26&\" \"&blattname_formular_c&\", \"&B188),\"\")","v":""},null,197]
[null,{"$f":"IF('Formulaire C'!$B198<>\"\",'Formulaire C'!B198,\"\")","v":""},{"$f":"IF('Formulaire C'!$B198<>\"\",'Formulaire C'!C198,\"\")","v":""},null,null,null,{"$f":"IF('Formulaire C'!B198<>\"\",HYPERLINK($I$8&I189,Sprache!$E$26&\" \"&blattname_formular_c&\", \"&B189),\"\")","v":""},null,198]
[null,{"$f":"IF('Formulaire C'!$B199<>\"\",'Formulaire C'!B199,\"\")","v":""},{"$f":"IF('Formulaire C'!$B199<>\"\",'Formulaire C'!C199,\"\")","v":""},null,null,null,{"$f":"IF('Formulaire C'!B199<>\"\",HYPERLINK($I$8&I190,Sprache!$E$26&\" \"&blattname_formular_c&\", \"&B190),\"\")","v":""},null,199]
[null,{"$f":"IF('Formulaire C'!$B200<>\"\",'Formulaire C'!B200,\"\")","v":""},{"$f":"IF('Formulaire C'!$B200<>\"\",'Formulaire C'!C200,\"\")","v":""},null,null,null,{"$f":"IF('Formulaire C'!B200<>\"\",HYPERLINK($I$8&I191,Sprache!$E$26&\" \"&blattname_formular_c&\", \"&B191),\"\")","v":""},null,200]
[null,{"$f":"IF('Formulaire C'!$B201<>\"\",'Formulaire C'!B201,\"\")","v":""},{"$f":"IF('Formulaire C'!$B201<>\"\",'Formulaire C'!C201,\"\")","v":""},null,null,null,{"$f":"IF('Formulaire C'!B201<>\"\",HYPERLINK($I$8&I192,Sprache!$E$26&\" \"&blattname_formular_c&\", \"&B192),\"\")","v":""},null,201]
[null,{"$f":"IF('Formulaire C'!$B202<>\"\",'Formulaire C'!B202,\"\")","v":""},{"$f":"IF('Formulaire C'!$B202<>\"\",'Formulaire C'!C202,\"\")","v":""},null,null,null,{"$f":"IF('Formulaire C'!B202<>\"\",HYPERLINK($I$8&I193,Sprache!$E$26&\" \"&blattname_formular_c&\", \"&B193),\"\")","v":""},null,202]
[null,{"$f":"IF('Formulaire C'!$B203<>\"\",'Formulaire C'!B203,\"\")","v":""},{"$f":"IF('Formulaire C'!$B203<>\"\",'Formulaire C'!C203,\"\")","v":""},null,null,null,{"$f":"IF('Formulaire C'!B203<>\"\",HYPERLINK($I$8&I194,Sprache!$E$26&\" \"&blattname_formular_c&\", \"&B194),\"\")","v":""},null,203]
[null,{"$f":"IF('Formulaire C'!$B204<>\"\",'Formulaire C'!B204,\"\")","v":""},{"$f":"IF('Formulaire C'!$B204<>\"\",'Formulaire C'!C204,\"\")","v":""},null,null,null,{"$f":"IF('Formulaire C'!B204<>\"\",HYPERLINK($I$8&I195,Sprache!$E$26&\" \"&blattname_formular_c&\", \"&B195),\"\")","v":""},null,204]
[null,{"$f":"IF('Formulaire C'!$B205<>\"\",'Formulaire C'!B205,\"\")","v":""},{"$f":"IF('Formulaire C'!$B205<>\"\",'Formulaire C'!C205,\"\")","v":""},null,null,null,{"$f":"IF('Formulaire C'!B205<>\"\",HYPERLINK($I$8&I196,Sprache!$E$26&\" \"&blattname_formular_c&\", \"&B196),\"\")","v":""},null,205]
[null,{"$f":"IF('Formulaire C'!$B206<>\"\",'Formulaire C'!B206,\"\")","v":""},{"$f":"IF('Formulaire C'!$B206<>\"\",'Formulaire C'!C206,\"\")","v":""},null,null,null,{"$f":"IF('Formulaire C'!B206<>\"\",HYPERLINK($I$8&I197,Sprache!$E$26&\" \"&blattname_formular_c&\", \"&B197),\"\")","v":""},null,206]
[null,{"$f":"IF('Formulaire C'!$B207<>\"\",'Formulaire C'!B207,\"\")","v":""},{"$f":"IF('Formulaire C'!$B207<>\"\",'Formulaire C'!C207,\"\")","v":""},null,null,null,{"$f":"IF('Formulaire C'!B207<>\"\",HYPERLINK($I$8&I198,Sprache!$E$26&\" \"&blattname_formular_c&\", \"&B198),\"\")","v":""},null,207]
[null,{"$f":"IF('Formulaire C'!$B208<>\"\",'Formulaire C'!B208,\"\")","v":""},{"$f":"IF('Formulaire C'!$B208<>\"\",'Formulaire C'!C208,\"\")","v":""},null,null,null,{"$f":"IF('Formulaire C'!B208<>\"\",HYPERLINK($I$8&I199,Sprache!$E$26&\" \"&blattname_formular_c&\", \"&B199),\"\")","v":""},null,208]
[null,{"$f":"IF('Formulaire C'!$B209<>\"\",'Formulaire C'!B209,\"\")","v":""},{"$f":"IF('Formulaire C'!$B209<>\"\",'Formulaire C'!C209,\"\")","v":""},null,null,null,{"$f":"IF('Formulaire C'!B209<>\"\",HYPERLINK($I$8&I200,Sprache!$E$26&\" \"&blattname_formular_c&\", \"&B200),\"\")","v":""},null,209]
[null,{"$f":"IF('Formulaire C'!$B210<>\"\",'Formulaire C'!B210,\"\")","v":""},{"$f":"IF('Formulaire C'!$B210<>\"\",'Formulaire C'!C210,\"\")","v":""},null,null,null,{"$f":"IF('Formulaire C'!B210<>\"\",HYPERLINK($I$8&I201,Sprache!$E$26&\" \"&blattname_formular_c&\", \"&B201),\"\")","v":""},null,210]
[null,{"$f":"IF('Formulaire C'!$B211<>\"\",'Formulaire C'!B211,\"\")","v":""},{"$f":"IF('Formulaire C'!$B211<>\"\",'Formulaire C'!C211,\"\")","v":""},null,null,null,{"$f":"IF('Formulaire C'!B211<>\"\",HYPERLINK($I$8&I202,Sprache!$E$26&\" \"&blattname_formular_c&\", \"&B202),\"\")","v":""},null,211]
[null,{"$f":"IF('Formulaire C'!$B212<>\"\",'Formulaire C'!B212,\"\")","v":""},{"$f":"IF('Formulaire C'!$B212<>\"\",'Formulaire C'!C212,\"\")","v":""},null,null,null,{"$f":"IF('Formulaire C'!B212<>\"\",HYPERLINK($I$8&I203,Sprache!$E$26&\" \"&blattname_formular_c&\", \"&B203),\"\")","v":""},null,212]
[null,{"$f":"IF('Formulaire C'!$B213<>\"\",'Formulaire C'!B213,\"\")","v":""},{"$f":"IF('Formulaire C'!$B213<>\"\",'Formulaire C'!C213,\"\")","v":""},null,null,null,{"$f":"IF('Formulaire C'!B213<>\"\",HYPERLINK($I$8&I204,Sprache!$E$26&\" \"&blattname_formular_c&\", \"&B204),\"\")","v":""},null,213]
[null,{"$f":"IF('Formulaire C'!$B214<>\"\",'Formulaire C'!B214,\"\")","v":""},{"$f":"IF('Formulaire C'!$B214<>\"\",'Formulaire C'!C214,\"\")","v":""},null,null,null,{"$f":"IF('Formulaire C'!B214<>\"\",HYPERLINK($I$8&I205,Sprache!$E$26&\" \"&blattname_formular_c&\", \"&B205),\"\")","v":""},null,214]
[null,{"$f":"IF('Formulaire C'!$B215<>\"\",'Formulaire C'!B215,\"\")","v":""},{"$f":"IF('Formulaire C'!$B215<>\"\",'Formulaire C'!C215,\"\")","v":""},null,null,null,{"$f":"IF('Formulaire C'!B215<>\"\",HYPERLINK($I$8&I206,Sprache!$E$26&\" \"&blattname_formular_c&\", \"&B206),\"\")","v":""},null,215]
[null,{"$f":"IF('Formulaire C'!$B216<>\"\",'Formulaire C'!B216,\"\")","v":""},{"$f":"IF('Formulaire C'!$B216<>\"\",'Formulaire C'!C216,\"\")","v":""},null,null,null,{"$f":"IF('Formulaire C'!B216<>\"\",HYPERLINK($I$8&I207,Sprache!$E$26&\" \"&blattname_formular_c&\", \"&B207),\"\")","v":""},null,216]
[null,{"$f":"IF('Formulaire C'!$B217<>\"\",'Formulaire C'!B217,\"\")","v":""},{"$f":"IF('Formulaire C'!$B217<>\"\",'Formulaire C'!C217,\"\")","v":""},null,null,null,{"$f":"IF('Formulaire C'!B217<>\"\",HYPERLINK($I$8&I208,Sprache!$E$26&\" \"&blattname_formular_c&\", \"&B208),\"\")","v":""},null,{"$f":"I207+1","v":217}]
[null,{"$f":"IF('Formulaire C'!$B218<>\"\",'Formulaire C'!B218,\"\")","v":""},{"$f":"IF('Formulaire C'!$B218<>\"\",'Formulaire C'!C218,\"\")","v":""},null,null,null,{"$f":"IF('Formulaire C'!B218<>\"\",HYPERLINK($I$8&I209,Sprache!$E$26&\" \"&blattname_formular_c&\", \"&B209),\"\")","v":""},null,218]
[null,{"$f":"IF('Formulaire C'!$B219<>\"\",'Formulaire C'!B219,\"\")","v":""},{"$f":"IF('Formulaire C'!$B219<>\"\",'Formulaire C'!C219,\"\")","v":""},null,null,null,{"$f":"IF('Formulaire C'!B219<>\"\",HYPERLINK($I$8&I210,Sprache!$E$26&\" \"&blattname_formular_c&\", \"&B210),\"\")","v":""},null,219]
[null,{"$f":"IF('Formulaire C'!$B220<>\"\",'Formulaire C'!B220,\"\")","v":""},{"$f":"IF('Formulaire C'!$B220<>\"\",'Formulaire C'!C220,\"\")","v":""},null,null,null,{"$f":"IF('Formulaire C'!B220<>\"\",HYPERLINK($I$8&I211,Sprache!$E$26&\" \"&blattname_formular_c&\", \"&B211),\"\")","v":""},null,220]
[null,{"$f":"IF('Formulaire C'!$B221<>\"\",'Formulaire C'!B221,\"\")","v":""},{"$f":"IF('Formulaire C'!$B221<>\"\",'Formulaire C'!C221,\"\")","v":""},null,null,null,{"$f":"IF('Formulaire C'!B221<>\"\",HYPERLINK($I$8&I212,Sprache!$E$26&\" \"&blattname_formular_c&\", \"&B212),\"\")","v":""},null,221]
[null,{"$f":"IF('Formulaire C'!$B222<>\"\",'Formulaire C'!B222,\"\")","v":""},{"$f":"IF('Formulaire C'!$B222<>\"\",'Formulaire C'!C222,\"\")","v":""},null,null,null,{"$f":"IF('Formulaire C'!B222<>\"\",HYPERLINK($I$8&I213,Sprache!$E$26&\" \"&blattname_formular_c&\", \"&B213),\"\")","v":""},null,222]
[null,{"$f":"IF('Formulaire C'!$B223<>\"\",'Formulaire C'!B223,\"\")","v":""},{"$f":"IF('Formulaire C'!$B223<>\"\",'Formulaire C'!C223,\"\")","v":""},null,null,null,{"$f":"IF('Formulaire C'!B223<>\"\",HYPERLINK($I$8&I214,Sprache!$E$26&\" \"&blattname_formular_c&\", \"&B214),\"\")","v":""},null,223]
[null,{"$f":"IF('Formulaire C'!$B224<>\"\",'Formulaire C'!B224,\"\")","v":""},{"$f":"IF('Formulaire C'!$B224<>\"\",'Formulaire C'!C224,\"\")","v":""},null,null,null,{"$f":"IF('Formulaire C'!B224<>\"\",HYPERLINK($I$8&I215,Sprache!$E$26&\" \"&blattname_formular_c&\", \"&B215),\"\")","v":""},null,224]
[null,{"$f":"IF('Formulaire C'!$B225<>\"\",'Formulaire C'!B225,\"\")","v":""},{"$f":"IF('Formulaire C'!$B225<>\"\",'Formulaire C'!C225,\"\")","v":""},null,null,null,{"$f":"IF('Formulaire C'!B225<>\"\",HYPERLINK($I$8&I216,Sprache!$E$26&\" \"&blattname_formular_c&\", \"&B216),\"\")","v":""},null,225]
[null,null,null,null,null,null,null,null,226]
[null,null,null,null,null,null,null,null,227]
[null,null,null,null,null,null,null,null,228]
[null,null,null,null,null,null,null,null,229]
[null,null,null,null,null,null,null,null,230]
[null,null,null,null,null,null,null,null,231]
[null,null,null,null,null,null,null,null,232]
[null,null,null,null,null,null,null,null,233]
[null,null,null,null,null,null,null,null,234]
[null,null,null,null,null,null,null,null,235]
[null,null,null,null,null,null,null,null,236]
[null,null,null,null,null,null,null,null,237]
[null,null,null,null,null,null,null,null,238]
[null,null,null,null,null,null,null,null,239]
[null,null,null,null,null,null,null,null,240]
[null,null,null,null,null,null,null,null,241]
[null,null,null,null,null,null,null,null,242]
[null,null,null,null,null,null,null,null,243]
[null,null,null,null,null,null,null,null,244]
[null,null,null,null,null,null,null,null,245]
[null,null,null,null,null,null,null,null,246]
[null,null,null,null,null,null,null,null,247]
[null,null,null,null,null,null,null,null,248]
[null,{"$f":"IF('Formulaire C'!$B250<>\"\",'Formulaire C'!B250,\"\")","v":""},{"$f":"IF('Formulaire C'!$B250<>\"\",'Formulaire C'!C250,\"\")","v":""},null,null,null,{"$f":"IF('Formulaire C'!B250<>\"\",HYPERLINK($I$8&I240,Sprache!$E$26&\" \"&blattname_formular_c&\", \"&B240),\"\")","v":""},null,250]
[null,{"$f":"IF('Formulaire C'!$B251<>\"\",'Formulaire C'!B251,\"\")","v":""},{"$f":"IF('Formulaire C'!$B251<>\"\",'Formulaire C'!C251,\"\")","v":""},null,null,null,{"$f":"IF('Formulaire C'!B251<>\"\",HYPERLINK($I$8&I241,Sprache!$E$26&\" \"&blattname_formular_c&\", \"&B241),\"\")","v":""},null,251]
[null,{"$f":"IF('Formulaire C'!$B252<>\"\",'Formulaire C'!B252,\"\")","v":""},{"$f":"IF('Formulaire C'!$B252<>\"\",'Formulaire C'!C252,\"\")","v":""},null,null,null,{"$f":"IF('Formulaire C'!B252<>\"\",HYPERLINK($I$8&I242,Sprache!$E$26&\" \"&blattname_formular_c&\", \"&B242),\"\")","v":""},null,252]
[null,{"$f":"IF('Formulaire C'!$B253<>\"\",'Formulaire C'!B253,\"\")","v":""},{"$f":"IF('Formulaire C'!$B253<>\"\",'Formulaire C'!C253,\"\")","v":""},null,null,null,{"$f":"IF('Formulaire C'!B253<>\"\",HYPERLINK($I$8&I243,Sprache!$E$26&\" \"&blattname_formular_c&\", \"&B243),\"\")","v":""},null,253]
[null,{"$f":"IF('Formulaire C'!$B254<>\"\",'Formulaire C'!B254,\"\")","v":""},{"$f":"IF('Formulaire C'!$B254<>\"\",'Formulaire C'!C254,\"\")","v":""},null,null,null,{"$f":"IF('Formulaire C'!B254<>\"\",HYPERLINK($I$8&I244,Sprache!$E$26&\" \"&blattname_formular_c&\", \"&B244),\"\")","v":""},null,254]
[null,{"$f":"IF('Formulaire C'!$B255<>\"\",'Formulaire C'!B255,\"\")","v":""},{"$f":"IF('Formulaire C'!$B255<>\"\",'Formulaire C'!C255,\"\")","v":""},null,null,null,{"$f":"IF('Formulaire C'!B255<>\"\",HYPERLINK($I$8&I245,Sprache!$E$26&\" \"&blattname_formular_c&\", \"&B245),\"\")","v":""},null,255]
[null,{"$f":"IF('Formulaire C'!$B256<>\"\",'Formulaire C'!B256,\"\")","v":""},{"$f":"IF('Formulaire C'!$B256<>\"\",'Formulaire C'!C256,\"\")","v":""},null,null,null,{"$f":"IF('Formulaire C'!B256<>\"\",HYPERLINK($I$8&I246,Sprache!$E$26&\" \"&blattname_formular_c&\", \"&B246),\"\")","v":""},null,256]
[null,{"$f":"IF('Formulaire C'!$B257<>\"\",'Formulaire C'!B257,\"\")","v":""},{"$f":"IF('Formulaire C'!$B257<>\"\",'Formulaire C'!C257,\"\")","v":""},null,null,null,{"$f":"IF('Formulaire C'!B257<>\"\",HYPERLINK($I$8&I247,Sprache!$E$26&\" \"&blattname_formular_c&\", \"&B247),\"\")","v":""},null,257]
[null,{"$f":"IF('Formulaire C'!$B258<>\"\",'Formulaire C'!B258,\"\")","v":""},{"$f":"IF('Formulaire C'!$B258<>\"\",'Formulaire C'!C258,\"\")","v":""},null,null,null,{"$f":"IF('Formulaire C'!B258<>\"\",HYPERLINK($I$8&I248,Sprache!$E$26&\" \"&blattname_formular_c&\", \"&B248),\"\")","v":""},null,258]
[null,{"$f":"IF('Formulaire C'!$B259<>\"\",'Formulaire C'!B259,\"\")","v":""},{"$f":"IF('Formulaire C'!$B259<>\"\",'Formulaire C'!C259,\"\")","v":""},null,null,null,{"$f":"IF('Formulaire C'!B259<>\"\",HYPERLINK($I$8&I249,Sprache!$E$26&\" \"&blattname_formular_c&\", \"&B249),\"\")","v":""},null,259]
[null,{"$f":"IF('Formulaire C'!$B260<>\"\",'Formulaire C'!B260,\"\")","v":""},{"$f":"IF('Formulaire C'!$B260<>\"\",'Formulaire C'!C260,\"\")","v":""},null,null,null,{"$f":"IF('Formulaire C'!B260<>\"\",HYPERLINK($I$8&I250,Sprache!$E$26&\" \"&blattname_formular_c&\", \"&B250),\"\")","v":""},null,260]
[null,{"$f":"IF('Formulaire C'!$B261<>\"\",'Formulaire C'!B261,\"\")","v":""},{"$f":"IF('Formulaire C'!$B261<>\"\",'Formulaire C'!C261,\"\")","v":""},null,null,null,{"$f":"IF('Formulaire C'!B261<>\"\",HYPERLINK($I$8&I251,Sprache!$E$26&\" \"&blattname_formular_c&\", \"&B251),\"\")","v":""},null,261]
[null,{"$f":"IF('Formulaire C'!$B262<>\"\",'Formulaire C'!B262,\"\")","v":""},{"$f":"IF('Formulaire C'!$B262<>\"\",'Formulaire C'!C262,\"\")","v":""},null,null,null,{"$f":"IF('Formulaire C'!B262<>\"\",HYPERLINK($I$8&I252,Sprache!$E$26&\" \"&blattname_formular_c&\", \"&B252),\"\")","v":""},null,262]
[null,{"$f":"IF('Formulaire C'!$B263<>\"\",'Formulaire C'!B263,\"\")","v":""},{"$f":"IF('Formulaire C'!$B263<>\"\",'Formulaire C'!C263,\"\")","v":""},null,null,null,{"$f":"IF('Formulaire C'!B263<>\"\",HYPERLINK($I$8&I253,Sprache!$E$26&\" \"&blattname_formular_c&\", \"&B253),\"\")","v":""},null,263]
[null,{"$f":"IF('Formulaire C'!$B264<>\"\",'Formulaire C'!B264,\"\")","v":""},{"$f":"IF('Formulaire C'!$B264<>\"\",'Formulaire C'!C264,\"\")","v":""},null,null,null,{"$f":"IF('Formulaire C'!B264<>\"\",HYPERLINK($I$8&I254,Sprache!$E$26&\" \"&blattname_formular_c&\", \"&B254),\"\")","v":""},null,264]
[null,{"$f":"IF('Formulaire C'!$B265<>\"\",'Formulaire C'!B265,\"\")","v":""},{"$f":"IF('Formulaire C'!$B265<>\"\",'Formulaire C'!C265,\"\")","v":""},null,null,null,{"$f":"IF('Formulaire C'!B265<>\"\",HYPERLINK($I$8&I255,Sprache!$E$26&\" \"&blattname_formular_c&\", \"&B255),\"\")","v":""},null,265]
[null,{"$f":"IF('Formulaire C'!$B266<>\"\",'Formulaire C'!B266,\"\")","v":""},{"$f":"IF('Formulaire C'!$B266<>\"\",'Formulaire C'!C266,\"\")","v":""},null,null,null,{"$f":"IF('Formulaire C'!B266<>\"\",HYPERLINK($I$8&I256,Sprache!$E$26&\" \"&blattname_formular_c&\", \"&B256),\"\")","v":""},null,266]
[null,{"$f":"IF('Formulaire C'!$B267<>\"\",'Formulaire C'!B267,\"\")","v":""},{"$f":"IF('Formulaire C'!$B267<>\"\",'Formulaire C'!C267,\"\")","v":""},null,null,null,{"$f":"IF('Formulaire C'!B267<>\"\",HYPERLINK($I$8&I257,Sprache!$E$26&\" \"&blattname_formular_c&\", \"&B257),\"\")","v":""},null,267]
[null,{"$f":"IF('Formulaire C'!$B268<>\"\",'Formulaire C'!B268,\"\")","v":""},{"$f":"IF('Formulaire C'!$B268<>\"\",'Formulaire C'!C268,\"\")","v":""},null,null,null,{"$f":"IF('Formulaire C'!B268<>\"\",HYPERLINK($I$8&I258,Sprache!$E$26&\" \"&blattname_formular_c&\", \"&B258),\"\")","v":""},null,268]
[null,{"$f":"IF('Formulaire C'!$B269<>\"\",'Formulaire C'!B269,\"\")","v":""},{"$f":"IF('Formulaire C'!$B269<>\"\",'Formulaire C'!C269,\"\")","v":""},null,null,null,{"$f":"IF('Formulaire C'!B269<>\"\",HYPERLINK($I$8&I259,Sprache!$E$26&\" \"&blattname_formular_c&\", \"&B259),\"\")","v":""},null,269]
[null,{"$f":"IF('Formulaire C'!$B270<>\"\",'Formulaire C'!B270,\"\")","v":""},{"$f":"IF('Formulaire C'!$B270<>\"\",'Formulaire C'!C270,\"\")","v":""},null,null,null,{"$f":"IF('Formulaire C'!B270<>\"\",HYPERLINK($I$8&I260,Sprache!$E$26&\" \"&blattname_formular_c&\", \"&B260),\"\")","v":""},null,270]
[null,{"$f":"IF('Formulaire C'!$B271<>\"\",'Formulaire C'!B271,\"\")","v":""},{"$f":"IF('Formulaire C'!$B271<>\"\",'Formulaire C'!C271,\"\")","v":""},null,null,null,{"$f":"IF('Formulaire C'!B271<>\"\",HYPERLINK($I$8&I261,Sprache!$E$26&\" \"&blattname_formular_c&\", \"&B261),\"\")","v":""},null,271]
[null,{"$f":"IF('Formulaire C'!$B272<>\"\",'Formulaire C'!B272,\"\")","v":""},{"$f":"IF('Formulaire C'!$B272<>\"\",'Formulaire C'!C272,\"\")","v":""},null,null,null,{"$f":"IF('Formulaire C'!B272<>\"\",HYPERLINK($I$8&I262,Sprache!$E$26&\" \"&blattname_formular_c&\", \"&B262),\"\")","v":""},null,272]
[null,{"$f":"IF('Formulaire C'!$B273<>\"\",'Formulaire C'!B273,\"\")","v":""},{"$f":"IF('Formulaire C'!$B273<>\"\",'Formulaire C'!C273,\"\")","v":""},null,null,null,{"$f":"IF('Formulaire C'!B273<>\"\",HYPERLINK($I$8&I263,Sprache!$E$26&\" \"&blattname_formular_c&\", \"&B263),\"\")","v":""},null,273]
[null,{"$f":"IF('Formulaire C'!$B274<>\"\",'Formulaire C'!B274,\"\")","v":""},{"$f":"IF('Formulaire C'!$B274<>\"\",'Formulaire C'!C274,\"\")","v":""},null,null,null,{"$f":"IF('Formulaire C'!B274<>\"\",HYPERLINK($I$8&I264,Sprache!$E$26&\" \"&blattname_formular_c&\", \"&B264),\"\")","v":""},null,274]
[null,{"$f":"IF('Formulaire C'!$B275<>\"\",'Formulaire C'!B275,\"\")","v":""},{"$f":"IF('Formulaire C'!$B275<>\"\",'Formulaire C'!C275,\"\")","v":""},null,null,null,{"$f":"IF('Formulaire C'!B275<>\"\",HYPERLINK($I$8&I265,Sprache!$E$26&\" \"&blattname_formular_c&\", \"&B265),\"\")","v":""},null,275]
[null,{"$f":"IF('Formulaire C'!$B276<>\"\",'Formulaire C'!B276,\"\")","v":""},{"$f":"IF('Formulaire C'!$B276<>\"\",'Formulaire C'!C276,\"\")","v":""},null,null,null,{"$f":"IF('Formulaire C'!B276<>\"\",HYPERLINK($I$8&I266,Sprache!$E$26&\" \"&blattname_formular_c&\", \"&B266),\"\")","v":""},null,276]
[null,{"$f":"IF('Formulaire C'!$B277<>\"\",'Formulaire C'!B277,\"\")","v":""},{"$f":"IF('Formulaire C'!$B277<>\"\",'Formulaire C'!C277,\"\")","v":""},null,null,null,{"$f":"IF('Formulaire C'!B277<>\"\",HYPERLINK($I$8&I267,Sprache!$E$26&\" \"&blattname_formular_c&\", \"&B267),\"\")","v":""},null,277]
[null,{"$f":"IF('Formulaire C'!$B278<>\"\",'Formulaire C'!B278,\"\")","v":""},{"$f":"IF('Formulaire C'!$B278<>\"\",'Formulaire C'!C278,\"\")","v":""},null,null,null,{"$f":"IF('Formulaire C'!B278<>\"\",HYPERLINK($I$8&I268,Sprache!$E$26&\" \"&blattname_formular_c&\", \"&B268),\"\")","v":""},null,278]
[null,{"$f":"IF('Formulaire C'!$B279<>\"\",'Formulaire C'!B279,\"\")","v":""},{"$f":"IF('Formulaire C'!$B279<>\"\",'Formulaire C'!C279,\"\")","v":""},null,null,null,{"$f":"IF('Formulaire C'!B279<>\"\",HYPERLINK($I$8&I269,Sprache!$E$26&\" \"&blattname_formular_c&\", \"&B269),\"\")","v":""},null,279]
[null,{"$f":"IF('Formulaire C'!$B280<>\"\",'Formulaire C'!B280,\"\")","v":""},{"$f":"IF('Formulaire C'!$B280<>\"\",'Formulaire C'!C280,\"\")","v":""},null,null,null,{"$f":"IF('Formulaire C'!B280<>\"\",HYPERLINK($I$8&I270,Sprache!$E$26&\" \"&blattname_formular_c&\", \"&B270),\"\")","v":""},null,280]
[null,{"$f":"IF('Formulaire C'!$B281<>\"\",'Formulaire C'!B281,\"\")","v":""},{"$f":"IF('Formulaire C'!$B281<>\"\",'Formulaire C'!C281,\"\")","v":""},null,null,null,{"$f":"IF('Formulaire C'!B281<>\"\",HYPERLINK($I$8&I271,Sprache!$E$26&\" \"&blattname_formular_c&\", \"&B271),\"\")","v":""},null,281]
[null,{"$f":"IF('Formulaire C'!$B282<>\"\",'Formulaire C'!B282,\"\")","v":""},{"$f":"IF('Formulaire C'!$B282<>\"\",'Formulaire C'!C282,\"\")","v":""},null,null,null,{"$f":"IF('Formulaire C'!B282<>\"\",HYPERLINK($I$8&I272,Sprache!$E$26&\" \"&blattname_formular_c&\", \"&B272),\"\")","v":""},null,{"$f":"I271+1","v":282}]
[null,{"$f":"IF('Formulaire C'!$B283<>\"\",'Formulaire C'!B283,\"\")","v":""},{"$f":"IF('Formulaire C'!$B283<>\"\",'Formulaire C'!C283,\"\")","v":""},null,null,null,{"$f":"IF('Formulaire C'!B283<>\"\",HYPERLINK($I$8&I273,Sprache!$E$26&\" \"&blattname_formular_c&\", \"&B273),\"\")","v":""},null,283]
[null,{"$f":"IF('Formulaire C'!$B284<>\"\",'Formulaire C'!B284,\"\")","v":""},{"$f":"IF('Formulaire C'!$B284<>\"\",'Formulaire C'!C284,\"\")","v":""},null,null,null,{"$f":"IF('Formulaire C'!B284<>\"\",HYPERLINK($I$8&I274,Sprache!$E$26&\" \"&blattname_formular_c&\", \"&B274),\"\")","v":""},null,284]
[null,{"$f":"IF('Formulaire C'!$B285<>\"\",'Formulaire C'!B285,\"\")","v":""},{"$f":"IF('Formulaire C'!$B285<>\"\",'Formulaire C'!C285,\"\")","v":""},null,null,null,{"$f":"IF('Formulaire C'!B285<>\"\",HYPERLINK($I$8&I275,Sprache!$E$26&\" \"&blattname_formular_c&\", \"&B275),\"\")","v":""},null,285]
[null,{"$f":"IF('Formulaire C'!$B286<>\"\",'Formulaire C'!B286,\"\")","v":""},{"$f":"IF('Formulaire C'!$B286<>\"\",'Formulaire C'!C286,\"\")","v":""},null,null,null,{"$f":"IF('Formulaire C'!B286<>\"\",HYPERLINK($I$8&I276,Sprache!$E$26&\" \"&blattname_formular_c&\", \"&B276),\"\")","v":""},null,286]
[null,{"$f":"IF('Formulaire C'!$B287<>\"\",'Formulaire C'!B287,\"\")","v":""},{"$f":"IF('Formulaire C'!$B287<>\"\",'Formulaire C'!C287,\"\")","v":""},null,null,null,{"$f":"IF('Formulaire C'!B287<>\"\",HYPERLINK($I$8&I277,Sprache!$E$26&\" \"&blattname_formular_c&\", \"&B277),\"\")","v":""},null,287]
[null,{"$f":"IF('Formulaire C'!$B288<>\"\",'Formulaire C'!B288,\"\")","v":""},{"$f":"IF('Formulaire C'!$B288<>\"\",'Formulaire C'!C288,\"\")","v":""},null,null,null,{"$f":"IF('Formulaire C'!B288<>\"\",HYPERLINK($I$8&I278,Sprache!$E$26&\" \"&blattname_formular_c&\", \"&B278),\"\")","v":""},null,288]
[null,{"$f":"IF('Formulaire C'!$B289<>\"\",'Formulaire C'!B289,\"\")","v":""},{"$f":"IF('Formulaire C'!$B289<>\"\",'Formulaire C'!C289,\"\")","v":""},null,null,null,{"$f":"IF('Formulaire C'!B289<>\"\",HYPERLINK($I$8&I279,Sprache!$E$26&\" \"&blattname_formular_c&\", \"&B279),\"\")","v":""},null,289]
[null,{"$f":"IF('Formulaire C'!$B290<>\"\",'Formulaire C'!B290,\"\")","v":""},{"$f":"IF('Formulaire C'!$B290<>\"\",'Formulaire C'!C290,\"\")","v":""},null,null,null,{"$f":"IF('Formulaire C'!B290<>\"\",HYPERLINK($I$8&I280,Sprache!$E$26&\" \"&blattname_formular_c&\", \"&B280),\"\")","v":""},null,290]
[null,{"$f":"IF('Formulaire C'!$B291<>\"\",'Formulaire C'!B291,\"\")","v":""},{"$f":"IF('Formulaire C'!$B291<>\"\",'Formulaire C'!C291,\"\")","v":""},null,null,null,{"$f":"IF('Formulaire C'!B291<>\"\",HYPERLINK($I$8&I281,Sprache!$E$26&\" \"&blattname_formular_c&\", \"&B281),\"\")","v":""},null,291]
[null,{"$f":"IF('Formulaire C'!$B292<>\"\",'Formulaire C'!B292,\"\")","v":""},{"$f":"IF('Formulaire C'!$B292<>\"\",'Formulaire C'!C292,\"\")","v":""},null,null,null,{"$f":"IF('Formulaire C'!B292<>\"\",HYPERLINK($I$8&I282,Sprache!$E$26&\" \"&blattname_formular_c&\", \"&B282),\"\")","v":""},null,292]
[null,{"$f":"IF('Formulaire C'!$B293<>\"\",'Formulaire C'!B293,\"\")","v":""},{"$f":"IF('Formulaire C'!$B293<>\"\",'Formulaire C'!C293,\"\")","v":""},null,null,null,{"$f":"IF('Formulaire C'!B293<>\"\",HYPERLINK($I$8&I283,Sprache!$E$26&\" \"&blattname_formular_c&\", \"&B283),\"\")","v":""},null,293]
[null,{"$f":"IF('Formulaire C'!$B294<>\"\",'Formulaire C'!B294,\"\")","v":""},{"$f":"IF('Formulaire C'!$B294<>\"\",'Formulaire C'!C294,\"\")","v":""},null,null,null,{"$f":"IF('Formulaire C'!B294<>\"\",HYPERLINK($I$8&I284,Sprache!$E$26&\" \"&blattname_formular_c&\", \"&B284),\"\")","v":""},null,294]
[null,{"$f":"IF('Formulaire C'!$B295<>\"\",'Formulaire C'!B295,\"\")","v":""},{"$f":"IF('Formulaire C'!$B295<>\"\",'Formulaire C'!C295,\"\")","v":""},null,null,null,{"$f":"IF('Formulaire C'!B295<>\"\",HYPERLINK($I$8&I285,Sprache!$E$26&\" \"&blattname_formular_c&\", \"&B285),\"\")","v":""},null,295]
[null,{"$f":"IF('Formulaire C'!$B296<>\"\",'Formulaire C'!B296,\"\")","v":""},{"$f":"IF('Formulaire C'!$B296<>\"\",'Formulaire C'!C296,\"\")","v":""},null,null,null,{"$f":"IF('Formulaire C'!B296<>\"\",HYPERLINK($I$8&I286,Sprache!$E$26&\" \"&blattname_formular_c&\", \"&B286),\"\")","v":""},null,296]
[null,{"$f":"IF('Formulaire C'!$B297<>\"\",'Formulaire C'!B297,\"\")","v":""},{"$f":"IF('Formulaire C'!$B297<>\"\",'Formulaire C'!C297,\"\")","v":""},null,null,null,{"$f":"IF('Formulaire C'!B297<>\"\",HYPERLINK($I$8&I287,Sprache!$E$26&\" \"&blattname_formular_c&\", \"&B287),\"\")","v":""},null,297]
[null,{"$f":"IF('Formulaire C'!$B298<>\"\",'Formulaire C'!B298,\"\")","v":""},{"$f":"IF('Formulaire C'!$B298<>\"\",'Formulaire C'!C298,\"\")","v":""},null,null,null,{"$f":"IF('Formulaire C'!B298<>\"\",HYPERLINK($I$8&I288,Sprache!$E$26&\" \"&blattname_formular_c&\", \"&B288),\"\")","v":""},null,298]
[null,{"$f":"IF('Formulaire C'!$B299<>\"\",'Formulaire C'!B299,\"\")","v":""},{"$f":"IF('Formulaire C'!$B299<>\"\",'Formulaire C'!C299,\"\")","v":""},null,null,null,{"$f":"IF('Formulaire C'!B299<>\"\",HYPERLINK($I$8&I289,Sprache!$E$26&\" \"&blattname_formular_c&\", \"&B289),\"\")","v":""},null,299]
[null,{"$f":"IF('Formulaire C'!$B300<>\"\",'Formulaire C'!B300,\"\")","v":""},{"$f":"IF('Formulaire C'!$B300<>\"\",'Formulaire C'!C300,\"\")","v":""},null,null,null,{"$f":"IF('Formulaire C'!B300<>\"\",HYPERLINK($I$8&I290,Sprache!$E$26&\" \"&blattname_formular_c&\", \"&B290),\"\")","v":""},null,300]
[null,{"$f":"IF('Formulaire C'!$B301<>\"\",'Formulaire C'!B301,\"\")","v":""},{"$f":"IF('Formulaire C'!$B301<>\"\",'Formulaire C'!C301,\"\")","v":""},null,null,null,{"$f":"IF('Formulaire C'!B301<>\"\",HYPERLINK($I$8&I291,Sprache!$E$26&\" \"&blattname_formular_c&\", \"&B291),\"\")","v":""},null,301]
[null,{"$f":"IF('Formulaire C'!$B302<>\"\",'Formulaire C'!B302,\"\")","v":""},{"$f":"IF('Formulaire C'!$B302<>\"\",'Formulaire C'!C302,\"\")","v":""},null,null,null,{"$f":"IF('Formulaire C'!B302<>\"\",HYPERLINK($I$8&I292,Sprache!$E$26&\" \"&blattname_formular_c&\", \"&B292),\"\")","v":""},null,302]
[null,{"$f":"IF('Formulaire C'!$B303<>\"\",'Formulaire C'!B303,\"\")","v":""},{"$f":"IF('Formulaire C'!$B303<>\"\",'Formulaire C'!C303,\"\")","v":""},null,null,null,{"$f":"IF('Formulaire C'!B303<>\"\",HYPERLINK($I$8&I293,Sprache!$E$26&\" \"&blattname_formular_c&\", \"&B293),\"\")","v":""},null,303]
[null,{"$f":"IF('Formulaire C'!$B304<>\"\",'Formulaire C'!B304,\"\")","v":""},{"$f":"IF('Formulaire C'!$B304<>\"\",'Formulaire C'!C304,\"\")","v":""},null,null,null,{"$f":"IF('Formulaire C'!B304<>\"\",HYPERLINK($I$8&I294,Sprache!$E$26&\" \"&blattname_formular_c&\", \"&B294),\"\")","v":""},null,304]
[null,{"$f":"IF('Formulaire C'!$B305<>\"\",'Formulaire C'!B305,\"\")","v":""},{"$f":"IF('Formulaire C'!$B305<>\"\",'Formulaire C'!C305,\"\")","v":""},null,null,null,{"$f":"IF('Formulaire C'!B305<>\"\",HYPERLINK($I$8&I295,Sprache!$E$26&\" \"&blattname_formular_c&\", \"&B295),\"\")","v":""},null,305]
[null,{"$f":"IF('Formulaire C'!$B306<>\"\",'Formulaire C'!B306,\"\")","v":""},{"$f":"IF('Formulaire C'!$B306<>\"\",'Formulaire C'!C306,\"\")","v":""},null,null,null,{"$f":"IF('Formulaire C'!B306<>\"\",HYPERLINK($I$8&I296,Sprache!$E$26&\" \"&blattname_formular_c&\", \"&B296),\"\")","v":""},null,306]
[null,{"$f":"IF('Formulaire C'!$B307<>\"\",'Formulaire C'!B307,\"\")","v":""},{"$f":"IF('Formulaire C'!$B307<>\"\",'Formulaire C'!C307,\"\")","v":""},null,null,null,{"$f":"IF('Formulaire C'!B307<>\"\",HYPERLINK($I$8&I297,Sprache!$E$26&\" \"&blattname_formular_c&\", \"&B297),\"\")","v":""},null,307]
[null,{"$f":"IF('Formulaire C'!$B308<>\"\",'Formulaire C'!B308,\"\")","v":""},{"$f":"IF('Formulaire C'!$B308<>\"\",'Formulaire C'!C308,\"\")","v":""},null,null,null,{"$f":"IF('Formulaire C'!B308<>\"\",HYPERLINK($I$8&I298,Sprache!$E$26&\" \"&blattname_formular_c&\", \"&B298),\"\")","v":""},null,308]
[null,{"$f":"IF('Formulaire C'!$B309<>\"\",'Formulaire C'!B309,\"\")","v":""},{"$f":"IF('Formulaire C'!$B309<>\"\",'Formulaire C'!C309,\"\")","v":""},null,null,null,{"$f":"IF('Formulaire C'!B309<>\"\",HYPERLINK($I$8&I299,Sprache!$E$26&\" \"&blattname_formular_c&\", \"&B299),\"\")","v":""},null,309]
[null,{"$f":"IF('Formulaire C'!$B310<>\"\",'Formulaire C'!B310,\"\")","v":""},{"$f":"IF('Formulaire C'!$B310<>\"\",'Formulaire C'!C310,\"\")","v":""},null,null,null,{"$f":"IF('Formulaire C'!B310<>\"\",HYPERLINK($I$8&I300,Sprache!$E$26&\" \"&blattname_formular_c&\", \"&B300),\"\")","v":""},null,310]
[null,{"$f":"IF('Formulaire C'!$B311<>\"\",'Formulaire C'!B311,\"\")","v":""},{"$f":"IF('Formulaire C'!$B311<>\"\",'Formulaire C'!C311,\"\")","v":""},null,null,null,{"$f":"IF('Formulaire C'!B311<>\"\",HYPERLINK($I$8&I301,Sprache!$E$26&\" \"&blattname_formular_c&\", \"&B301),\"\")","v":""},null,311]
[null,{"$f":"IF('Formulaire C'!$B312<>\"\",'Formulaire C'!B312,\"\")","v":""},{"$f":"IF('Formulaire C'!$B312<>\"\",'Formulaire C'!C312,\"\")","v":""},null,null,null,{"$f":"IF('Formulaire C'!B312<>\"\",HYPERLINK($I$8&I302,Sprache!$E$26&\" \"&blattname_formular_c&\", \"&B302),\"\")","v":""},null,312]
[null,{"$f":"IF('Formulaire C'!$B313<>\"\",'Formulaire C'!B313,\"\")","v":""},{"$f":"IF('Formulaire C'!$B313<>\"\",'Formulaire C'!C313,\"\")","v":""},null,null,null,{"$f":"IF('Formulaire C'!B313<>\"\",HYPERLINK($I$8&I303,Sprache!$E$26&\" \"&blattname_formular_c&\", \"&B303),\"\")","v":""},null,313]
[null,{"$f":"IF('Formulaire C'!$B314<>\"\",'Formulaire C'!B314,\"\")","v":""},{"$f":"IF('Formulaire C'!$B314<>\"\",'Formulaire C'!C314,\"\")","v":""},null,null,null,{"$f":"IF('Formulaire C'!B314<>\"\",HYPERLINK($I$8&I304,Sprache!$E$26&\" \"&blattname_formular_c&\", \"&B304),\"\")","v":""},null,314]
[null,{"$f":"IF('Formulaire C'!$B315<>\"\",'Formulaire C'!B315,\"\")","v":""},{"$f":"IF('Formulaire C'!$B315<>\"\",'Formulaire C'!C315,\"\")","v":""},null,null,null,{"$f":"IF('Formulaire C'!B315<>\"\",HYPERLINK($I$8&I305,Sprache!$E$26&\" \"&blattname_formular_c&\", \"&B305),\"\")","v":""},null,315]
[null,{"$f":"IF('Formulaire C'!$B316<>\"\",'Formulaire C'!B316,\"\")","v":""},{"$f":"IF('Formulaire C'!$B316<>\"\",'Formulaire C'!C316,\"\")","v":""},null,null,null,{"$f":"IF('Formulaire C'!B316<>\"\",HYPERLINK($I$8&I306,Sprache!$E$26&\" \"&blattname_formular_c&\", \"&B306),\"\")","v":""},null,316]
[null,{"$f":"IF('Formulaire C'!$B317<>\"\",'Formulaire C'!B317,\"\")","v":""},{"$f":"IF('Formulaire C'!$B317<>\"\",'Formulaire C'!C317,\"\")","v":""},null,null,null,{"$f":"IF('Formulaire C'!B317<>\"\",HYPERLINK($I$8&I307,Sprache!$E$26&\" \"&blattname_formular_c&\", \"&B307),\"\")","v":""},null,317]
[null,{"$f":"IF('Formulaire C'!$B318<>\"\",'Formulaire C'!B318,\"\")","v":""},{"$f":"IF('Formulaire C'!$B318<>\"\",'Formulaire C'!C318,\"\")","v":""},null,null,null,{"$f":"IF('Formulaire C'!B318<>\"\",HYPERLINK($I$8&I308,Sprache!$E$26&\" \"&blattname_formular_c&\", \"&B308),\"\")","v":""},null,318]
[null,{"$f":"IF('Formulaire C'!$B319<>\"\",'Formulaire C'!B319,\"\")","v":""},{"$f":"IF('Formulaire C'!$B319<>\"\",'Formulaire C'!C319,\"\")","v":""},null,null,null,{"$f":"IF('Formulaire C'!B319<>\"\",HYPERLINK($I$8&I309,Sprache!$E$26&\" \"&blattname_formular_c&\", \"&B309),\"\")","v":""},null,319]
[null,{"$f":"IF('Formulaire C'!$B320<>\"\",'Formulaire C'!B320,\"\")","v":""},{"$f":"IF('Formulaire C'!$B320<>\"\",'Formulaire C'!C320,\"\")","v":""},null,null,null,{"$f":"IF('Formulaire C'!B320<>\"\",HYPERLINK($I$8&I310,Sprache!$E$26&\" \"&blattname_formular_c&\", \"&B310),\"\")","v":""},null,320]
[null,{"$f":"IF('Formulaire C'!$B321<>\"\",'Formulaire C'!B321,\"\")","v":""},{"$f":"IF('Formulaire C'!$B321<>\"\",'Formulaire C'!C321,\"\")","v":""},null,null,null,{"$f":"IF('Formulaire C'!B321<>\"\",HYPERLINK($I$8&I311,Sprache!$E$26&\" \"&blattname_formular_c&\", \"&B311),\"\")","v":""},null,321]
[null,{"$f":"IF('Formulaire C'!$B322<>\"\",'Formulaire C'!B322,\"\")","v":""},{"$f":"IF('Formulaire C'!$B322<>\"\",'Formulaire C'!C322,\"\")","v":""},null,null,null,{"$f":"IF('Formulaire C'!B322<>\"\",HYPERLINK($I$8&I312,Sprache!$E$26&\" \"&blattname_formular_c&\", \"&B312),\"\")","v":""},null,322]
[null,{"$f":"IF('Formulaire C'!$B323<>\"\",'Formulaire C'!B323,\"\")","v":""},{"$f":"IF('Formulaire C'!$B323<>\"\",'Formulaire C'!C323,\"\")","v":""},null,null,null,{"$f":"IF('Formulaire C'!B323<>\"\",HYPERLINK($I$8&I313,Sprache!$E$26&\" \"&blattname_formular_c&\", \"&B313),\"\")","v":""},null,323]
[null,{"$f":"IF('Formulaire C'!$B324<>\"\",'Formulaire C'!B324,\"\")","v":""},{"$f":"IF('Formulaire C'!$B324<>\"\",'Formulaire C'!C324,\"\")","v":""},null,null,null,{"$f":"IF('Formulaire C'!B324<>\"\",HYPERLINK($I$8&I314,Sprache!$E$26&\" \"&blattname_formular_c&\", \"&B314),\"\")","v":""},null,324]
[null,{"$f":"IF('Formulaire C'!$B325<>\"\",'Formulaire C'!B325,\"\")","v":""},{"$f":"IF('Formulaire C'!$B325<>\"\",'Formulaire C'!C325,\"\")","v":""},null,null,null,{"$f":"IF('Formulaire C'!B325<>\"\",HYPERLINK($I$8&I315,Sprache!$E$26&\" \"&blattname_formular_c&\", \"&B315),\"\")","v":""},null,325]
[null,{"$f":"IF('Formulaire C'!$B326<>\"\",'Formulaire C'!B326,\"\")","v":""},{"$f":"IF('Formulaire C'!$B326<>\"\",'Formulaire C'!C326,\"\")","v":""},null,null,null,{"$f":"IF('Formulaire C'!B326<>\"\",HYPERLINK($I$8&I316,Sprache!$E$26&\" \"&blattname_formular_c&\", \"&B316),\"\")","v":""},null,326]
[null,{"$f":"IF('Formulaire C'!$B327<>\"\",'Formulaire C'!B327,\"\")","v":""},{"$f":"IF('Formulaire C'!$B327<>\"\",'Formulaire C'!C327,\"\")","v":""},null,null,null,{"$f":"IF('Formulaire C'!B327<>\"\",HYPERLINK($I$8&I317,Sprache!$E$26&\" \"&blattname_formular_c&\", \"&B317),\"\")","v":""},null,327]
[null,{"$f":"IF('Formulaire C'!$B328<>\"\",'Formulaire C'!B328,\"\")","v":""},{"$f":"IF('Formulaire C'!$B328<>\"\",'Formulaire C'!C328,\"\")","v":""},null,null,null,{"$f":"IF('Formulaire C'!B328<>\"\",HYPERLINK($I$8&I318,Sprache!$E$26&\" \"&blattname_formular_c&\", \"&B318),\"\")","v":""},null,328]
[null,{"$f":"IF('Formulaire C'!$B329<>\"\",'Formulaire C'!B329,\"\")","v":""},{"$f":"IF('Formulaire C'!$B329<>\"\",'Formulaire C'!C329,\"\")","v":""},null,null,null,{"$f":"IF('Formulaire C'!B329<>\"\",HYPERLINK($I$8&I319,Sprache!$E$26&\" \"&blattname_formular_c&\", \"&B319),\"\")","v":""},null,329]
[null,{"$f":"IF('Formulaire C'!$B330<>\"\",'Formulaire C'!B330,\"\")","v":""},{"$f":"IF('Formulaire C'!$B330<>\"\",'Formulaire C'!C330,\"\")","v":""},null,null,null,{"$f":"IF('Formulaire C'!B330<>\"\",HYPERLINK($I$8&I320,Sprache!$E$26&\" \"&blattname_formular_c&\", \"&B320),\"\")","v":""},null,330]
[null,{"$f":"IF('Formulaire C'!$B331<>\"\",'Formulaire C'!B331,\"\")","v":""},{"$f":"IF('Formulaire C'!$B331<>\"\",'Formulaire C'!C331,\"\")","v":""},null,null,null,{"$f":"IF('Formulaire C'!B331<>\"\",HYPERLINK($I$8&I321,Sprache!$E$26&\" \"&blattname_formular_c&\", \"&B321),\"\")","v":""},null,331]
[null,{"$f":"IF('Formulaire C'!$B332<>\"\",'Formulaire C'!B332,\"\")","v":""},{"$f":"IF('Formulaire C'!$B332<>\"\",'Formulaire C'!C332,\"\")","v":""},null,null,null,{"$f":"IF('Formulaire C'!B332<>\"\",HYPERLINK($I$8&I322,Sprache!$E$26&\" \"&blattname_formular_c&\", \"&B322),\"\")","v":""},null,332]
[null,{"$f":"IF('Formulaire C'!$B333<>\"\",'Formulaire C'!B333,\"\")","v":""},{"$f":"IF('Formulaire C'!$B333<>\"\",'Formulaire C'!C333,\"\")","v":""},null,null,null,{"$f":"IF('Formulaire C'!B333<>\"\",HYPERLINK($I$8&I323,Sprache!$E$26&\" \"&blattname_formular_c&\", \"&B323),\"\")","v":""},null,333]
[null,{"$f":"IF('Formulaire C'!$B334<>\"\",'Formulaire C'!B334,\"\")","v":""},{"$f":"IF('Formulaire C'!$B334<>\"\",'Formulaire C'!C334,\"\")","v":""},null,null,null,{"$f":"IF('Formulaire C'!B334<>\"\",HYPERLINK($I$8&I324,Sprache!$E$26&\" \"&blattname_formular_c&\", \"&B324),\"\")","v":""},null,334]
[null,{"$f":"IF('Formulaire C'!$B335<>\"\",'Formulaire C'!B335,\"\")","v":""},{"$f":"IF('Formulaire C'!$B335<>\"\",'Formulaire C'!C335,\"\")","v":""},null,null,null,{"$f":"IF('Formulaire C'!B335<>\"\",HYPERLINK($I$8&I325,Sprache!$E$26&\" \"&blattname_formular_c&\", \"&B325),\"\")","v":""},null,335]
[null,{"$f":"IF('Formulaire C'!$B336<>\"\",'Formulaire C'!B336,\"\")","v":""},{"$f":"IF('Formulaire C'!$B336<>\"\",'Formulaire C'!C336,\"\")","v":""},null,null,null,{"$f":"IF('Formulaire C'!B336<>\"\",HYPERLINK($I$8&I326,Sprache!$E$26&\" \"&blattname_formular_c&\", \"&B326),\"\")","v":""},null,336]
[null,{"$f":"IF('Formulaire C'!$B337<>\"\",'Formulaire C'!B337,\"\")","v":""},{"$f":"IF('Formulaire C'!$B337<>\"\",'Formulaire C'!C337,\"\")","v":""},null,null,null,{"$f":"IF('Formulaire C'!B337<>\"\",HYPERLINK($I$8&I327,Sprache!$E$26&\" \"&blattname_formular_c&\", \"&B327),\"\")","v":""},null,337]
[null,{"$f":"IF('Formulaire C'!$B338<>\"\",'Formulaire C'!B338,\"\")","v":""},{"$f":"IF('Formulaire C'!$B338<>\"\",'Formulaire C'!C338,\"\")","v":""},null,null,null,{"$f":"IF('Formulaire C'!B338<>\"\",HYPERLINK($I$8&I328,Sprache!$E$26&\" \"&blattname_formular_c&\", \"&B328),\"\")","v":""},null,338]
[null,{"$f":"IF('Formulaire C'!$B339<>\"\",'Formulaire C'!B339,\"\")","v":""},{"$f":"IF('Formulaire C'!$B339<>\"\",'Formulaire C'!C339,\"\")","v":""},null,null,null,{"$f":"IF('Formulaire C'!B339<>\"\",HYPERLINK($I$8&I329,Sprache!$E$26&\" \"&blattname_formular_c&\", \"&B329),\"\")","v":""},null,339]
[null,{"$f":"IF('Formulaire C'!$B340<>\"\",'Formulaire C'!B340,\"\")","v":""},{"$f":"IF('Formulaire C'!$B340<>\"\",'Formulaire C'!C340,\"\")","v":""},null,null,null,{"$f":"IF('Formulaire C'!B340<>\"\",HYPERLINK($I$8&I330,Sprache!$E$26&\" \"&blattname_formular_c&\", \"&B330),\"\")","v":""},null,340]
[null,{"$f":"IF('Formulaire C'!$B341<>\"\",'Formulaire C'!B341,\"\")","v":""},{"$f":"IF('Formulaire C'!$B341<>\"\",'Formulaire C'!C341,\"\")","v":""},null,null,null,{"$f":"IF('Formulaire C'!B341<>\"\",HYPERLINK($I$8&I331,Sprache!$E$26&\" \"&blattname_formular_c&\", \"&B331),\"\")","v":""},null,341]
[null,{"$f":"IF('Formulaire C'!$B342<>\"\",'Formulaire C'!B342,\"\")","v":""},{"$f":"IF('Formulaire C'!$B342<>\"\",'Formulaire C'!C342,\"\")","v":""},null,null,null,{"$f":"IF('Formulaire C'!B342<>\"\",HYPERLINK($I$8&I332,Sprache!$E$26&\" \"&blattname_formular_c&\", \"&B332),\"\")","v":""},null,342]
[null,{"$f":"IF('Formulaire C'!$B343<>\"\",'Formulaire C'!B343,\"\")","v":""},{"$f":"IF('Formulaire C'!$B343<>\"\",'Formulaire C'!C343,\"\")","v":""},null,null,null,{"$f":"IF('Formulaire C'!B343<>\"\",HYPERLINK($I$8&I333,Sprache!$E$26&\" \"&blattname_formular_c&\", \"&B333),\"\")","v":""},null,343]
[null,{"$f":"IF('Formulaire C'!$B344<>\"\",'Formulaire C'!B344,\"\")","v":""},{"$f":"IF('Formulaire C'!$B344<>\"\",'Formulaire C'!C344,\"\")","v":""},null,null,null,{"$f":"IF('Formulaire C'!B344<>\"\",HYPERLINK($I$8&I334,Sprache!$E$26&\" \"&blattname_formular_c&\", \"&B334),\"\")","v":""},null,344]
[null,{"$f":"IF('Formulaire C'!$B345<>\"\",'Formulaire C'!B345,\"\")","v":""},{"$f":"IF('Formulaire C'!$B345<>\"\",'Formulaire C'!C345,\"\")","v":""},null,null,null,{"$f":"IF('Formulaire C'!B345<>\"\",HYPERLINK($I$8&I335,Sprache!$E$26&\" \"&blattname_formular_c&\", \"&B335),\"\")","v":""},null,345]
[null,{"$f":"IF('Formulaire C'!$B346<>\"\",'Formulaire C'!B346,\"\")","v":""},{"$f":"IF('Formulaire C'!$B346<>\"\",'Formulaire C'!C346,\"\")","v":""},null,null,null,{"$f":"IF('Formulaire C'!B346<>\"\",HYPERLINK($I$8&I336,Sprache!$E$26&\" \"&blattname_formular_c&\", \"&B336),\"\")","v":""},null,{"$f":"I335+1","v":346}]
[null,{"$f":"IF('Formulaire C'!$B347<>\"\",'Formulaire C'!B347,\"\")","v":""},{"$f":"IF('Formulaire C'!$B347<>\"\",'Formulaire C'!C347,\"\")","v":""},null,null,null,{"$f":"IF('Formulaire C'!B347<>\"\",HYPERLINK($I$8&I337,Sprache!$E$26&\" \"&blattname_formular_c&\", \"&B337),\"\")","v":""},null,347]
[null,{"$f":"IF('Formulaire C'!$B348<>\"\",'Formulaire C'!B348,\"\")","v":""},{"$f":"IF('Formulaire C'!$B348<>\"\",'Formulaire C'!C348,\"\")","v":""},null,null,null,{"$f":"IF('Formulaire C'!B348<>\"\",HYPERLINK($I$8&I338,Sprache!$E$26&\" \"&blattname_formular_c&\", \"&B338),\"\")","v":""},null,348]
[null,{"$f":"IF('Formulaire C'!$B349<>\"\",'Formulaire C'!B349,\"\")","v":""},{"$f":"IF('Formulaire C'!$B349<>\"\",'Formulaire C'!C349,\"\")","v":""},null,null,null,{"$f":"IF('Formulaire C'!B349<>\"\",HYPERLINK($I$8&I339,Sprache!$E$26&\" \"&blattname_formular_c&\", \"&B339),\"\")","v":""},null,349]
[null,{"$f":"IF('Formulaire C'!$B350<>\"\",'Formulaire C'!B350,\"\")","v":""},{"$f":"IF('Formulaire C'!$B350<>\"\",'Formulaire C'!C350,\"\")","v":""},null,null,null,{"$f":"IF('Formulaire C'!B350<>\"\",HYPERLINK($I$8&I340,Sprache!$E$26&\" \"&blattname_formular_c&\", \"&B340),\"\")","v":""},null,350]

{"sheet":"Formulaire D","index":8,"n_rows":48,"n_cols":17,"rows_kept":48,"cut":false,"hidden":false,"merged":[[9,9,9,10],[10,9,10,10],[11,9,11,10],[13,9,13,10],[16,11,16,12],[14,9,14,10],[15,9,15,10],[16,9,16,10],[34,4,35,4],[34,3,35,3],[34,5,35,5],[17,11,17,12],[18,11,18,12],[19,11,19,12],[19,9,19,10],[18,9,18,10],[7,6,7,12],[35,15,36,15],[35,16,36,16],[34,6,35,6],[34,7,35,7],[17,9,17,10],[15,11,15,12],[9,11,9,12],[10,11,10,12],[11,11,11,12],[13,11,13,12],[14,11,14,12],[12,9,12,10],[12,11,12,12],[8,9,8,10],[8,11,8,12],[34,1,35,2],[36,1,36,2],[37,1,37,2],[38,1,38,2],[39,1,39,2],[45,1,45,2],[46,1,46,2],[47,1,47,2],[40,1,40,2],[41,1,41,2],[42,1,42,2],[43,1,43,2],[44,1,44,2]]}
[]
[null,{"$f":"Sprache!E207","v":"COC, formulaire D / objectifs "},null,null,null,null,null,null,null,null,null,null,{"$f":"IF('Page de couverture'!$F$7=\"\",\"\",'Page de couverture'!$F$7)","v":""}]
[null,null,null,null,null,null,null,null,null,null,null,null,{"$f":"IF('Page de couverture'!$F$35=\"\",\"\",'Page de couverture'!$F$35)","v":""}]
[]
[]
[null,{"$f":"Sprache!E208","v":"D.1 Objectifs"}]
[]
[null,null,null,null,null,null,{"$f":"Sprache!E209","v":"consommations d’énergie non pondérées, corrigées DJ"}]
[null,null,null,null,null,null,{"$f":"'Formulaire B '!C29","v":"Année initiale"},{"$f":"'Formulaire B '!C28","v":"Année de réf."},{"$f":"Sprache!E210","v":"Année-cible non infl."},{"$f":"Sprache!E211","v":"Nouvel effet des MA"},null,{"$f":"Sprache!E212","v":"Année-cible avec nouvel effet des MA"}]
[null,null,null,null,null,null,{"$f":"IFERROR(IF(flag_richtwert=0,IF(MIN('Formulaire C'!R250:R351)>2000,MIN('Formulaire C'!R250:R351)-1,'Formulaire B '!G28),'Formulaire B '!G28),\"\")","v":0},{"$f":"'Formulaire B '!G28","v":0},{"$f":"IFERROR(G10+FB_DauerZV,\"\")","v":10},{"$f":"H10&\" - \"&I10","v":"0 - 10"},null,{"$f":"IFERROR(G10+FB_DauerZV,\"\")","v":10}]
[null,{"$f":"'Formulaire B '!B41","v":"Énergie thermique:"}]
[null,{"$f":"'Formulaire B '!B42","v":"Mazout"},null,null,null,"[kWh/a]",{"$f":"H12","v":""},{"$f":"'Formulaire B '!I42","v":""},{"$f":"'Formulaire B '!J42","v":""},{"$f":"'Formulaire C'!I353","v":0},null,{"$f":"IFERROR(I12-J12,\"\")","v":""}]
[null,{"$f":"'Formulaire B '!B43","v":"Gaz naturel"},null,null,null,"[kWh/a]",{"$f":"H13","v":""},{"$f":"'Formulaire B '!I43","v":""},{"$f":"'Formulaire B '!J43","v":""},{"$f":"'Formulaire C'!J353","v":0},null,{"$f":"IFERROR(I13-J13,\"\")","v":""}]
[null,{"$f":"'Formulaire B '!B44","v":"Chaleur à distance "},null,null,null,"[kWh/a]",{"$f":"H14","v":""},{"$f":"'Formulaire B '!I44","v":""},{"$f":"'Formulaire B '!J44","v":""},{"$f":"'Formulaire C'!K353","v":0},null,""]
[null,{"$f":"'Formulaire B '!B45","v":"Bois, biomasse, biogaz"},null,null,null,"[kWh/a]","",{"$f":"'Formulaire B '!I45","v":""},{"$f":"'Formulaire B '!J45","v":""},{"$f":"'Formulaire C'!L353","v":0},null,""]
[null,{"$f":"'Formulaire B '!B46","v":"Autres combustibles "},null,null,null,"[kWh/a]","",{"$f":"'Formulaire B '!I46","v":""},{"$f":"'Formulaire B '!J46","v":""},{"$f":"'Formulaire C'!M353","v":0},null,""]
[null,{"$f":"'Formulaire B '!B47","v":"Total énergie thermique "},null,null,null,"[kWh/a]",0,{"$f":"'Formulaire B '!I47","v":0},{"$f":"'Formulaire B '!J47","v":0},{"$f":"SUM(J12:K16)","v":0},null,{"$f":"IFERROR(I17-J17,\"\")","v":0}]
[null,{"$f":"'Formulaire B '!B48","v":"Total énergie électrique "},null,null,null,"[kWh/a]","",{"$f":"'Formulaire B '!I48","v":""},{"$f":"'Formulaire B '!J48","v":""},{"$f":"'Formulaire C'!N353","v":0},null,{"$f":"IFERROR(I18-J18,\"\")","v":""}]
[]
[null,{"$f":"'Formulaire B '!B50","v":"Achat annuel d’énergie "},null,null,null,"[kWh/a]",0,{"$f":"'Formulaire B '!I50","v":0},{"$f":"'Formulaire B '!J50","v":0},{"$f":"SUM(J17:K18)","v":0},null,{"$f":"IFERROR(I20-J20,\"\")","v":0}]
[]
[null,{"$f":"Sprache!E213","v":"Il est admis, pour le calcul de la trajectoire de réduction, que la consommation énergétique de l’année initiale correspond à celle de l’année de référence."}]
[]
[null,{"$f":"Sprache!E214","v":"D.2 Valeur cible de la convention d’objectifs"}]
[]
[]
[null,{"$f":"'Formulaire B '!H39","v":"Année-cible :"},null,null,null,{"$f":"Sprache!E114","v":"Année"},{"$f":"IFERROR(G10+FB_DauerZV,\"\")","v":10}]
[]
[null,{"$f":"Sprache!E215","v":"Objectif fixé pour l’efficacité énergétique "},null,null,null,"[%]",{"$f":"IFERROR(IF(flag_richtwert=0,('Formulaire C'!Q354*100)+100,('Formulaire C'!Q228*100)+100),\"\")","v":""}]
[]
[]
[]
[null,{"$f":"Sprache!E216","v":"D.3 Efficacité énergétique et trajectoire de réduction prévues "}]
[]
[null,{"$f":"Sprache!E114","v":"Année"},null,{"$f":"Sprache!E217","v":"MA prévues"},{"$f":"Sprache!E218","v":"Progression linéaire"},{"$f":"Sprache!E219","v":"But inter-médiaire min."}]
[null,null,null,null,null,null,null,null,null,null,null,null,null,null,null,"Total gewichtet, HGT normiert","Total Wirkung, gewichtet"]
[null,null,null,"[%]","[%]","[%]"]
[null,{"$f":"$G$10","v":0},null,{"$f":"IFERROR(IF(B38<=$H$10,(P38+Q38)/P38*100,P38/(P38-(Q38-VLOOKUP($H$10,$B$38:$Q$48,16,FALSE)))*100-100+VLOOKUP($H$10,$B$38:$Q$48,3,FALSE)),\"\")","v":""},{"$f":"IFERROR(IF($B38<=$I$10,100+($G$29-100)/($I$10-$G$10)*(B38-$G$10),E37),\"\")","v":""},{"$f":"IFERROR(($G$29-100)/100*(B38-$G$10)^2+100,\"\")","v":""},null,null,null,null,null,null,null,null,null,{"$f":"IF(B38<$H$10,'Formulaire B '!$K$50,IF(B38=$H$10,'Formulaire B '!$K$50,'Formulaire B '!$K$50*(1+(('Formulaire B '!$G$33*'Formulaire B '!$G$34)/100))^(B38-$H$10)))","v":0},{"$f":"SUM((B38=('Formulaire C'!$R$23:$R$225))*(\"X\"=('Formulaire C'!$Y$23:$Y$225))*('Formulaire C'!$P$23:$P$225))+IF(flag_richtwert=0,SUM((B38=('Formulaire C'!$R$250:$R$350))*('Formulaire C'!$P$250:$P$350)),0)","v":0}]
[null,{"$f":"$G$10+1","v":1},null,{"$f":"IFERROR(IF(B39<=$H$10,(P39+Q39)/P39*100,P39/(P39-(Q39-VLOOKUP($H$10,$B$38:$Q$48,16,FALSE)))*100-100+VLOOKUP($H$10,$B$38:$Q$48,3,FALSE)),\"\")","v":""},{"$f":"IFERROR(IF($B39<=$I$10,100+($G$29-100)/($I$10-$G$10)*(B39-$G$10),E38),\"\")","v":""},{"$f":"IFERROR(($G$29-100)/100*(B39-$G$10)^2+100,\"\")","v":""},null,null,null,null,null,null,null,null,null,{"$f":"IF(B39<$H$10,'Formulaire B '!$K$50,IF(B39=$H$10,'Formulaire B '!$K$50,'Formulaire B '!$K$50*(1+(('Formulaire B '!$G$33*'Formulaire B '!$G$34)/100))^(B39-$H$10)))","v":0},{"$f":"SUM((B39=('Formulaire C'!$R$23:$R$225))*(\"X\"=('Formulaire C'!$Y$23:$Y$225))*('Formulaire C'!$P$23:$P$225))+IF(flag_richtwert=0,SUM((B39=('Formulaire C'!$R$250:$R$350))*('Formulaire C'!$P$250:$P$350)),0)+Q38","v":0}]
[null,{"$f":"$G$10+2","v":2},null,"","","",null,null,null,null,null,null,null,null,null,{"$f":"IF(B40<$H$10,'Formulaire B '!$K$50,IF(B40=$H$10,'Formulaire B '!$K$50,'Formulaire B '!$K$50*(1+(('Formulaire B '!$G$33*'Formulaire B '!$G$34)/100))^(B40-$H$10)))","v":0},{"$f":"SUM((B40=('Formulaire C'!$R$23:$R$225))*(\"X\"=('Formulaire C'!$Y$23:$Y$225))*('Formulaire C'!$P$23:$P$225))+IF(flag_richtwert=0,SUM((B40=('Formulaire C'!$R$250:$R$350))*('Formulaire C'!$P$250:$P$350)),0)+Q39","v":0}]
[null,{"$f":"$G$10+3","v":3},null,"","","",null,null,null,null,null,null,null,null,null,{"$f":"IF(B41<$H$10,'Formulaire B '!$K$50,IF(B41=$H$10,'Formulaire B '!$K$50,'Formulaire B '!$K$50*(1+(('Formulaire B '!$G$33*'Formulaire B '!$G$34)/100))^(B41-$H$10)))","v":0},{"$f":"SUM((B41=('Formulaire C'!$R$23:$R$225))*(\"X\"=('Formulaire C'!$Y$23:$Y$225))*('Formulaire C'!$P$23:$P$225))+IF(flag_richtwert=0,SUM((B41=('Formulaire C'!$R$250:$R$350))*('Formulaire C'!$P$250:$P$350)),0)+Q40","v":0}]
[null,{"$f":"$G$10+4","v":4},null,"","","",null,null,null,null,null,null,null,null,null,{"$f":"IF(B42<$H$10,'Formulaire B '!$K$50,IF(B42=$H$10,'Formulaire B '!$K$50,'Formulaire B '!$K$50*(1+(('Formulaire B '!$G$33*'Formulaire B '!$G$34)/100))^(B42-$H$10)))","v":0},{"$f":"SUM((B42=('Formulaire C'!$R$23:$R$225))*(\"X\"=('Formulaire C'!$Y$23:$Y$225))*('Formulaire C'!$P$23:$P$225))+IF(flag_richtwert=0,SUM((B42=('Formulaire C'!$R$250:$R$350))*('Formulaire C'!$P$250:$P$350)),0)+Q41","v":0}]
[null,{"$f":"$G$10+5","v":5},null,"","","",null,null,null,null,null,null,null,null,null,{"$f":"IF(B43<$H$10,'Formulaire B '!$K$50,IF(B43=$H$10,'Formulaire B '!$K$50,'Formulaire B '!$K$50*(1+(('Formulaire B '!$G$33*'Formulaire B '!$G$34)/100))^(B43-$H$10)))","v":0},{"$f":"SUM((B43=('Formulaire C'!$R$23:$R$225))*(\"X\"=('Formulaire C'!$Y$23:$Y$225))*('Formulaire C'!$P$23:$P$225))+IF(flag_richtwert=0,SUM((B43=('Formulaire C'!$R$250:$R$350))*('Formulaire C'!$P$250:$P$350)),0)+Q42","v":0}]
[null,{"$f":"$G$10+6","v":6},null,"","","",null,null,null,null,null,null,null,null,null,{"$f":"IF(B44<$H$10,'Formulaire B '!$K$50,IF(B44=$H$10,'Formulaire B '!$K$50,'Formulaire B '!$K$50*(1+(('Formulaire B '!$G$33*'Formulaire B '!$G$34)/100))^(B44-$H$10)))","v":0},{"$f":"SUM((B44=('Formulaire C'!$R$23:$R$225))*(\"X\"=('Formulaire C'!$Y$23:$Y$225))*('Formulaire C'!$P$23:$P$225))+IF(flag_richtwert=0,SUM((B44=('Formulaire C'!$R$250:$R$350))*('Formulaire C'!$P$250:$P$350)),0)+Q43","v":0}]
[null,{"$f":"$G$10+7","v":7},null,"","","",null,null,null,null,null,null,null,null,null,{"$f":"IF(B45<$H$10,'Formulaire B '!$K$50,IF(B45=$H$10,'Formulaire B '!$K$50,'Formulaire B '!$K$50*(1+(('Formulaire B '!$G$33*'Formulaire B '!$G$34)/100))^(B45-$H$10)))","v":0},{"$f":"SUM((B45=('Formulaire C'!$R$23:$R$225))*(\"X\"=('Formulaire C'!$Y$23:$Y$225))*('Formulaire C'!$P$23:$P$225))+IF(flag_richtwert=0,SUM((B45=('Formulaire C'!$R$250:$R$350))*('Formulaire C'!$P$250:$P$350)),0)+Q44","v":0}]
[null,{"$f":"$G$10+8","v":8},null,"","","",null,null,null,null,null,null,null,null,null,{"$f":"IF(B46<$H$10,'Formulaire B '!$K$50,IF(B46=$H$10,'Formulaire B '!$K$50,'Formulaire B '!$K$50*(1+(('Formulaire B '!$G$33*'Formulaire B '!$G$34)/100))^(B46-$H$10)))","v":0},{"$f":"SUM((B46=('Formulaire C'!$R$23:$R$225))*(\"X\"=('Formulaire C'!$Y$23:$Y$225))*('Formulaire C'!$P$23:$P$225))+IF(flag_richtwert=0,SUM((B46=('Formulaire C'!$R$250:$R$350))*('Formulaire C'!$P$250:$P$350)),0)+Q45","v":0}]
[null,{"$f":"$G$10+9","v":9},null,"","","",null,null,null,null,null,null,null,null,null,{"$f":"IF(B47<$H$10,'Formulaire B '!$K$50,IF(B47=$H$10,'Formulaire B '!$K$50,'Formulaire B '!$K$50*(1+(('Formulaire B '!$G$33*'Formulaire B '!$G$34)/100))^(B47-$H$10)))","v":0},{"$f":"SUM((B47=('Formulaire C'!$R$23:$R$225))*(\"X\"=('Formulaire C'!$Y$23:$Y$225))*('Formulaire C'!$P$23:$P$225))+IF(flag_richtwert=0,SUM((B47=('Formulaire C'!$R$250:$R$350))*('Formulaire C'!$P$250:$P$350)),0)+Q46","v":0}]
[null,{"$f":"$G$10+10","v":10},null,"","","",null,null,null,null,null,null,null,null,null,{"$f":"IF(B48<$H$10,'Formulaire B '!$K$50,IF(B48=$H$10,'Formulaire B '!$K$50,'Formulaire B '!$K$50*(1+(('Formulaire B '!$G$33*'Formulaire B '!$G$34)/100))^(B48-$H$10)))","v":0},{"$f":"SUM((B48=('Formulaire C'!$R$23:$R$225))*(\"X\"=('Formulaire C'!$Y$23:$Y$225))*('Formulaire C'!$P$23:$P$225))+IF(flag_richtwert=0,SUM((B48=('Formulaire C'!$R$250:$R$350))*('Formulaire C'!$P$250:$P$350)),0)+Q47","v":0}]

{"sheet":"Convention","index":9,"n_rows":131,"n_cols":14,"rows_kept":131,"cut":false,"hidden":false,"merged":[[116,5,116,7],[116,8,116,13],[118,5,118,7],[118,8,118,13],[8,5,8,13],[131,1,131,3],[131,5,131,13],[110,1,110,3],[111,1,111,3],[111,5,111,13],[115,1,115,3],[115,5,115,13],[116,1,116,3],[118,1,118,3],[98,1,98,3],[98,5,98,13],[99,5,99,13],[100,5,100,13],[101,5,101,13],[102,1,102,3],[102,5,102,13],[105,1,106,3],[107,1,107,3],[107,5,107,13],[88,1,88,3],[88,5,88,13],[89,1,89,3],[89,5,89,13],[93,1,93,3],[93,5,93,13],[94,5,94,13],[96,1,96,3],[96,5,96,13],[80,1,80,3],[80,5,80,13],[81,1,82,3],[81,5,81,13],[82,5,82,13],[83,5,83,13],[84,5,85,13],[86,1,86,3],[86,5,86,13],[68,5,69,13],[70,1,70,3],[70,5,70,13],[72,1,72,3],[72,5,72,13],[73,1,74,3],[73,5,73,13],[74,5,77,13],[78,1,78,3],[78,5,78,13],[58,1,58,3],[58,5,58,13],[59,1,59,3],[59,5,59,13],[61,1,61,3],[61,5,61,13],[62,1,64,3],[62,5,63,13],[64,5,67,13],[67,1,67,3],[42,5,44,13],[45,5,45,13],[47,1,47,3],[47,5,47,13],[48,5,53,13],[54,5,54,13],[56,1,56,3],[56,5,56,13],[57,1,57,3],[57,5,57,13],[41,1,41,3],[41,5,41,13],[4,1,4,3],[4,5,4,13],[35,1,35,3],[35,5,35,13],[36,1,36,3],[36,5,36,13],[37,1,37,3],[37,5,37,13],[38,1,38,3],[38,5,38,13],[39,1,39,3],[39,5,39,13],[5,1,5,13],[16,1,16,3],[17,5,17,13],[19,1,19,3],[19,5,19,13],[20,5,20,13],[23,1,23,3],[23,5,23,13],[34,1,34,3],[34,5,34,13],[130,5,130,7],[130,8,130,13],[119,5,119,7],[119,8,119,13],[120,5,120,7],[120,8,120,13],[121,5,121,7],[121,8,121,13],[122,5,122,7],[122,8,122,13],[123,5,123,7],[123,8,123,13],[124,5,124,7],[125,5,125,7],[126,5,126,7],[127,5,127,7],[128,5,128,7],[124,8,124,13],[125,8,125,13],[126,8,126,13],[127,8,127,13],[128,8,128,13]]}
[]
[]
[null,null,null,null,null,null,null,null,null,null,null,null,null,{"$f":"'Page de couverture'!L3","v":"Convention d'objectifs cantonale (COC) pour gros consommateur dans le canton de Berne"}]
[]
[]
[null,{"$f":"Sprache!E221","v":"Convention d’objectifs cantonale pour gros consommateurs d’énergie\n"}]
[]
[]
[null,{"$f":"Sprache!E222","v":"entre"},null,null,null,{"$f":"Sprache!E227","v":"la Direction des travaux publics, des transports et de l'énergie, Office de la coordination environnementale et de l’énergie"}]
[null,null,null,null,null,{"$f":"Sprache!E228","v":"représenté par"}]
[null,null,null,null,null,{"$f":"Sprache!E229","v":"Ulrich Nyffenegger, Chef d'office"}]
[null,null,null,null,null,{"$f":"Sprache!E230","v":"(ci-après le Service)"}]
[]
[]
[]
[null,{"$f":"Sprache!E223","v":"et"}]
[null,{"$f":"Sprache!E224","v":"l’entreprise grosse consommatrice / le groupe de gros consommateurs :"},null,null,null,{"$f":"IF('Page de couverture'!$F$7=\"\",\"\",'Page de couverture'!$F$7)","v":""}]
[null,{"$f":"'Page de couverture'!B8","v":"Adresse principale:"},null,null,null,{"$f":"IF('Page de couverture'!$F$8=\"\",\"\",'Page de couverture'!$F$8)","v":""},{"$f":"IF('Page de couverture'!$F$7=\"\",\"\",'Page de couverture'!$F$7)","v":""},{"$f":"IF('Page de couverture'!$F$7=\"\",\"\",'Page de couverture'!$F$7)","v":""},{"$f":"IF('Page de couverture'!$F$7=\"\",\"\",'Page de couverture'!$F$7)","v":""},{"$f":"IF('Page de couverture'!$F$7=\"\",\"\",'Page de couverture'!$F$7)","v":""},{"$f":"IF('Page de couverture'!$F$7=\"\",\"\",'Page de couverture'!$F$7)","v":""},{"$f":"IF('Page de couverture'!$F$7=\"\",\"\",'Page de couverture'!$F$7)","v":""},{"$f":"IF('Page de couverture'!$F$7=\"\",\"\",'Page de couverture'!$F$7)","v":""},{"$f":"IF('Page de couverture'!$F$7=\"\",\"\",'Page de couverture'!$F$7)","v":""}]
[null,{"$f":"Sprache!E225","v":"N° d’identification de l'entreprise (IDE) :"},null,null,null,{"$f":"IF('Page de couverture'!$F$9=\"\",\"\",'Page de couverture'!$F$9)","v":""}]
[null,null,null,null,null,{"$f":"Sprache!E228","v":"représenté par"}]
[null,{"$f":"'Page de couverture'!B11","v":"Contact:"},null,null,null,{"$f":"IF('Page de couverture'!$G$11=\"\",\"\",'Page de couverture'!$G$11)","v":""}]
[null,{"$f":"'Page de couverture'!F12","v":"Tél.:"},null,null,null,{"$f":"IF('Page de couverture'!$G$12=\"\",\"\",'Page de couverture'!$G$12)","v":""},null,null,null,{"$f":"'Page de couverture'!F13","v":"Courriel:"},{"$f":"IF('Page de couverture'!$G$13=\"\",\"\",'Page de couverture'!$G$13)","v":""}]
[null,null,null,null,null,{"$f":"Sprache!E226","v":"(ci-après le gros consommateur)"}]
[]
[null,{"$f":"'Page de couverture'!B15","v":"Site  1:"},null,null,null,{"$f":"'Page de couverture'!$F$15","v":0},null,null,null,{"$f":"'Page de couverture'!I15","v":"Adresse:"},{"$f":"IF('Page de couverture'!J15<>\"\",'Page de couverture'!J15,\"\")","v":""}]
[null,{"$f":"'Page de couverture'!B16","v":"Site  2:"},null,null,null,{"$f":"'Page de couverture'!$F$16","v":0},null,null,null,{"$f":"'Page de couverture'!I16","v":"Adresse:"},{"$f":"IF('Page de couverture'!J16<>\"\",'Page de couverture'!J16,\"\")","v":""}]
[null,{"$f":"'Page de couverture'!B17","v":"Site  3:"},null,null,null,{"$f":"'Page de couverture'!$F$17","v":0},null,null,null,{"$f":"'Page de couverture'!I17","v":"Adresse:"},{"$f":"IF('Page de couverture'!J17<>\"\",'Page de couverture'!J17,\"\")","v":""}]
[null,{"$f":"'Page de couverture'!B18","v":"Site  4:"},null,null,null,{"$f":"'Page de couverture'!$F$18","v":0},null,null,null,{"$f":"'Page de couverture'!I18","v":"Adresse:"},{"$f":"IF('Page de couverture'!J18<>\"\",'Page de couverture'!J18,\"\")","v":""}]
[null,{"$f":"'Page de couverture'!B19","v":"Site  5:"},null,null,null,{"$f":"'Page de couverture'!F19","v":0},null,null,null,{"$f":"'Page de couverture'!I19","v":"Adresse:"},{"$f":"IF('Page de couverture'!J19<>\"\",'Page de couverture'!J19,\"\")","v":""}]
[null,{"$f":"'Page de couverture'!B20","v":"Site  6:"},null,null,null,{"$f":"'Page de couverture'!F20","v":0},null,null,null,{"$f":"'Page de couverture'!I20","v":"Adresse:"},{"$f":"IF('Page de couverture'!J20<>\"\",'Page de couverture'!J20,\"\")","v":""}]
[null,{"$f":"'Page de couverture'!B21","v":"Site  7:"},null,null,null,{"$f":"'Page de couverture'!F21","v":0},null,null,null,{"$f":"'Page de couverture'!I21","v":"Adresse:"},{"$f":"IF('Page de couverture'!J21<>\"\",'Page de couverture'!J21,\"\")","v":""}]
[null,{"$f":"'Page de couverture'!B22","v":"Site  8:"},null,null,null,{"$f":"'Page de couverture'!F22","v":0},null,null,null,{"$f":"'Page de couverture'!I22","v":"Adresse:"},{"$f":"IF('Page de couverture'!J22<>\"\",'Page de couverture'!J22,\"\")","v":""}]
[null,{"$f":"'Page de couverture'!B23","v":"Site  9:"},null,null,null,{"$f":"'Page de couverture'!F23","v":0},null,null,null,{"$f":"'Page de couverture'!I23","v":"Adresse:"},{"$f":"IF('Page de couverture'!J23<>\"\",'Page de couverture'!J23,\"\")","v":""}]
[null,{"$f":"'Page de couverture'!B24","v":"Site  10:"},null,null,null,{"$f":"'Page de couverture'!F24","v":0},null,null,null,{"$f":"'Page de couverture'!I24","v":"Adresse:"},{"$f":"IF('Page de couverture'!J24<>\"\",'Page de couverture'!J24,\"\")","v":""}]
[]
[]
[]
[null,{"$f":"'Page de couverture'!B27","v":"Appui technique:"},null,null,null,{"$f":"IF('Page de couverture'!$F$27=\"\",\"\",'Page de couverture'!$F$27)","v":""}]
[null,{"$f":"B21","v":"Contact:"},null,null,null,{"$f":"IF('Page de couverture'!$G$30=\"\",\"\",'Page de couverture'!$G$30)","v":""}]
[]
[]
[]
[null,null,null,null,null,{"$f":"Sprache!E232","v":"Les parties concluent, conformément à l'article 54, alinéa 1 de la loi cantonale sur l'énergie du 15 mai 2011 (LCEn) et à l'article 41 de l'ordonnance cantonale sur l'énergie du 26 octobre 2011 (OCEn), la convention d'objectifs suivante."},0,0,0,0,0,0,0,0]
[null,null,null,null,null,0,0,0,0,0,0,0,0,0]
[null,null,null,null,null,0,0,0,0,0,0,0,0,0]
[]
[]
[]
[null,{"$f":"Sprache!E233","v":"1. Objet de la convention"},null,null,null,{"$f":"Sprache!E234&\" \"&IFERROR(ROUND('Formulaire D'!G29,1),\"??\")&\" % \"&Sprache!E235","v":"La présente convention d’objectifs cantonale consiste à mettre en œuvre sur le site de l’entreprise grosse consommatrice/les sites du groupe de gros consommateurs, dans un délai de 10 ans, des mesures d'optimisation permettant d’atteindre une efficacité énergétique de ?? % , en partant d’une efficacité de 100%. Simultanément, il s’agit également de respecter des objectifs intermédiaires minimaux."}]
[]
[]
[]
[]
[]
[]
[]
[]
[null,{"$f":"Sprache!E236","v":"2. Contenu de la convention"},"FR_5. Rechte und Pflichten des Grossverbrauchers:",{"$error":"#REF!"},null,{"$f":"Sprache!E237","v":"Les formulaires A à D, ainsi que la description des mesures, en annexe, font partie intégrante de la présente convention."}]
[null,null,null,null,null,{"$f":"Sprache!E238","v":0}]
[]
[]
[]
[null,{"$f":"Sprache!E239","v":"3. Obligations du gros consommateur/du groupe"},null,null,null,{"$f":"Sprache!E240","v":"a.   Mettre en œuvre les mesures d’optimisation conformément au planning défini en annexe;"},0,0,0,0,0,0,0,0]
[null,null,null,null,null,{"$error":"#REF!"},0,0,0,0,0,0,0,0]
[null,null,null,null,null,{"$f":"Sprache!E241","v":"b.  Chaque année, saisir dans l'outil de suivi imposé les consommations énergétiques de l’année précédente et les mesures d’optimisation introduites l’année précédente, ainsi que celles des années antérieures encore pérennes. Introduire également l’éventuelle mise en œuvre d’actions faisant l’objet de dispenses selon l’article 42 OCEn. Finaliser le rapport annuel et le transmettre au Service au plus tard deux mois après la date (jour/mois) de l’entrée en vigueur de la présente convention;"},0,0,0,0,0,0,0,0]
[null,null,null,null,null,{"$error":"#REF!"},0,0,0,0,0,0,0,0]
[null,null,null,null,null,{"$error":"#REF!"},0,0,0,0,0,0,0,0]
[null,null,null,null,null,{"$error":"#REF!"},0,0,0,0,0,0,0,0]
[null,null,null,null,null,{"$f":"Sprache!E242","v":"c.   Respecter les objectifs intermédiaires annuels d’évolution de l’efficacité énergétique définis au formulaire D de l’annexe."},0,0,0,0,0,0,0,0]
[null,null,null,null,null,0,0,0,0,0,0,0,0,0]
[]
[]
[]
[null,{"$f":"Sprache!E243","v":"4. Obligations du Service"},null,null,null,{"$f":"Sprache!E244","v":"a.   Examiner et prendre position sur le rapport annuel de l’année précédente dans les deux mois après réception.\n- Dans le cas où les objectifs sont respectés, le Service valide le rapport annuel.\n- Dans le cas où les objectifs ne sont pas respectés, l’article 7 de la présente convention s’applique."},0,0,0,0,0,0,0,0]
[null,null,null,null,null,{"$f":"Sprache!E245","v":"b.   Le Service peut requérir des éléments supplémentaires par écrit ou en procédant à des contrôles et mesurages sur site. Si des défauts sont constatés et que des contre-expertises sont nécessaires, le coût de celles-ci pourra être facturé au gros consommateur."},0,0,0,0,0,0,0,0]
[null,null,null,null,null,0,0,0,0,0,0,0,0,0]
[null,null,null,null,null,0,0,0,0,0,0,0,0,0]
[null,null,null,null,null,0,0,0,0,0,0,0,0,0]
[]
[]
[]
[null,{"$f":"Sprache!E246","v":"5. Groupe de gros consommateurs"},null,null,null,{"$f":"Sprache!E247","v":"En cas de convention collective :\na.   Le groupe s’organise lui-même et définit en particulier le dédommagement du modérateur, ses droits et responsabilités, ainsi que ses devoirs dépassant ceux fixés à la lettre d du présent article;"}]
[null,null,null,null,null,{"$f":"Sprache!E248","v":"b.  Une fois la convention préparée et signée, de nouveaux gros consommateurs ne peuvent pas rejoindre le groupe ;"}]
[null,null,null,null,null,{"$f":"Sprache!E249","v":"c.   Pendant la durée de validité de la convention, un gros consommateur peut sortir du groupe ou s’en faire exclure. Ceci doit être annoncé au Service. Le plan d’actions du solde du groupe doit être adapté, mais l’objectif d’efficacité de l’article 1 de la présente convention doit être maintenu ;"}]
[null,null,null,null,null,{"$f":"Sprache!E250","v":"d.   Le modérateur assure au minimum les fonctions suivantes :\n- Représentation du groupe dans le cadre de la présente convention d’objectifs ;\n- Conduite et coordination du groupe ;\n- Mise à disposition de l’outil de suivi imposé pour la saisie des données et leur utilisation ;\n- Assistance des membres du groupe pour l’introduction dans le système de monitoring des résultats obtenus ;\n- Collection et agrégation des données fournies par les membres du groupe. Le modérateur a le droit de vérifier la plausibilité des données et de les remettre en question ;\n- Assistance du groupe pour la surveillance des objectifs à atteindre et la planification des mesures à prendre en cas de divergence ;\n- Remise au Service des données et des informations demandées, ainsi qu’aux éventuels auditeurs mandatés par celui-ci."}]
[]
[]
[]
[]
[null,{"$f":"Sprache!E251","v":"6. Durée de la convention"},0,0,null,{"$f":"Sprache!E252","v":"a.   La convention entre en vigueur à la date à laquelle est apposée la dernière des signatures requises. Elle a une durée de 10 ans, sous réserve d’une dénonciation au sens de l’article 8 de la présente convention."}]
[]
[]
[]
[null,{"$f":"Sprache!E253","v":"7. Dispositions en cas de non-respect des engagements"},0,0,null,{"$f":"Sprache!E254","v":"Le Service peut dénoncer la convention si les objectifs d’efficacité énergétique, notamment intermédiaires, ne sont pas atteints : \na.   l’efficacité énergétique réelle ne doit jamais être inférieure aux objectifs intermédiaires minimaux ;"}]
[null,null,null,null,null,{"$f":"Sprache!E255","v":"b.   l’efficacité énergétique réelle ne doit pas être inférieure aux objectifs intermédiaires convenus pendant plus de deux années consécutives."}]
[]
[]
[]
[null,{"$f":"Sprache!E256","v":"8. Dénonciation"},null,null,null,{"$f":"Sprache!E257","v":"a.   Une dénonciation avec effet immédiat peut procéder du Service – par courrier recommandé - lorsqu’il constate que les objectifs ne sont pas atteints conformément à l’article 7 de la présente convention."},null,null,0,null,null,0]
[null,null,null,null,null,{"$f":"Sprache!E258","v":"b.   Elle peut aussi procéder du gros consommateur/du groupe, pour la fin d’une année civile, avec un préavis de six mois, par courrier recommandé."},null,null,0,null,null,0]
[null,null,null,null,null,{"$f":"Sprache!E259","v":"c.   En respectant les mêmes délais et forme, un gros consommateur peut quitter un groupe ou en être exclu."},null,null,0,null,null,0]
[null,null,null,null,null,{"$f":"Sprache!E260","v":"d.   A compter de la date de résiliation de la convention, le gros consommateur a l'obligation de faire établir une analyse de la consommation d'énergie conformément à l'article 53 LCEn. Il est tenu de mettre en œuvre les mesures prescrites dans les délais fixés par l'OCEE."},null,null,0,null,null,0]
[]
[]
[]
[null,{"$f":"Sprache!E261","v":"9. For et droit applicable"},null,null,null,{"$f":"Sprache!E262","v":"a.   Le for est à Berne ;"}]
[null,null,null,null,null,{"$f":"Sprache!E263","v":"b.   Le droit suisse est applicable."}]
[]
[]
[]
[null,{"$f":"Sprache!E264","v":"Annexe à la convention :"},null,null,null,{"$f":"Sprache!E265","v":"- Formulaires A à D, ainsi que la description des mesures"}]
[]
[]
[null,{"$f":"Sprache!E266","v":"Fait en deux exemplaires originaux signés par l'Office, chaque gros consommateur et, en cas de groupe, le modérateur."}]
[]
[]
[null,{"$f":"Sprache!E267","v":"Lieu / Date / Signature :"},0,0,null,{"$f":"Sprache!E268","v":"Office de la coordination environne-mentale et de l’énergie"}]
[]
[null,null,null,null,null,{"$f":"Sprache!E269","v":"Le gros consommateur"}]
[null,null,null,null,null,{"$f":"IF(AND('Page de couverture'!J15<>'Page de couverture'!$F$8,'Page de couverture'!J15<>\"\"),'Page de couverture'!F15&\":\",\"\")","v":""}]
[null,null,null,null,null,{"$f":"IF(AND('Page de couverture'!J16<>'Page de couverture'!$F$8,'Page de couverture'!J16<>\"\"),'Page de couverture'!F16&\":\",\"\")","v":""}]
[null,null,null,null,null,{"$f":"IF(AND('Page de couverture'!J17<>'Page de couverture'!$F$8,'Page de couverture'!J17<>\"\"),'Page de couverture'!F17&\":\",\"\")","v":""}]
[null,null,null,null,null,{"$f":"IF(AND('Page de couverture'!J18<>'Page de couverture'!$F$8,'Page de couverture'!J18<>\"\"),'Page de couverture'!F18&\":\",\"\")","v":""}]
[null,null,null,null,null,{"$f":"IF(AND('Page de couverture'!J19<>'Page de couverture'!$F$8,'Page de couverture'!J19<>\"\"),'Page de couverture'!F19&\":\",\"\")","v":""}]
[null,null,null,null,null,{"$f":"IF(AND('Page de couverture'!J20<>'Page de couverture'!$F$8,'Page de couverture'!J20<>\"\"),'Page de couverture'!F20&\":\",\"\")","v":""}]
[null,null,null,null,null,{"$f":"IF(AND('Page de couverture'!J21<>'Page de couverture'!$F$8,'Page de couverture'!J21<>\"\"),'Page de couverture'!F21&\":\",\"\")","v":""}]
[null,null,null,null,null,{"$f":"IF(AND('Page de couverture'!J22<>'Page de couverture'!$F$8,'Page de couverture'!J22<>\"\"),'Page de couverture'!F22&\":\",\"\")","v":""}]
[null,null,null,null,null,{"$f":"IF(AND('Page de couverture'!J23<>'Page de couverture'!$F$8,'Page de couverture'!J23<>\"\"),'Page de couverture'!F23&\":\",\"\")","v":""}]
[null,null,null,null,null,{"$f":"IF(AND('Page de couverture'!J24<>'Page de couverture'!$F$8,'Page de couverture'!J24<>\"\"),'Page de couverture'!F24&\":\",\"\")","v":""}]
[]
[null,null,null,null,null,{"$f":"B38","v":"Appui technique:"}]

{"sheet":"Remarques","index":10,"n_rows":6,"n_cols":14,"rows_kept":6,"cut":false,"hidden":false,"merged":[[7,1,46,13]]}
[]
[null,{"$f":"Sprache!E270","v":"COC, remarques"},null,null,null,null,null,null,null,null,null,null,null,{"$f":"IF('Page de couverture'!$F$7=\"\",\"\",'Page de couverture'!$F$7)","v":""}]
[null,null,null,null,null,null,null,null,null,null,null,null,null,{"$f":"IF('Page de couverture'!$F$35=\"\",\"\",'Page de couverture'!$F$35)","v":""}]
[]
[]
[null,{"$f":"Sprache!E271","v":"Remarques concernant la convention d’objectifs "}]